Workbook
Name NCList: 'Expected guild %'!$J$5:$J$13

Sheet Enter field data
A1: Natural Community Verification -Data Entry Spreadsheet | E1: Form V2. 9-15-2014
A2: Only enter data into the cells shaded in yellow or orange. The rest will autofill/autocalculate.
A4: Biologist: | B4: Dave Bolha | F4: KEY:
A5: Today's Date: | B5: 42482 | R5: Enter data in cell
A6: Sample Date: | B6: 42213 | R6: Enter data in cell; these entries are used to lookup/autocalculate values in green cells
A7: Station Number: | B7: 10016626 | R7: Value will autocalculate based in on data entered in orange cells
A8: Fieldwork Description: | B8: Fish Survey
A10: Waterbody Name: | B10: Sevenmile Cr @ Vielbig Rd
A11: Counties: | B11: Fond du Lac
A12: AUs:
A13: WBIC: | B13: 136800
A14: HUC10 (req'd for weather data): | B14: 0403020302 | E14: Must enter all 10 digits including preceding zeros
A16: Modeled Natural Community: | B16: Warm Headwater | E16: Click for picklist: This field must be entered exactly as shown in the tables on tab 2 for autocalculations to work.
G17: Tallies
A18: Fish Catch (enter each species and the number found) | G18: Stream Species Yes or No? | H18: Thermal | K18: Size | O18: Tolerance
A19: Species (common name) | B19: Number | C19: Thermal Guild (C,T,W) | D19: Stream Size (S,M,L) | E19: Tolerance (IT,IM,T) | F19: Number of Stream Species | H19: C | I19: T | J19: W | K19: S | L19: M | M19: Lake | N19: L | O19: IT | P19: IM | Q19: T | R19: NOTE
A20: CENTRAL MUDMINNOW | B20: 31 | C20: =IFERROR(VLOOKUP($A20,'Species guilds'!$A$3:$F$300,3,FALSE),0) -> T | D20: =IFERROR(VLOOKUP($A20,'Species guilds'!$A$3:$F$300,4,FALSE),0) -> S | E20: =IFERROR(VLOOKUP($A20,'Species guilds'!$A$3:$F$300,5,FALSE),0) -> T | F20: =IF(AND(M20>0,B20>0)=FALSE,B20,0) -> 31 | G20: =IF(D20="Lake",0,1) -> 1 | H20: =IF($C20=H$19,$B20*G20,0) -> 0 | I20: =IF($C20=I$19,$B20*G20,0) -> 31 | J20: =IF($C20=J$19,$B20*G20,0) -> 0 | K20: =IF($D20=K$19,$B20*G20,0) -> 31 | L20: =IF($D20=L$19,$B20*G20,0) -> 0 | M20: =IF($D20=M$19,$B20,0) -> 0 | N20: =IF($D20=N$19,$B20*G20,0) -> 0 | O20: =IF($E20=O$19,$B20*G20,0) -> 0 | P20: =IF($E20=P$19,$B20*G20,0) -> 0 | Q20: =IF($E20=Q$19,$B20*G20,0) -> 31 | R20: =IF(AND(B20>0,C20=0)=TRUE,"SPECIES NOT FOUND, CHECK SPELLING","")
A21: CREEK CHUB | B21: 7 | C21: =IFERROR(VLOOKUP($A21,'Species guilds'!$A$3:$F$300,3,FALSE),0) -> T | D21: =IFERROR(VLOOKUP($A21,'Species guilds'!$A$3:$F$300,4,FALSE),0) -> S | E21: =IFERROR(VLOOKUP($A21,'Species guilds'!$A$3:$F$300,5,FALSE),0) -> T | F21: =IF(AND(M21>0,B21>0)=FALSE,B21,0) -> 7 | G21: =IF(D21="Lake",0,1) -> 1 | H21: =IF($C21=H$19,$B21*G21,0) -> 0 | I21: =IF($C21=I$19,$B21*G21,0) -> 7 | J21: =IF($C21=J$19,$B21*G21,0) -> 0 | K21: =IF($D21=K$19,$B21*G21,0) -> 7 | L21: =IF($D21=L$19,$B21*G21,0) -> 0 | M21: =IF($D21=M$19,$B21,0) -> 0 | N21: =IF($D21=N$19,$B21*G21,0) -> 0 | O21: =IF($E21=O$19,$B21*G21,0) -> 0 | P21: =IF($E21=P$19,$B21*G21,0) -> 0 | Q21: =IF($E21=Q$19,$B21*G21,0) -> 7 | R21: =IF(AND(B21>0,C21=0)=TRUE,"SPECIES NOT FOUND, CHECK SPELLING","")
A22: HORNYHEAD CHUB | B22: 14 | C22: =IFERROR(VLOOKUP($A22,'Species guilds'!$A$3:$F$300,3,FALSE),0) -> W | D22: =IFERROR(VLOOKUP($A22,'Species guilds'!$A$3:$F$300,4,FALSE),0) -> M | E22: =IFERROR(VLOOKUP($A22,'Species guilds'!$A$3:$F$300,5,FALSE),0) -> IM | F22: =IF(AND(M22>0,B22>0)=FALSE,B22,0) -> 14 | G22: =IF(D22="Lake",0,1) -> 1 | H22: =IF($C22=H$19,$B22*G22,0) -> 0 | I22: =IF($C22=I$19,$B22*G22,0) -> 0 | J22: =IF($C22=J$19,$B22*G22,0) -> 14 | K22: =IF($D22=K$19,$B22*G22,0) -> 0 | L22: =IF($D22=L$19,$B22*G22,0) -> 14 | M22: =IF($D22=M$19,$B22,0) -> 0 | N22: =IF($D22=N$19,$B22*G22,0) -> 0 | O22: =IF($E22=O$19,$B22*G22,0) -> 0 | P22: =IF($E22=P$19,$B22*G22,0) -> 14 | Q22: =IF($E22=Q$19,$B22*G22,0) -> 0 | R22: =IF(AND(B22>0,C22=0)=TRUE,"SPECIES NOT FOUND, CHECK SPELLING","")
A23: COMMON SHINER | B23: 3 | C23: =IFERROR(VLOOKUP($A23,'Species guilds'!$A$3:$F$300,3,FALSE),0) -> W | D23: =IFERROR(VLOOKUP($A23,'Species guilds'!$A$3:$F$300,4,FALSE),0) -> M | E23: =IFERROR(VLOOKUP($A23,'Species guilds'!$A$3:$F$300,5,FALSE),0) -> IM | F23: =IF(AND(M23>0,B23>0)=FALSE,B23,0) -> 3 | G23: =IF(D23="Lake",0,1) -> 1 | H23: =IF($C23=H$19,$B23*G23,0) -> 0 | I23: =IF($C23=I$19,$B23*G23,0) -> 0 | J23: =IF($C23=J$19,$B23*G23,0) -> 3 | K23: =IF($D23=K$19,$B23*G23,0) -> 0 | L23: =IF($D23=L$19,$B23*G23,0) -> 3 | M23: =IF($D23=M$19,$B23,0) -> 0 | N23: =IF($D23=N$19,$B23*G23,0) -> 0 | O23: =IF($E23=O$19,$B23*G23,0) -> 0 | P23: =IF($E23=P$19,$B23*G23,0) -> 3 | Q23: =IF($E23=Q$19,$B23*G23,0) -> 0 | R23: =IF(AND(B23>0,C23=0)=TRUE,"SPECIES NOT FOUND, CHECK SPELLING","")
A24: PEARL DACE | B24: 1 | C24: =IFERROR(VLOOKUP($A24,'Species guilds'!$A$3:$F$300,3,FALSE),0) -> T | D24: =IFERROR(VLOOKUP($A24,'Species guilds'!$A$3:$F$300,4,FALSE),0) -> S | E24: =IFERROR(VLOOKUP($A24,'Species guilds'!$A$3:$F$300,5,FALSE),0) -> IM | F24: =IF(AND(M24>0,B24>0)=FALSE,B24,0) -> 1 | G24: =IF(D24="Lake",0,1) -> 1 | H24: =IF($C24=H$19,$B24*G24,0) -> 0 | I24: =IF($C24=I$19,$B24*G24,0) -> 1 | J24: =IF($C24=J$19,$B24*G24,0) -> 0 | K24: =IF($D24=K$19,$B24*G24,0) -> 1 | L24: =IF($D24=L$19,$B24*G24,0) -> 0 | M24: =IF($D24=M$19,$B24,0) -> 0 | N24: =IF($D24=N$19,$B24*G24,0) -> 0 | O24: =IF($E24=O$19,$B24*G24,0) -> 0 | P24: =IF($E24=P$19,$B24*G24,0) -> 1 | Q24: =IF($E24=Q$19,$B24*G24,0) -> 0 | R24: =IF(AND(B24>0,C24=0)=TRUE,"SPECIES NOT FOUND, CHECK SPELLING","")
A25: WESTERN BLACKNOSE DACE | B25: 1 | C25: =IFERROR(VLOOKUP($A25,'Species guilds'!$A$3:$F$300,3,FALSE),0) -> T | D25: =IFERROR(VLOOKUP($A25,'Species guilds'!$A$3:$F$300,4,FALSE),0) -> S | E25: =IFERROR(VLOOKUP($A25,'Species guilds'!$A$3:$F$300,5,FALSE),0) -> T | F25: =IF(AND(M25>0,B25>0)=FALSE,B25,0) -> 1 | G25: =IF(D25="Lake",0,1) -> 1 | H25: =IF($C25=H$19,$B25*G25,0) -> 0 | I25: =IF($C25=I$19,$B25*G25,0) -> 1 | J25: =IF($C25=J$19,$B25*G25,0) -> 0 | K25: =IF($D25=K$19,$B25*G25,0) -> 1 | L25: =IF($D25=L$19,$B25*G25,0) -> 0 | M25: =IF($D25=M$19,$B25,0) -> 0 | N25: =IF($D25=N$19,$B25*G25,0) -> 0 | O25: =IF($E25=O$19,$B25*G25,0) -> 0 | P25: =IF($E25=P$19,$B25*G25,0) -> 0 | Q25: =IF($E25=Q$19,$B25*G25,0) -> 1 | R25: =IF(AND(B25>0,C25=0)=TRUE,"SPECIES NOT FOUND, CHECK SPELLING","")
C26: =IFERROR(VLOOKUP($A26,'Species guilds'!$A$3:$F$300,3,FALSE),0) -> 0 | D26: =IFERROR(VLOOKUP($A26,'Species guilds'!$A$3:$F$300,4,FALSE),0) -> 0 | E26: =IFERROR(VLOOKUP($A26,'Species guilds'!$A$3:$F$300,5,FALSE),0) -> 0 | F26: =IF(AND(M26>0,B26>0)=FALSE,B26,0) -> 0 | G26: =IF(D26="Lake",0,1) -> 1 | H26: =IF($C26=H$19,$B26*G26,0) -> 0 | I26: =IF($C26=I$19,$B26*G26,0) -> 0 | J26: =IF($C26=J$19,$B26*G26,0) -> 0 | K26: =IF($D26=K$19,$B26*G26,0) -> 0 | L26: =IF($D26=L$19,$B26*G26,0) -> 0 | M26: =IF($D26=M$19,$B26,0) -> 0 | N26: =IF($D26=N$19,$B26*G26,0) -> 0 | O26: =IF($E26=O$19,$B26*G26,0) -> 0 | P26: =IF($E26=P$19,$B26*G26,0) -> 0 | Q26: =IF($E26=Q$19,$B26*G26,0) -> 0 | R26: =IF(AND(B26>0,C26=0)=TRUE,"SPECIES NOT FOUND, CHECK SPELLING","")
C27: =IFERROR(VLOOKUP($A27,'Species guilds'!$A$3:$F$300,3,FALSE),0) -> 0 | D27: =IFERROR(VLOOKUP($A27,'Species guilds'!$A$3:$F$300,4,FALSE),0) -> 0 | E27: =IFERROR(VLOOKUP($A27,'Species guilds'!$A$3:$F$300,5,FALSE),0) -> 0 | F27: =IF(AND(M27>0,B27>0)=FALSE,B27,0) -> 0 | G27: =IF(D27="Lake",0,1) -> 1 | H27: =IF($C27=H$19,$B27*G27,0) -> 0 | I27: =IF($C27=I$19,$B27*G27,0) -> 0 | J27: =IF($C27=J$19,$B27*G27,0) -> 0 | K27: =IF($D27=K$19,$B27*G27,0) -> 0 | L27: =IF($D27=L$19,$B27*G27,0) -> 0 | M27: =IF($D27=M$19,$B27,0) -> 0 | N27: =IF($D27=N$19,$B27*G27,0) -> 0 | O27: =IF($E27=O$19,$B27*G27,0) -> 0 | P27: =IF($E27=P$19,$B27*G27,0) -> 0 | Q27: =IF($E27=Q$19,$B27*G27,0) -> 0 | R27: =IF(AND(B27>0,C27=0)=TRUE,"SPECIES NOT FOUND, CHECK SPELLING","")
C28: =IFERROR(VLOOKUP($A28,'Species guilds'!$A$3:$F$300,3,FALSE),0) -> 0 | D28: =IFERROR(VLOOKUP($A28,'Species guilds'!$A$3:$F$300,4,FALSE),0) -> 0 | E28: =IFERROR(VLOOKUP($A28,'Species guilds'!$A$3:$F$300,5,FALSE),0) -> 0 | F28: =IF(AND(M28>0,B28>0)=FALSE,B28,0) -> 0 | G28: =IF(D28="Lake",0,1) -> 1 | H28: =IF($C28=H$19,$B28*G28,0) -> 0 | I28: =IF($C28=I$19,$B28*G28,0) -> 0 | J28: =IF($C28=J$19,$B28*G28,0) -> 0 | K28: =IF($D28=K$19,$B28*G28,0) -> 0 | L28: =IF($D28=L$19,$B28*G28,0) -> 0 | M28: =IF($D28=M$19,$B28,0) -> 0 | N28: =IF($D28=N$19,$B28*G28,0) -> 0 | O28: =IF($E28=O$19,$B28*G28,0) -> 0 | P28: =IF($E28=P$19,$B28*G28,0) -> 0 | Q28: =IF($E28=Q$19,$B28*G28,0) -> 0 | R28: =IF(AND(B28>0,C28=0)=TRUE,"SPECIES NOT FOUND, CHECK SPELLING","")
C29: =IFERROR(VLOOKUP($A29,'Species guilds'!$A$3:$F$300,3,FALSE),0) -> 0 | D29: =IFERROR(VLOOKUP($A29,'Species guilds'!$A$3:$F$300,4,FALSE),0) -> 0 | E29: =IFERROR(VLOOKUP($A29,'Species guilds'!$A$3:$F$300,5,FALSE),0) -> 0 | F29: =IF(AND(M29>0,B29>0)=FALSE,B29,0) -> 0 | G29: =IF(D29="Lake",0,1) -> 1 | H29: =IF($C29=H$19,$B29*G29,0) -> 0 | I29: =IF($C29=I$19,$B29*G29,0) -> 0 | J29: =IF($C29=J$19,$B29*G29,0) -> 0 | K29: =IF($D29=K$19,$B29*G29,0) -> 0 | L29: =IF($D29=L$19,$B29*G29,0) -> 0 | M29: =IF($D29=M$19,$B29,0) -> 0 | N29: =IF($D29=N$19,$B29*G29,0) -> 0 | O29: =IF($E29=O$19,$B29*G29,0) -> 0 | P29: =IF($E29=P$19,$B29*G29,0) -> 0 | Q29: =IF($E29=Q$19,$B29*G29,0) -> 0 | R29: =IF(AND(B29>0,C29=0)=TRUE,"SPECIES NOT FOUND, CHECK SPELLING","")
C30: =IFERROR(VLOOKUP($A30,'Species guilds'!$A$3:$F$300,3,FALSE),0) -> 0 | D30: =IFERROR(VLOOKUP($A30,'Species guilds'!$A$3:$F$300,4,FALSE),0) -> 0 | E30: =IFERROR(VLOOKUP($A30,'Species guilds'!$A$3:$F$300,5,FALSE),0) -> 0 | F30: =IF(AND(M30>0,B30>0)=FALSE,B30,0) -> 0 | G30: =IF(D30="Lake",0,1) -> 1 | H30: =IF($C30=H$19,$B30*G30,0) -> 0 | I30: =IF($C30=I$19,$B30*G30,0) -> 0 | J30: =IF($C30=J$19,$B30*G30,0) -> 0 | K30: =IF($D30=K$19,$B30*G30,0) -> 0 | L30: =IF($D30=L$19,$B30*G30,0) -> 0 | M30: =IF($D30=M$19,$B30,0) -> 0 | N30: =IF($D30=N$19,$B30*G30,0) -> 0 | O30: =IF($E30=O$19,$B30*G30,0) -> 0 | P30: =IF($E30=P$19,$B30*G30,0) -> 0 | Q30: =IF($E30=Q$19,$B30*G30,0) -> 0 | R30: =IF(AND(B30>0,C30=0)=TRUE,"SPECIES NOT FOUND, CHECK SPELLING","")
C31: =IFERROR(VLOOKUP($A31,'Species guilds'!$A$3:$F$300,3,FALSE),0) -> 0 | D31: =IFERROR(VLOOKUP($A31,'Species guilds'!$A$3:$F$300,4,FALSE),0) -> 0 | E31: =IFERROR(VLOOKUP($A31,'Species guilds'!$A$3:$F$300,5,FALSE),0) -> 0 | F31: =IF(AND(M31>0,B31>0)=FALSE,B31,0) -> 0 | G31: =IF(D31="Lake",0,1) -> 1 | H31: =IF($C31=H$19,$B31*G31,0) -> 0 | I31: =IF($C31=I$19,$B31*G31,0) -> 0 | J31: =IF($C31=J$19,$B31*G31,0) -> 0 | K31: =IF($D31=K$19,$B31*G31,0) -> 0 | L31: =IF($D31=L$19,$B31*G31,0) -> 0 | M31: =IF($D31=M$19,$B31,0) -> 0 | N31: =IF($D31=N$19,$B31*G31,0) -> 0 | O31: =IF($E31=O$19,$B31*G31,0) -> 0 | P31: =IF($E31=P$19,$B31*G31,0) -> 0 | Q31: =IF($E31=Q$19,$B31*G31,0) -> 0 | R31: =IF(AND(B31>0,C31=0)=TRUE,"SPECIES NOT FOUND, CHECK SPELLING","")
C32: =IFERROR(VLOOKUP($A32,'Species guilds'!$A$3:$F$300,3,FALSE),0) -> 0 | D32: =IFERROR(VLOOKUP($A32,'Species guilds'!$A$3:$F$300,4,FALSE),0) -> 0 | E32: =IFERROR(VLOOKUP($A32,'Species guilds'!$A$3:$F$300,5,FALSE),0) -> 0 | F32: =IF(AND(M32>0,B32>0)=FALSE,B32,0) -> 0 | G32: =IF(D32="Lake",0,1) -> 1 | H32: =IF($C32=H$19,$B32*G32,0) -> 0 | I32: =IF($C32=I$19,$B32*G32,0) -> 0 | J32: =IF($C32=J$19,$B32*G32,0) -> 0 | K32: =IF($D32=K$19,$B32*G32,0) -> 0 | L32: =IF($D32=L$19,$B32*G32,0) -> 0 | M32: =IF($D32=M$19,$B32,0) -> 0 | N32: =IF($D32=N$19,$B32*G32,0) -> 0 | O32: =IF($E32=O$19,$B32*G32,0) -> 0 | P32: =IF($E32=P$19,$B32*G32,0) -> 0 | Q32: =IF($E32=Q$19,$B32*G32,0) -> 0 | R32: =IF(AND(B32>0,C32=0)=TRUE,"SPECIES NOT FOUND, CHECK SPELLING","")
C33: =IFERROR(VLOOKUP($A33,'Species guilds'!$A$3:$F$300,3,FALSE),0) -> 0 | D33: =IFERROR(VLOOKUP($A33,'Species guilds'!$A$3:$F$300,4,FALSE),0) -> 0 | E33: =IFERROR(VLOOKUP($A33,'Species guilds'!$A$3:$F$300,5,FALSE),0) -> 0 | F33: =IF(AND(M33>0,B33>0)=FALSE,B33,0) -> 0 | G33: =IF(D33="Lake",0,1) -> 1 | H33: =IF($C33=H$19,$B33*G33,0) -> 0 | I33: =IF($C33=I$19,$B33*G33,0) -> 0 | J33: =IF($C33=J$19,$B33*G33,0) -> 0 | K33: =IF($D33=K$19,$B33*G33,0) -> 0 | L33: =IF($D33=L$19,$B33*G33,0) -> 0 | M33: =IF($D33=M$19,$B33,0) -> 0 | N33: =IF($D33=N$19,$B33*G33,0) -> 0 | O33: =IF($E33=O$19,$B33*G33,0) -> 0 | P33: =IF($E33=P$19,$B33*G33,0) -> 0 | Q33: =IF($E33=Q$19,$B33*G33,0) -> 0 | R33: =IF(AND(B33>0,C33=0)=TRUE,"SPECIES NOT FOUND, CHECK SPELLING","")
C34: =IFERROR(VLOOKUP($A34,'Species guilds'!$A$3:$F$300,3,FALSE),0) -> 0 | D34: =IFERROR(VLOOKUP($A34,'Species guilds'!$A$3:$F$300,4,FALSE),0) -> 0 | E34: =IFERROR(VLOOKUP($A34,'Species guilds'!$A$3:$F$300,5,FALSE),0) -> 0 | F34: =IF(AND(M34>0,B34>0)=FALSE,B34,0) -> 0 | G34: =IF(D34="Lake",0,1) -> 1 | H34: =IF($C34=H$19,$B34*G34,0) -> 0 | I34: =IF($C34=I$19,$B34*G34,0) -> 0 | J34: =IF($C34=J$19,$B34*G34,0) -> 0 | K34: =IF($D34=K$19,$B34*G34,0) -> 0 | L34: =IF($D34=L$19,$B34*G34,0) -> 0 | M34: =IF($D34=M$19,$B34,0) -> 0 | N34: =IF($D34=N$19,$B34*G34,0) -> 0 | O34: =IF($E34=O$19,$B34*G34,0) -> 0 | P34: =IF($E34=P$19,$B34*G34,0) -> 0 | Q34: =IF($E34=Q$19,$B34*G34,0) -> 0 | R34: =IF(AND(B34>0,C34=0)=TRUE,"SPECIES NOT FOUND, CHECK SPELLING","")
C35: =IFERROR(VLOOKUP($A35,'Species guilds'!$A$3:$F$300,3,FALSE),0) -> 0 | D35: =IFERROR(VLOOKUP($A35,'Species guilds'!$A$3:$F$300,4,FALSE),0) -> 0 | E35: =IFERROR(VLOOKUP($A35,'Species guilds'!$A$3:$F$300,5,FALSE),0) -> 0 | F35: =IF(AND(M35>0,B35>0)=FALSE,B35,0) -> 0 | G35: =IF(D35="Lake",0,1) -> 1 | H35: =IF($C35=H$19,$B35*G35,0) -> 0 | I35: =IF($C35=I$19,$B35*G35,0) -> 0 | J35: =IF($C35=J$19,$B35*G35,0) -> 0 | K35: =IF($D35=K$19,$B35*G35,0) -> 0 | L35: =IF($D35=L$19,$B35*G35,0) -> 0 | M35: =IF($D35=M$19,$B35,0) -> 0 | N35: =IF($D35=N$19,$B35*G35,0) -> 0 | O35: =IF($E35=O$19,$B35*G35,0) -> 0 | P35: =IF($E35=P$19,$B35*G35,0) -> 0 | Q35: =IF($E35=Q$19,$B35*G35,0) -> 0 | R35: =IF(AND(B35>0,C35=0)=TRUE,"SPECIES NOT FOUND, CHECK SPELLING","")
C36: =IFERROR(VLOOKUP($A36,'Species guilds'!$A$3:$F$300,3,FALSE),0) -> 0 | D36: =IFERROR(VLOOKUP($A36,'Species guilds'!$A$3:$F$300,4,FALSE),0) -> 0 | E36: =IFERROR(VLOOKUP($A36,'Species guilds'!$A$3:$F$300,5,FALSE),0) -> 0 | F36: =IF(AND(M36>0,B36>0)=FALSE,B36,0) -> 0 | G36: =IF(D36="Lake",0,1) -> 1 | H36: =IF($C36=H$19,$B36*G36,0) -> 0 | I36: =IF($C36=I$19,$B36*G36,0) -> 0 | J36: =IF($C36=J$19,$B36*G36,0) -> 0 | K36: =IF($D36=K$19,$B36*G36,0) -> 0 | L36: =IF($D36=L$19,$B36*G36,0) -> 0 | M36: =IF($D36=M$19,$B36,0) -> 0 | N36: =IF($D36=N$19,$B36*G36,0) -> 0 | O36: =IF($E36=O$19,$B36*G36,0) -> 0 | P36: =IF($E36=P$19,$B36*G36,0) -> 0 | Q36: =IF($E36=Q$19,$B36*G36,0) -> 0 | R36: =IF(AND(B36>0,C36=0)=TRUE,"SPECIES NOT FOUND, CHECK SPELLING","")
C37: =IFERROR(VLOOKUP($A37,'Species guilds'!$A$3:$F$300,3,FALSE),0) -> 0 | D37: =IFERROR(VLOOKUP($A37,'Species guilds'!$A$3:$F$300,4,FALSE),0) -> 0 | E37: =IFERROR(VLOOKUP($A37,'Species guilds'!$A$3:$F$300,5,FALSE),0) -> 0 | F37: =IF(AND(M37>0,B37>0)=FALSE,B37,0) -> 0 | G37: =IF(D37="Lake",0,1) -> 1 | H37: =IF($C37=H$19,$B37*G37,0) -> 0 | I37: =IF($C37=I$19,$B37*G37,0) -> 0 | J37: =IF($C37=J$19,$B37*G37,0) -> 0 | K37: =IF($D37=K$19,$B37*G37,0) -> 0 | L37: =IF($D37=L$19,$B37*G37,0) -> 0 | M37: =IF($D37=M$19,$B37,0) -> 0 | N37: =IF($D37=N$19,$B37*G37,0) -> 0 | O37: =IF($E37=O$19,$B37*G37,0) -> 0 | P37: =IF($E37=P$19,$B37*G37,0) -> 0 | Q37: =IF($E37=Q$19,$B37*G37,0) -> 0 | R37: =IF(AND(B37>0,C37=0)=TRUE,"SPECIES NOT FOUND, CHECK SPELLING","")
... C52: =IFERROR(VLOOKUP($A52,'Species guilds'!$A$3:$F$300,3,FALSE),0) -> 0 | D52: =IFERROR(VLOOKUP($A52,'Species guilds'!$A$3:$F$300,4,FALSE),0) -> 0 | E52: =IFERROR(VLOOKUP($A52,'Species guilds'!$A$3:$F$300,5,FALSE),0) -> 0 | F52: =IF(AND(M52>0,B52>0)=FALSE,B52,0) -> 0 | G52: =IF(D52="Lake",0,1) -> 1 | H52: =IF($C52=H$19,$B52*G52,0) -> 0 | I52: =IF($C52=I$19,$B52*G52,0) -> 0 | J52: =IF($C52=J$19,$B52*G52,0) -> 0 | K52: =IF($D52=K$19,$B52*G52,0) -> 0 | L52: =IF($D52=L$19,$B52*G52,0) -> 0 | M52: =IF($D52=M$19,$B52,0) -> 0 | N52: =IF($D52=N$19,$B52*G52,0) -> 0 | O52: =IF($E52=O$19,$B52*G52,0) -> 0 | P52: =IF($E52=P$19,$B52*G52,0) -> 0 | Q52: =IF($E52=Q$19,$B52*G52,0) -> 0 | R52: =IF(AND(B52>0,C52=0)=TRUE,"SPECIES NOT FOUND, CHECK SPELLING","")
A53: Total N= | B53: =SUM(B20:B52) -> 57 | F53: =SUM(F20:F52) -> 57 | H53: =SUM(H20:H52) -> 0 | I53: =SUM(I20:I52) -> 40 | J53: =SUM(J20:J52) -> 17 | K53: =SUM(K20:K52) -> 40 | L53: =SUM(L20:L52) -> 17 | M53: =SUM(M20:M52) -> 0 | N53: =SUM(N20:N52) -> 0 | O53: =SUM(O20:O52) -> 0 | ... Q53: =SUM(Q20:Q52) -> 39

Sheet NC Recommendation
A1: Natural Community Verification Recommendation | E1: Form V2. 9-15-2014
A2: Only enter data into the cells shaded in yellow. The rest will autofill/autocalculate.
A4: Biologist: | B4: ='Enter field data'!B4:D4 -> Dave Bolha
A5: Today's date: | B5: ='Enter field data'!B5:D5 -> 42482
A6: Sample Date: | B6: ='Enter field data'!B6:D6 -> 42213
A7: Fieldwork Description: | B7: ='Enter field data'!B8:D8 -> Fish Survey
A9: Waterbody Name: | B9: ='Enter field data'!B10:D10 -> Sevenmile Cr @ Vielbig Rd
A10: Counties: | B10: ='Enter field data'!B11:D11 -> Fond du Lac
A11: AUs: | B11: ='Enter field data'!B12:D12 -> 0
A12: WBIC: | B12: ='Enter field data'!B13:D13 -> 136800
A13: HUC10: | B13: ='Enter field data'!B14 -> 0403020302
A15: Modeled Natural Community: | D15: ='Enter field data'!B16 -> Warm Headwater
A17: ENTER THE FOLLOWING AFTER THE ASSESSMENT BELOW HAS BEEN COMPLETED:
A18: Model "Verified as correct", OR "Proposed change"? OR inconclusive? | D18: Proposed change
A19: If a change is proposed, what is the new proposed NC? | D19: Cool-Warm Headwater
A21: TO BE FILLED IN BY THE REVIEW TEAM, IF APPLICABLE:
A22: Reviewed by review team? If so, enter date reviewed:
A23: Decision:
A24: Status (proposed for rule change, etc):
A26: 1. COMPARE OBSERVED VERSUS EXPECTED SPECIES GUILDS
A27: The following tables will autocalculate based on data provided in the data-entry tab.
A29: Total number of individuals observed in each Guild (this will autocalculate)
A30: Thermal | C30: Stream Size | E30: Tolerance
A31: Coldwater | B31: ='Enter field data'!H53 -> 0 | C31: Small Stream | D31: ='Enter field data'!$K$53 -> 40 | E31: Intolerant | F31: ='Enter field data'!$O$53 -> 0
A32: Transitional | B32: ='Enter field data'!$I$53 -> 40 | C32: Medium Stream | D32: ='Enter field data'!$L$53 -> 17 | E32: Intermediate | F32: ='Enter field data'!$P$53 -> 18
A33: Warmwater | B33: ='Enter field data'!$J$53 -> 17 | C33: Large River | D33: ='Enter field data'!$N$53 -> 0 | E33: Tolerant | F33: ='Enter field data'!$Q$53 -> 39
A35: Observed & Expected Guild Percentages (these will autocalculate)
A36: Thermal
A37: Guild | B37: Observed | C37: Expected Range | E37: Within Range?
C38: Low End | D38: High End
A39: Coldwater | B39: =($B$31/'Enter field data'!$F$53) -> 0 | C39: =VLOOKUP($D$15,'Expected guild %'!$A$5:$G$13,2,FALSE) -> 0 | D39: =VLOOKUP($D$15,'Expected guild %'!$A$5:$G$13,3,FALSE) -> 0.05 | E39: =IF(AND(C39<=B39,B39<= D39)=TRUE,"Y","N") -> Y
A40: Transitional | B40: =($B$32/'Enter field data'!$F$53) -> 0.70175439 | C40: =VLOOKUP($D$15,'Expected guild %'!$A$5:$G$13,4,FALSE) -> 0 | D40: =VLOOKUP($D$15,'Expected guild %'!$A$5:$G$13,5,FALSE) -> 0.25 | E40: =IF(AND(C40<=B40,B40<= D40)=TRUE,"Y","N") -> N
A41: Warmwater | B41: =($B$33/'Enter field data'!$F$53) -> 0.29824561 | C41: =VLOOKUP($D$15,'Expected guild %'!$A$5:$G$13,6,FALSE) -> 0.75 | D41: =VLOOKUP($D$15,'Expected guild %'!$A$5:$G$13,7,FALSE) -> 1 | E41: =IF(AND(C41<=B41,B41<= D41)=TRUE,"Y","N") -> N
A43: Stream Size
A44: Guild | B44: Observed | C44: Expected Range | E44: Within Range?
C45: Low End | D45: High End
A46: Small Stream | B46: =($D$31/'Enter field data'!$F$53) -> 0.70175439 | C46: =VLOOKUP($D$15,'Expected guild %'!$A$19:$G$27,2,FALSE) -> 0.5 | D46: =VLOOKUP($D$15,'Expected guild %'!$A$19:$G$27,3,FALSE) -> 1 | E46: =IF(AND(C46<=B46,B46<= D46)=TRUE,"Y","N") -> Y
A47: Medium Stream | B47: =($D$32/'Enter field data'!$F$53) -> 0.29824561 | C47: =VLOOKUP($D$15,'Expected guild %'!$A$19:$G$27,4,FALSE) -> 0 | D47: =VLOOKUP($D$15,'Expected guild %'!$A$19:$G$27,5,FALSE) -> 0.5 | E47: =IF(AND(C47<=B47,B47<= D47)=TRUE,"Y","N") -> Y
A48: Large River | B48: =($D$33/'Enter field data'!$F$53) -> 0 | C48: =VLOOKUP($D$15,'Expected guild %'!$A$19:$G$27,6,FALSE) -> 0 | D48: =VLOOKUP($D$15,'Expected guild %'!$A$19:$G$27,7,FALSE) -> 0.1 | E48: =IF(AND(C48<=B48,B48<= D48)=TRUE,"Y","N") -> Y
A50: Based on the "Within Range" assessments above (Y/N), is the modeled Natural Community verified as correct?
...

Sheet Enter weather
A1: DATE | B1: PRCP | C1: TMAX | D1: TMIN | F1: Weather data only need to be assessed if the biologist suspects the fish survey was conducted during
F2: an extreme weather year.
F4: Follow the "Weather Instructions" tab to download the weather data for your station.
F5: Use "Clear Contents" to clear the sample data here, and paste in the weather data you downloaded.
F6: Do NOT delete the rows or columns, as this will corrupt the formulas on the Weather Results tab.

Sheet Weather instructions
A1: This spreadsheet calculates temperature and precipitation indices for the date a biological sample was collected and compares them to the lower (10th percentile in 1984-2013) and upper (90th percentile in 1984-2013) extremes of these indices. If a sample was collected during extreme weather conditions, it may not be representative of typical conditions at the site. To conduct this extreme weather analysis for a new sample, daily temperature and precipitation data from a nearby weather station for at least four years prior to the sample date are required. The formulas on the sample tab are designed to work with data formatted in the style of the National Climatic Data Center's daily summaries (TMAX and TMIN in degrees C X 10, PRCP in mm X 10).
A2: 1. Go to http://www.ncdc.noaa.gov/cdo-web/datatools/findstation
A3: 2. Under Enter Location, type the name of the county where the station is located.
A4: 3. Under Select Dataset, choose Daily Summaries.
A5: 4. Under Data Categories, check Air Temperature and Precipitation.
A6: 5. Under Select Date Range, choose a date range that spans from at least four years prior to the sample date to the sample date, and click Apply.
A7: 6. On the map, click on the weather station icon that is closest to the center of the watershed of the sampling station, and click Add to Cart.
A8: 7. Go to your cart (orange button in upper right of screen).
A9: 8. Select the date range you specified in step 5.
A10: 9. Select Custom GHCN-Daily CSV as the output format and click continue.
A11: 10. Under Select data types for custom output, expand the Precipitation header and check Precipitation (tenths of mm) and expand the Air Temperature header and check Maximum temperature (tenths of degrees C) and Minimum temperature (tenths of degrees C), and click continue.
A12: 11. Enter the email address to which you want the data sent and click submit order.
... A18: 17. Review Extreme Precip? result on the Weather Results tab of this file. WET means the precipitation index for the sample was greater than the 90th percentile. DRY means the precipitation index for the sample was less than the 10th percentile. NO means the precipitation index for the sample was between the 10th and 90th percentiles.

Sheet Weather Results
A1: Sample information | B1: Sample Date | C1: ='Enter field data'!B6 -> 42213
B2: HUC10 | C2: ='Enter field data'!$B$14 -> 0403020302 | E2: This sheet autocalculates; do not enter any information.
B4: S | C4: =CONCATENATE(YEAR(C1),IF(MONTH(C1)<10,"0"&MONTH(C1),MONTH(C1)),IF(DAY(C1)<10,"0"&DAY(C1),DAY(C1))) -> 20150728
B5: S-30 | C5: =CONCATENATE(YEAR(C1-30),IF(MONTH(C1-30)<10,"0"&MONTH(C1-30),MONTH(C1-30)),IF(DAY(C1-30)<10,"0"&DAY(C1-30),DAY(C1-30))) -> 20150628
B6: S-90 | C6: =CONCATENATE(YEAR(C1-90),IF(MONTH(C1-90)<10,"0"&MONTH(C1-90),MONTH(C1-90)),IF(DAY(C1-90)<10,"0"&DAY(C1-90),DAY(C1-90))) -> 20150429
B7: S-365 | C7: =CONCATENATE(YEAR(C1-365),IF(MONTH(C1-365)<10,"0"&MONTH(C1-365),MONTH(C1-365)),IF(DAY(C1-365)<10,"0"&DAY(C1-365),DAY(C1-365))) -> 20140728
B8: S-1460 | C8: =CONCATENATE(YEAR(C1-1460),IF(MONTH(C1-1460)<10,"0"&MONTH(C1-1460),MONTH(C1-1460)),IF(DAY(C1-1460)<10,"0"&DAY(C1-1460),DAY(C1-1460))) -> 20110729
B9: APR days | C9: =IF(MONTH($C$1)=4,DAY($C$1),0)+IF(MONTH($C$1)=5,30-DAY($C$1),0) -> 0
B10: MAY days | C10: =IF(MONTH($C$1)=5,DAY($C$1),0)+IF(MONTH($C$1)=6,30-DAY($C$1),0) -> 0
B11: JUN days | C11: =IF(MONTH($C$1)=6,DAY($C$1),0)+IF(MONTH($C$1)=7,30-DAY($C$1),0) -> 2
B12: JUL days | C12: =IF(MONTH($C$1)=7,DAY($C$1),0)+IF(MONTH($C$1)=8,30-DAY($C$1),0) -> 28
B13: AUG days | C13: =IF(MONTH($C$1)=8,DAY($C$1),0)+IF(MONTH($C$1)=9,30-DAY($C$1),0) -> 0
B14: SEP days | C14: =IF(MONTH($C$1)=9,DAY($C$1),0)+IF(MONTH($C$1)=10,30-DAY($C$1),0) -> 0
B15: OCT days | C15: =IF(MONTH($C$1)=10,DAY($C$1),0)+IF(MONTH($C$1)=11,30-DAY($C$1),0) -> 0
A17: Temperature Index (average temperature (C) in 30 days prior to sample) | B17: Temp Index sample | C17: =(AVERAGEIFS('Enter weather'!$C:$C,'Enter weather'!$A:$A,"<="&$C$4,'Enter weather'!$A:$A,">="&$C$5,'Enter weather'!$C:$C,"<>"&-9999,'Enter weather'!$D:$D,"<>"&-9999)+AVERAGEIFS('Enter weather'!$D:$D,'Enter weather'!$A:$A,"<="&$C$4,'Enter weather'!$A:$A,">="&$C$5,'Enter weather'!$C:$C,"<>"&-9999,'Enter weather'!$D:$D,"<>"&-9999))/20 -> #DIV/0!
B18: Temp Index 10% | C18: =(VLOOKUP($C$2,temp!$A$1:$O$369,2,FALSE)*$C$9+VLOOKUP($C$2,temp!$A$1:$O$369,4,FALSE)*$C$10+VLOOKUP($C$2,temp!$A$1:$O$369,6,FALSE)*$C$11+VLOOKUP($C$2,temp!$A$1:$O$369,8,FALSE)*$C$12+VLOOKUP($C$2,temp!$A$1:$O$369,10,FALSE)*$C$13+VLOOKUP($C$2,temp!$A$1:$O$369,12,FALSE)*$C$14+VLOOKUP($C$2,temp!$A$1:$O$369,14,FALSE)*$C$15)/30 -> 20.065315
B19: Temp Index 90% | C19: =(VLOOKUP($C$2,temp!$A$1:$O$369,3,FALSE)*$C$9+VLOOKUP($C$2,temp!$A$1:$O$369,5,FALSE)*$C$10+VLOOKUP($C$2,temp!$A$1:$O$369,7,FALSE)*$C$11+VLOOKUP($C$2,temp!$A$1:$O$369,9,FALSE)*$C$12+VLOOKUP($C$2,temp!$A$1:$O$369,11,FALSE)*$C$13+VLOOKUP($C$2,temp!$A$1:$O$369,13,FALSE)*$C$14+VLOOKUP($C$2,temp!$A$1:$O$369,15,FALSE)*$C$15)/30 -> 23.875577
B20: Extreme Temp? | C20: =IF(C17>C19,"WARM",IF(C17<C18,"COOL","NO")) -> #DIV/0!
A22: Precipitation Index (weighted average daily precipitation (mm) in 4 years prior to sample) | B22: Avg precip 30 days | C22: =AVERAGEIFS('Enter weather'!$B:$B,'Enter weather'!$A:$A,"<="&$C$4,'Enter weather'!$A:$A,">="&$C$5,'Enter weather'!$B:$B,"<>"&-9999)/10 -> #DIV/0!
B23: Avg precip 31-90 days | C23: =AVERAGEIFS('Enter weather'!$B:$B,'Enter weather'!$A:$A,"<="&$C$5,'Enter weather'!$A:$A,">="&$C$6,'Enter weather'!$B:$B,"<>"&-9999)/10 -> #DIV/0!
B24: Avg precip 91-365 days | C24: =AVERAGEIFS('Enter weather'!$B:$B,'Enter weather'!$A:$A,"<="&$C$6,'Enter weather'!$A:$A,">="&$C$7,'Enter weather'!$B:$B,"<>"&-9999)/10 -> #DIV/0!
B25: Avg precip 366-1460 days | C25: =AVERAGEIFS('Enter weather'!$B:$B,'Enter weather'!$A:$A,"<="&$C$7,'Enter weather'!$A:$A,">="&$C$8,'Enter weather'!$B:$B,"<>"&-9999)/10 -> #DIV/0!
B26: Precip Index sample | C26: =$C$22*0.4+$C$23*0.3+$C$24*0.15+$C$25*0.15 -> #DIV/0!
B27: Precip Index 10% | C27: =(VLOOKUP($C$2,prcp!$A$1:$O$369,2,FALSE)*$C$9+VLOOKUP($C$2,prcp!$A$1:$O$369,4,FALSE)*$C$10+VLOOKUP($C$2,prcp!$A$1:$O$369,6,FALSE)*$C$11+VLOOKUP($C$2,prcp!$A$1:$O$369,8,FALSE)*$C$12+VLOOKUP($C$2,prcp!$A$1:$O$369,10,FALSE)*$C$13+VLOOKUP($C$2,prcp!$A$1:$O$369,12,FALSE)*$C$14+VLOOKUP($C$2,prcp!$A$1:$O$369,14,FALSE)*$C$15)/30 -> 2.0409385
B28: Precip Index 90% | C28: =(VLOOKUP($C$2,prcp!$A$1:$O$369,3,FALSE)*$C$9+VLOOKUP($C$2,prcp!$A$1:$O$369,5,FALSE)*$C$10+VLOOKUP($C$2,prcp!$A$1:$O$369,7,FALSE)*$C$11+VLOOKUP($C$2,prcp!$A$1:$O$369,9,FALSE)*$C$12+VLOOKUP($C$2,prcp!$A$1:$O$369,11,FALSE)*$C$13+VLOOKUP($C$2,prcp!$A$1:$O$369,13,FALSE)*$C$14+VLOOKUP($C$2,prcp!$A$1:$O$369,15,FALSE)*$C$15)/30 -> 3.9880057
B29: Extreme Precip? | C29: =IF(C26>C28,"WET",IF(C26<C27,"DRY","NO")) -> #DIV/0!

Sheet temp
A1: HUC_10 | B1: APR10T | C1: APR90T | D1: MAY10T | E1: MAY90T | F1: JUN10T | G1: JUN90T | H1: JUL10T | I1: JUL90T | J1: AUG10T | K1: AUG90T | L1: SEP10T | M1: SEP90T | N1: OCT10T | O1: OCT90T
A2: 0401020116 | B2: 2.317049 | C2: 6.880761 | D2: 8.799314 | E2: 12.56 | F2: 13.878 | G2: 17.32885 | H2: 17.71896 | I2: 21.68859 | J2: 16.81364 | K2: 20.33517 | L2: 12.24458 | M2: 15.79844 | N2: 4.517079 | O2: 8.967358
A3: 0401030101 | B3: 2.197763 | C3: 6.87502 | D3: 8.792652 | E3: 12.47394 | F3: 13.48403 | G3: 17.46659 | H3: 17.40884 | I3: 21.34959 | J3: 16.72531 | K3: 19.75078 | L3: 11.96005 | M3: 15.87505 | N3: 4.684641 | O3: 9.211782
A4: 0401030102 | B4: 2.429087 | C4: 7.008782 | D4: 9.008099 | E4: 12.7314 | F4: 13.85644 | G4: 17.65241 | H4: 17.72911 | I4: 21.48264 | J4: 16.74738 | K4: 20.08381 | L4: 12.10058 | M4: 15.92374 | N4: 4.67357 | O4: 9.124895
A5: 0401030103 | B5: 2.556304 | C5: 7.002626 | D5: 8.857974 | E5: 12.74827 | F5: 14.01038 | G5: 17.67028 | H5: 17.82542 | I5: 21.86225 | J5: 17.05758 | K5: 20.28367 | L5: 12.5724 | M5: 16.06213 | N5: 4.691855 | O5: 9.264531
A6: 0401030104 | B6: 2.38397 | C6: 6.950427 | D6: 8.835665 | E6: 12.57663 | F6: 13.76857 | G6: 17.52822 | H6: 17.731 | I6: 21.70316 | J6: 16.98027 | K6: 20.19646 | L6: 12.36774 | M6: 15.99558 | N6: 4.670822 | O6: 9.238776
A7: 0401030105 | B7: 2.51912 | C7: 6.895617 | D7: 8.577345 | E7: 12.46766 | F7: 13.93557 | G7: 17.29743 | H7: 17.92779 | I7: 22.20271 | J7: 17.33574 | K7: 20.78061 | L7: 12.97635 | M7: 16.07459 | N7: 4.654089 | O7: 9.32724
A8: 0401030106 | B8: 2.652226 | C8: 7.044943 | D8: 8.720554 | E8: 12.91636 | F8: 14.21106 | G8: 17.56762 | H8: 17.88744 | I8: 21.99145 | J8: 16.99076 | K8: 20.7895 | L8: 12.76485 | M8: 16.01264 | N8: 4.704126 | O8: 9.221367
A9: 0401030107 | B9: 2.721115 | C9: 7.247399 | D9: 9.029266 | E9: 13.51978 | F9: 14.65861 | G9: 18.03879 | H9: 17.84544 | I9: 21.77989 | J9: 16.69619 | K9: 20.86898 | L9: 12.71764 | M9: 15.9505 | N9: 4.729727 | O9: 9.0705
A10: 0401030108 | B10: 3.000167 | C10: 6.922505 | D10: 8.784458 | E10: 13.37547 | F10: 14.25832 | G10: 17.48977 | H10: 17.42518 | I10: 21.3468 | J10: 16.86991 | K10: 20.9061 | L10: 12.71442 | M10: 15.89489 | N10: 5.319102 | O10: 9.215934
A11: 0401030109 | B11: 2.935562 | C11: 6.790005 | D11: 8.481568 | E11: 12.98355 | F11: 14.0519 | G11: 17.0691 | H11: 17.18691 | I11: 21.11369 | J11: 16.97405 | K11: 20.68224 | L11: 12.59944 | M11: 15.67411 | N11: 5.408737 | O11: 9.278581
A12: 0401030110 | B12: 2.5023 | C12: 6.857535 | D12: 8.53413 | E12: 12.85553 | F12: 14.3195 | G12: 17.44848 | H12: 17.3315 | I12: 21.22649 | J12: 17.00889 | K12: 20.2424 | L12: 12.64938 | M12: 15.56248 | N12: 5.244075 | O12: 9.261101
A13: 0401030111 | B13: 3.008226 | C13: 7.06354 | D13: 9.186297 | E13: 13.43936 | F13: 14.90229 | G13: 18.18384 | H13: 17.77646 | I13: 21.49148 | J13: 17.13696 | K13: 20.25225 | L13: 12.73801 | M13: 15.73973 | N13: 5.23125 | O13: 9.198225
... A369: 0712000610 | B369: 6.430284 | C369: 10.19698 | D369: 11.21841 | E369: 16.17025 | F369: 18.04647 | G369: 21.24223 | H369: 20.18108 | I369: 24.00742 | J369: 19.21025 | K369: 22.58024 | L369: 15.53174 | M369: 18.27678 | N369: 8.095331 | O369: 11.70687

Sheet prcp
A1: HUC_10 | B1: APR10P | C1: APR90P | D1: MAY10P | E1: MAY90P | F1: JUN10P | G1: JUN90P | H1: JUL10P | I1: JUL90P | J1: AUG10P | K1: AUG90P | L1: SEP10P | M1: SEP90P | N1: OCT10P | O1: OCT90P
A2: 0401020116 | B2: 1.196357 | C2: 2.407249 | D2: 1.674053 | E2: 2.872961 | F2: 1.735991 | G2: 3.774462 | H2: 2.003377 | I2: 3.912971 | J2: 2.028193 | K2: 3.751694 | L2: 1.849035 | M2: 3.711251 | N2: 1.655686 | O2: 3.175324
A3: 0401030101 | B3: 1.166785 | C3: 2.416811 | D3: 1.681229 | E3: 2.843116 | F3: 1.756492 | G3: 3.737052 | H3: 2.024748 | I3: 3.939614 | J3: 2.076122 | K3: 3.864724 | L3: 1.866284 | M3: 3.7675 | N3: 1.668216 | O3: 3.269097
A4: 0401030102 | B4: 1.17337 | C4: 2.453183 | D4: 1.676354 | E4: 2.886232 | F4: 1.740252 | G4: 3.801038 | H4: 2.004764 | I4: 3.942206 | J4: 2.074512 | K4: 3.9376 | L4: 1.874136 | M4: 3.757783 | N4: 1.667191 | O4: 3.250353
A5: 0401030103 | B5: 1.160234 | C5: 2.379714 | D5: 1.678782 | E5: 2.835253 | F5: 1.761197 | G5: 3.683507 | H5: 2.035903 | I5: 3.943216 | J5: 2.074821 | K5: 3.767914 | L5: 1.868211 | M5: 3.815567 | N5: 1.675418 | O5: 3.309693
A6: 0401030104 | B6: 1.171988 | C6: 2.428401 | D6: 1.679355 | E6: 2.874553 | F6: 1.753445 | G6: 3.766134 | H6: 2.015949 | I6: 3.940364 | J6: 2.065501 | K6: 3.856979 | L6: 1.865987 | M6: 3.7583 | N6: 1.666359 | O6: 3.247879
A7: 0401030105 | B7: 1.202628 | C7: 2.393927 | D7: 1.682472 | E7: 2.843231 | F7: 1.753347 | G7: 3.706205 | H7: 2.016077 | I7: 3.926516 | J7: 2.040516 | K7: 3.669022 | L7: 1.867165 | M7: 3.744526 | N7: 1.671594 | O7: 3.23223
A8: 0401030106 | B8: 1.207507 | C8: 2.37913 | D8: 1.682377 | E8: 2.827874 | F8: 1.74529 | G8: 3.631954 | H8: 2.007606 | I8: 3.930078 | J8: 2.041682 | K8: 3.590118 | L8: 1.864647 | M8: 3.758801 | N8: 1.685937 | O8: 3.271877
A9: 0401030107 | B9: 1.226916 | C9: 2.391605 | D9: 1.672598 | E9: 2.834196 | F9: 1.733211 | G9: 3.578041 | H9: 1.968892 | I9: 3.929218 | J9: 2.039476 | K9: 3.564823 | L9: 1.872091 | M9: 3.814759 | N9: 1.72995 | O9: 3.345512
A10: 0401030108 | B10: 1.288579 | C10: 2.407588 | D10: 1.676623 | E10: 2.814063 | F10: 1.783153 | G10: 3.535429 | H10: 1.967035 | I10: 3.879987 | J10: 2.02561 | K10: 3.671111 | L10: 1.909539 | M10: 3.822549 | N10: 1.749103 | O10: 3.379235
A11: 0401030109 | B11: 1.336791 | C11: 2.426213 | D11: 1.669872 | E11: 2.82889 | F11: 1.811929 | G11: 3.479582 | H11: 1.96632 | I11: 3.815016 | J11: 2.004564 | K11: 3.648698 | L11: 1.91696 | M11: 3.760718 | N11: 1.74451 | O11: 3.388283
A12: 0401030110 | B12: 1.362144 | C12: 2.498631 | D12: 1.653992 | E12: 2.86415 | F12: 1.817982 | G12: 3.431566 | H12: 1.92915 | I12: 3.768013 | J12: 1.986426 | K12: 3.558616 | L12: 1.918764 | M12: 3.692121 | N12: 1.780996 | O12: 3.412712
A13: 0401030111 | B13: 1.372413 | C13: 2.556561 | D13: 1.671385 | E13: 2.847017 | F13: 1.815955 | G13: 3.460133 | H13: 1.939902 | I13: 3.866157 | J13: 2.030658 | K13: 3.689699 | L13: 1.939084 | M13: 3.827529 | N13: 1.827321 | O13: 3.526461
... A369: 0712000610 | B369: 1.846668 | C369: 3.294466 | D369: 1.728373 | E369: 3.355565 | F369: 1.787962 | G369: 4.235708 | H369: 2.068989 | I369: 3.70023 | J369: 2.030834 | K369: 3.426801 | L369: 1.916258 | M369: 3.559738 | N369: 1.81056 | O369: 3.437362

Sheet Expected guild %
A2: Table 2. Fish thermal guild expectations (percentage of total individuals collected)
A3: Natural Community | B3: Coldwater Individuals | D3: Transitional Individuals | F3: Warmwater Individuals | J3: NC list for dropdown
B4: Low End | C4: High End | D4: Low End | E4: High End | F4: Low End | G4: High End
A5: Macroinvertebrate | B5: NA | C5: NA | D5: NA | E5: NA | F5: NA | G5: NA | J5: Macroinvertebrate
A6: Coldwater | B6: 0.25 | C6: 1 | D6: 0 | E6: 0.75 | F6: 0 | G6: 0.05 | J6: Coldwater
A7: Cool-Cold Headwater | B7: 0 | C7: 0.75 | D7: 0.25 | E7: 1 | F7: 0 | G7: 0.25 | J7: Cool-Cold Headwater
A8: Cool-Cold Mainstem | B8: 0 | C8: 0.75 | D8: 0.25 | E8: 1 | F8: 0 | G8: 0.25 | J8: Cool-Cold Mainstem
A9: Cool-Warm Headwater | B9: 0 | C9: 0.25 | D9: 0.25 | E9: 1 | F9: 0 | G9: 0.75 | J9: Cool-Warm Headwater
A10: Cool-Warm Mainstem | B10: 0 | C10: 0.25 | D10: 0.25 | E10: 1 | F10: 0 | G10: 0.75 | J10: Cool-Warm Mainstem
A11: Warm Headwater | B11: 0 | C11: 0.05 | D11: 0 | E11: 0.25 | F11: 0.75 | G11: 1 | J11: Warm Headwater
A12: Warm Mainstem | B12: 0 | C12: 0.05 | D12: 0 | E12: 0.25 | F12: 0.75 | G12: 1 | J12: Warm Mainstem
A13: Nonwadable Warm River | B13: 0 | C13: 0.05 | D13: 0 | E13: 0.25 | F13: 0.75 | G13: 1 | J13: Nonwadable Warm River
A16: Table 3. Fish stream size guild expectations (percentage of total individuals collected)
A17: Natural Community | B17: Small Stream | D17: Medium Stream | F17: Large River
B18: Low End | C18: High End | D18: Low End | E18: High End | F18: Low End | G18: High End
A19: Macroinvertebrate | B19: Total catch of fish (all size guilds combined) less than 25 individuals in at least 100 m wetted stream length sampled
A20: Coldwater | B20: 0 | C20: 1 | D20: 0 | E20: 1 | F20: 0 | G20: 1
A21: Cool-Cold Headwater | B21: 0.5 | C21: 1 | D21: 0 | E21: 0.5 | F21: 0 | G21: 0.1
A22: Cool-Cold Mainstem | B22: 0 | C22: 0.5 | D22: 0.5 | E22: 1 | F22: 0 | G22: 0.5
A23: Cool-Warm Headwater | B23: 0.5 | C23: 1 | D23: 0 | E23: 0.5 | F23: 0 | G23: 0.1
A24: Cool-Warm Mainstem | B24: 0 | C24: 0.5 | D24: 0.5 | E24: 1 | F24: 0 | G24: 0.5
A25: Warm Headwater | B25: 0.5 | C25: 1 | D25: 0 | E25: 0.5 | F25: 0 | G25: 0.1
A26: Warm Mainstem | B26: 0 | C26: 0.5 | D26: 0.5 | E26: 1 | F26: 0 | G26: 0.5
A27: Nonwadable Warm River | B27: 0 | C27: 0.1 | D27: 0 | E27: 0.25 | F27: 0.75 | G27: 1
A30: Table 4. Fish tolerance guild expectations (percentage of total individuals collected)
A31: Natural Community | B31: Intolerant | D31: Intermediate | F31: Tolerant
B32: Low End | C32: High End | D32: Low End | E32: High End | F32: Low End | G32: High End
A33: Macroinvertebrate | B33: NA | C33: NA | D33: NA | E33: NA | F33: NA | G33: NA
A34: Coldwater | B34: PRESENT | C34: 1 | D34: 0 | E34: 1 | F34: 0 | G34: 0.25
A35: Cool-Cold Headwater | B35: PRESENT | C35: 1 | D35: 0 | E35: 1 | F35: 0 | G35: 0.75
A36: Cool-Cold Mainstem | B36: PRESENT | C36: 1 | D36: 0 | E36: 1 | F36: 0 | G36: 0.7
A37: Cool-Warm Headwater | B37: PRESENT | C37: 1 | D37: 0 | E37: 1 | F37: 0 | G37: 0.75
A38: Cool-Warm Mainstem | B38: PRESENT | C38: 1 | D38: 0 | E38: 1 | F38: 0 | G38: 0.6
A39: Warm Headwater | B39: PRESENT | C39: 1 | D39: 0 | E39: 1 | F39: 0 | G39: 0.75
A40: Warm Mainstem | B40: PRESENT | C40: 1 | D40: 0 | E40: 1 | F40: 0 | G40: 0.5
A41: Nonwadable Warm River | B41: PRESENT | C41: 1 | D41: 0 | E41: 1 | F41: 0 | G41: 0.15

Sheet Species guilds
A1: Table 5. Thermal, stream size, and tolerance guilds of Wisconsin fishes.
A2: Common Name | B2: Scientific name | C2: Thermal (C,T,W) | D2: Stream Size (S,M,L) | E2: Tolerance (IT,IM,T)
A3: Chestnut Lamprey | B3: Ichthyomyzon castaneus | C3: W | D3: L | E3: IT
A4: Northern Brook Lamprey | B4: Ichthyomyzon fossor | C4: T | D4: M | E4: IT
A5: Southern Brook Lamprey | B5: Ichthyomyzon gagei | C5: T | D5: M | E5: IT
A6: Silver Lamprey | B6: Ichthyomyzon unicuspis | C6: W | D6: L | E6: IT
A7: American Brook Lamprey | B7: Lampetra appendix | C7: T | D7: M | E7: IT
A8: Sea Lamprey | B8: Petromyzon marinus | C8: T | D8: M | E8: IT
A9: Lake Sturgeon | B9: Acipenser fulvescens | C9: T | D9: L | E9: IM
A10: Shovelnose Sturgeon | B10: Scaphirhynchus platorynchus | C10: W | D10: L | E10: IM
A11: Paddlefish | B11: Polyodon spathula | C11: W | D11: L | E11: IM
A12: Longnose Gar | B12: Lepisosteus osseus | C12: W | D12: L | E12: IM
A13: Shortnose Gar | B13: Lepisosteus platostomus | C13: W | D13: L | E13: IM
... A167: Tubenose Goby | B167: Proterorhinus marmoratus | C167: W | D167: Lake | E167: IM

Sheet Sheet1
