Workbook

Sheet Cumulative Totals
B1: 2016 Sheboygan AOC BBS | C1: Areas: | D1: Kohler Properties | E1: Taylor & Indiana | F1: Wildwood Island | G1: Kiwanis Park | H1: Total Days | I1: Total Hours | J1: Spec. of Greatest Conservation Need | K1: Observed Breeding Codes
B2: Points: | C2: ='Point Data'!BA5 -> 38 | D2: 24 | E2: 8 | F2: 1 | G2: 5 | H2: ='Point Data'!BA2 -> 8 | I2: ='Point Data'!BB2 -> 38.565278
B3: Total Species | C3: ='Point Data'!BB98 -> 77 | D3: =COUNTIF(D6:D95,">0") -> 69 | E3: =COUNTIF(E6:E95,">0") -> 49 | F3: =COUNTIF(F6:F95,">0") -> 22 | G3: =COUNTIF(G6:G95,">0") -> 36
B4: Total Individuals | C4: ='Point Data'!BB97 -> 987 | D4: =SUM(D6:D95) -> 558 | E4: =SUM(E6:E95) -> 188 | F4: =SUM(F6:F95) -> 53 | G4: =SUM(G6:G95) -> 188 | J4: =COUNTIF(J6:J95,"=SGCN") -> 7 | K4: =COUNTIF(K6:K95,"*") -> 14
A5: # | B5: Species | C5: Code | D5: Ind. | E5: Ind. | F5: Ind. | G5: Ind. | H5: # of Pts | I5: Ind. | J5: SGCN | K5: Breeding Code
A6: 1 | B6: ='Point Data'!B7 -> Canada Goose (Branta canadensis) | C6: ='Point Data'!C7 -> CANG | D6: =IF(SUM('Point Data'!D7:AL7)=0,"",SUM('Point Data'!D7:AL7)) -> 13 | E6: =IF(SUM('Point Data'!AM7:AT7)=0,"",SUM('Point Data'!AM7:AT7)) -> 6 | F6: =IF(SUM('Point Data'!AU7)=0,"",SUM('Point Data'!AU7)) -> 11 | G6: =IF(SUM('Point Data'!AV7:AZ7)=0,"",SUM('Point Data'!AV7:AZ7)) -> 2 | H6: =IF('Point Data'!BA7=0,"",'Point Data'!BA7) -> 6 | I6: =IF('Point Data'!BB7=0,"",'Point Data'!BB7) -> 32 | K6: FL
A7: 2 | B7: ='Point Data'!B8 -> Wood Duck (Aix sponsa) | C7: ='Point Data'!C8 -> WOOD | D7: =IF(SUM('Point Data'!D8:AL8)=0,"",SUM('Point Data'!D8:AL8)) | E7: =IF(SUM('Point Data'!AM8:AT8)=0,"",SUM('Point Data'!AM8:AT8)) -> 1 | F7: =IF(SUM('Point Data'!AU8)=0,"",SUM('Point Data'!AU8)) -> 2 | G7: =IF(SUM('Point Data'!AV8:AZ8)=0,"",SUM('Point Data'!AV8:AZ8)) | H7: =IF('Point Data'!BA8=0,"",'Point Data'!BA8) -> 2 | I7: =IF('Point Data'!BB8=0,"",'Point Data'!BB8) -> 3
A8: 3 | B8: ='Point Data'!B9 -> Mallard (Anas platyrhynchos) | C8: ='Point Data'!C9 -> MALL | D8: =IF(SUM('Point Data'!D9:AL9)=0,"",SUM('Point Data'!D9:AL9)) -> 3 | E8: =IF(SUM('Point Data'!AM9:AT9)=0,"",SUM('Point Data'!AM9:AT9)) -> 3 | F8: =IF(SUM('Point Data'!AU9)=0,"",SUM('Point Data'!AU9)) -> 2 | G8: =IF(SUM('Point Data'!AV9:AZ9)=0,"",SUM('Point Data'!AV9:AZ9)) | H8: =IF('Point Data'!BA9=0,"",'Point Data'!BA9) -> 5 | I8: =IF('Point Data'!BB9=0,"",'Point Data'!BB9) -> 8 | K8: FL
A9: 4 | B9: ='Point Data'!B10 -> Wild Turkey (Meleagris gallopavo) | C9: ='Point Data'!C10 -> WITU | D9: =IF(SUM('Point Data'!D10:AL10)=0,"",SUM('Point Data'!D10:AL10)) -> 4 | E9: =IF(SUM('Point Data'!AM10:AT10)=0,"",SUM('Point Data'!AM10:AT10)) | F9: =IF(SUM('Point Data'!AU10)=0,"",SUM('Point Data'!AU10)) | G9: =IF(SUM('Point Data'!AV10:AZ10)=0,"",SUM('Point Data'!AV10:AZ10)) | H9: =IF('Point Data'!BA10=0,"",'Point Data'!BA10) -> 4 | I9: =IF('Point Data'!BB10=0,"",'Point Data'!BB10) -> 4
A10: 5 | B10: ='Point Data'!B11 -> Great Blue Heron (Ardea herodias) | C10: ='Point Data'!C11 -> GBHE | D10: =IF(SUM('Point Data'!D11:AL11)=0,"",SUM('Point Data'!D11:AL11)) -> 1 | E10: =IF(SUM('Point Data'!AM11:AT11)=0,"",SUM('Point Data'!AM11:AT11)) -> 1 | F10: =IF(SUM('Point Data'!AU11)=0,"",SUM('Point Data'!AU11)) | G10: =IF(SUM('Point Data'!AV11:AZ11)=0,"",SUM('Point Data'!AV11:AZ11)) -> 1 | H10: =IF('Point Data'!BA11=0,"",'Point Data'!BA11) -> 3 | I10: =IF('Point Data'!BB11=0,"",'Point Data'!BB11) -> 3
A11: 6 | B11: ='Point Data'!B12 -> Great Egret (Ardea alba) | C11: ='Point Data'!C12 -> GREG | D11: =IF(SUM('Point Data'!D12:AL12)=0,"",SUM('Point Data'!D12:AL12)) | E11: =IF(SUM('Point Data'!AM12:AT12)=0,"",SUM('Point Data'!AM12:AT12)) | F11: =IF(SUM('Point Data'!AU12)=0,"",SUM('Point Data'!AU12)) | G11: =IF(SUM('Point Data'!AV12:AZ12)=0,"",SUM('Point Data'!AV12:AZ12)) | H11: =IF('Point Data'!BA12=0,"",'Point Data'!BA12) | I11: =IF('Point Data'!BB12=0,"",'Point Data'!BB12)
A12: 7 | B12: ='Point Data'!B13 -> Green Heron (Butorides virescens) | C12: ='Point Data'!C13 -> GRHE | D12: =IF(SUM('Point Data'!D13:AL13)=0,"",SUM('Point Data'!D13:AL13)) | E12: =IF(SUM('Point Data'!AM13:AT13)=0,"",SUM('Point Data'!AM13:AT13)) -> 1 | F12: =IF(SUM('Point Data'!AU13)=0,"",SUM('Point Data'!AU13)) | G12: =IF(SUM('Point Data'!AV13:AZ13)=0,"",SUM('Point Data'!AV13:AZ13)) | H12: =IF('Point Data'!BA13=0,"",'Point Data'!BA13) -> 1 | I12: =IF('Point Data'!BB13=0,"",'Point Data'!BB13) -> 1
A13: 8 | B13: ='Point Data'!B14 -> Bald Eagle (Haliaeetus leucocephalus) | C13: ='Point Data'!C14 -> BAEA | D13: =IF(SUM('Point Data'!D14:AL14)=0,"",SUM('Point Data'!D14:AL14)) | E13: =IF(SUM('Point Data'!AM14:AT14)=0,"",SUM('Point Data'!AM14:AT14)) | F13: =IF(SUM('Point Data'!AU14)=0,"",SUM('Point Data'!AU14)) | G13: =IF(SUM('Point Data'!AV14:AZ14)=0,"",SUM('Point Data'!AV14:AZ14)) | H13: =IF('Point Data'!BA14=0,"",'Point Data'!BA14) | I13: =IF('Point Data'!BB14=0,"",'Point Data'!BB14)
A14: 9 | B14: ='Point Data'!B15 -> Red-tailed Hawk (Buteo jamaicensis) | C14: ='Point Data'!C15 -> RTHA | D14: =IF(SUM('Point Data'!D15:AL15)=0,"",SUM('Point Data'!D15:AL15)) -> 4 | E14: =IF(SUM('Point Data'!AM15:AT15)=0,"",SUM('Point Data'!AM15:AT15)) | F14: =IF(SUM('Point Data'!AU15)=0,"",SUM('Point Data'!AU15)) | G14: =IF(SUM('Point Data'!AV15:AZ15)=0,"",SUM('Point Data'!AV15:AZ15)) | H14: =IF('Point Data'!BA15=0,"",'Point Data'!BA15) -> 3 | I14: =IF('Point Data'!BB15=0,"",'Point Data'!BB15) -> 4
A15: 10 | B15: ='Point Data'!B16 -> American Kestrel (Falco sparverius) | C15: ='Point Data'!C16 -> MAKE | D15: =IF(SUM('Point Data'!D16:AL16)=0,"",SUM('Point Data'!D16:AL16)) | E15: =IF(SUM('Point Data'!AM16:AT16)=0,"",SUM('Point Data'!AM16:AT16)) | F15: =IF(SUM('Point Data'!AU16)=0,"",SUM('Point Data'!AU16)) | G15: =IF(SUM('Point Data'!AV16:AZ16)=0,"",SUM('Point Data'!AV16:AZ16)) | H15: =IF('Point Data'!BA16=0,"",'Point Data'!BA16) | I15: =IF('Point Data'!BB16=0,"",'Point Data'!BB16)
A16: 11 | B16: ='Point Data'!B17 -> Sora (Porzana carolina) | C16: ='Point Data'!C17 -> SORA | D16: =IF(SUM('Point Data'!D17:AL17)=0,"",SUM('Point Data'!D17:AL17)) | E16: =IF(SUM('Point Data'!AM17:AT17)=0,"",SUM('Point Data'!AM17:AT17)) -> 1 | F16: =IF(SUM('Point Data'!AU17)=0,"",SUM('Point Data'!AU17)) | G16: =IF(SUM('Point Data'!AV17:AZ17)=0,"",SUM('Point Data'!AV17:AZ17)) | H16: =IF('Point Data'!BA17=0,"",'Point Data'!BA17) -> 1 | I16: =IF('Point Data'!BB17=0,"",'Point Data'!BB17) -> 1
A17: 12 | B17: ='Point Data'!B18 -> Sandhill Crane (Grus canadensis) | C17: ='Point Data'!C18 -> SACR | D17: =IF(SUM('Point Data'!D18:AL18)=0,"",SUM('Point Data'!D18:AL18)) -> 1 | E17: =IF(SUM('Point Data'!AM18:AT18)=0,"",SUM('Point Data'!AM18:AT18)) | F17: =IF(SUM('Point Data'!AU18)=0,"",SUM('Point Data'!AU18)) | G17: =IF(SUM('Point Data'!AV18:AZ18)=0,"",SUM('Point Data'!AV18:AZ18)) | H17: =IF('Point Data'!BA18=0,"",'Point Data'!BA18) -> 1 | I17: =IF('Point Data'!BB18=0,"",'Point Data'!BB18) -> 1
A18: 13 | B18: ='Point Data'!B19 -> Killdeer (Charadrius vociferus) | C18: ='Point Data'!C19 -> KILL | D18: =IF(SUM('Point Data'!D19:AL19)=0,"",SUM('Point Data'!D19:AL19)) -> 3 | E18: =IF(SUM('Point Data'!AM19:AT19)=0,"",SUM('Point Data'!AM19:AT19)) -> 1 | F18: =IF(SUM('Point Data'!AU19)=0,"",SUM('Point Data'!AU19)) -> 2 | G18: =IF(SUM('Point Data'!AV19:AZ19)=0,"",SUM('Point Data'!AV19:AZ19)) -> 2 | H18: =IF('Point Data'!BA19=0,"",'Point Data'!BA19) -> 7 | I18: =IF('Point Data'!BB19=0,"",'Point Data'!BB19) -> 8
A19: 14 | B19: ='Point Data'!B20 -> Spotted Sandpiper (Actitis macularia) | C19: ='Point Data'!C20 -> SPSA | D19: =IF(SUM('Point Data'!D20:AL20)=0,"",SUM('Point Data'!D20:AL20)) | E19: =IF(SUM('Point Data'!AM20:AT20)=0,"",SUM('Point Data'!AM20:AT20)) -> 2 | F19: =IF(SUM('Point Data'!AU20)=0,"",SUM('Point Data'!AU20)) -> 1 | G19: =IF(SUM('Point Data'!AV20:AZ20)=0,"",SUM('Point Data'!AV20:AZ20)) -> 1 | H19: =IF('Point Data'!BA20=0,"",'Point Data'!BA20) -> 3 | I19: =IF('Point Data'!BB20=0,"",'Point Data'!BB20) -> 4
A20: 15 | B20: ='Point Data'!B21 -> American Woodcock (Scolopax minor) | C20: ='Point Data'!C21 -> AMWO | D20: =IF(SUM('Point Data'!D21:AL21)=0,"",SUM('Point Data'!D21:AL21)) -> 1 | E20: =IF(SUM('Point Data'!AM21:AT21)=0,"",SUM('Point Data'!AM21:AT21)) | F20: =IF(SUM('Point Data'!AU21)=0,"",SUM('Point Data'!AU21)) | G20: =IF(SUM('Point Data'!AV21:AZ21)=0,"",SUM('Point Data'!AV21:AZ21)) | H20: =IF('Point Data'!BA21=0,"",'Point Data'!BA21) -> 1 | I20: =IF('Point Data'!BB21=0,"",'Point Data'!BB21) -> 1 | J20: SGCN
A21: 16 | B21: ='Point Data'!B22 -> Ring-billed Gull (Larus delawarensis) | C21: ='Point Data'!C22 -> RBGU | D21: =IF(SUM('Point Data'!D22:AL22)=0,"",SUM('Point Data'!D22:AL22)) -> 2 | E21: =IF(SUM('Point Data'!AM22:AT22)=0,"",SUM('Point Data'!AM22:AT22)) -> 1 | F21: =IF(SUM('Point Data'!AU22)=0,"",SUM('Point Data'!AU22)) -> 2 | G21: =IF(SUM('Point Data'!AV22:AZ22)=0,"",SUM('Point Data'!AV22:AZ22)) -> 79 | H21: =IF('Point Data'!BA22=0,"",'Point Data'!BA22) -> 8 | I21: =IF('Point Data'!BB22=0,"",'Point Data'!BB22) -> 84
A22: 17 | B22: ='Point Data'!B23 -> Rock Pigeon (Columba livia) | C22: ='Point Data'!C23 -> ROPI | D22: =IF(SUM('Point Data'!D23:AL23)=0,"",SUM('Point Data'!D23:AL23)) | E22: =IF(SUM('Point Data'!AM23:AT23)=0,"",SUM('Point Data'!AM23:AT23)) | F22: =IF(SUM('Point Data'!AU23)=0,"",SUM('Point Data'!AU23)) | G22: =IF(SUM('Point Data'!AV23:AZ23)=0,"",SUM('Point Data'!AV23:AZ23)) | H22: =IF('Point Data'!BA23=0,"",'Point Data'!BA23) | I22: =IF('Point Data'!BB23=0,"",'Point Data'!BB23)
A23: 18 | B23: ='Point Data'!B24 -> Mourning Dove (Zenaida macroura) | C23: ='Point Data'!C24 -> MODO | D23: =IF(SUM('Point Data'!D24:AL24)=0,"",SUM('Point Data'!D24:AL24)) -> 4 | E23: =IF(SUM('Point Data'!AM24:AT24)=0,"",SUM('Point Data'!AM24:AT24)) | F23: =IF(SUM('Point Data'!AU24)=0,"",SUM('Point Data'!AU24)) | G23: =IF(SUM('Point Data'!AV24:AZ24)=0,"",SUM('Point Data'!AV24:AZ24)) -> 2 | H23: =IF('Point Data'!BA24=0,"",'Point Data'!BA24) -> 6 | I23: =IF('Point Data'!BB24=0,"",'Point Data'!BB24) -> 6
A24: 19 | B24: ='Point Data'!B25 -> Black-billed Cuckoo (Coccyzus erythropthalmus) | C24: ='Point Data'!C25 -> BBCU | D24: =IF(SUM('Point Data'!D25:AL25)=0,"",SUM('Point Data'!D25:AL25)) | E24: =IF(SUM('Point Data'!AM25:AT25)=0,"",SUM('Point Data'!AM25:AT25)) -> 1 | F24: =IF(SUM('Point Data'!AU25)=0,"",SUM('Point Data'!AU25)) | G24: =IF(SUM('Point Data'!AV25:AZ25)=0,"",SUM('Point Data'!AV25:AZ25)) | H24: =IF('Point Data'!BA25=0,"",'Point Data'!BA25) -> 1 | I24: =IF('Point Data'!BB25=0,"",'Point Data'!BB25) -> 1 | J24: SGCN
A25: 20 | B25: ='Point Data'!B26 -> Yellow-billed Cuckoo (Coccyzus americanus) | C25: ='Point Data'!C26 -> YBCU | D25: =IF(SUM('Point Data'!D26:AL26)=0,"",SUM('Point Data'!D26:AL26)) -> 6 | E25: =IF(SUM('Point Data'!AM26:AT26)=0,"",SUM('Point Data'!AM26:AT26)) | F25: =IF(SUM('Point Data'!AU26)=0,"",SUM('Point Data'!AU26)) | G25: =IF(SUM('Point Data'!AV26:AZ26)=0,"",SUM('Point Data'!AV26:AZ26)) -> 1 | H25: =IF('Point Data'!BA26=0,"",'Point Data'!BA26) -> 6 | I25: =IF('Point Data'!BB26=0,"",'Point Data'!BB26) -> 7 | J25: SGCN
A26: 21 | B26: ='Point Data'!B27 -> Great Horned Owl (Bubo virginianus) | C26: ='Point Data'!C27 -> GHOW | D26: =IF(SUM('Point Data'!D27:AL27)=0,"",SUM('Point Data'!D27:AL27)) | E26: =IF(SUM('Point Data'!AM27:AT27)=0,"",SUM('Point Data'!AM27:AT27)) | F26: =IF(SUM('Point Data'!AU27)=0,"",SUM('Point Data'!AU27)) | G26: =IF(SUM('Point Data'!AV27:AZ27)=0,"",SUM('Point Data'!AV27:AZ27)) | H26: =IF('Point Data'!BA27=0,"",'Point Data'!BA27) | I26: =IF('Point Data'!BB27=0,"",'Point Data'!BB27)
A27: 22 | B27: ='Point Data'!B28 -> Barred Owl (Strix varia) | C27: ='Point Data'!C28 -> GHOW | D27: =IF(SUM('Point Data'!D28:AL28)=0,"",SUM('Point Data'!D28:AL28)) -> 1 | E27: =IF(SUM('Point Data'!AM28:AT28)=0,"",SUM('Point Data'!AM28:AT28)) | F27: =IF(SUM('Point Data'!AU28)=0,"",SUM('Point Data'!AU28)) | G27: =IF(SUM('Point Data'!AV28:AZ28)=0,"",SUM('Point Data'!AV28:AZ28)) | H27: =IF('Point Data'!BA28=0,"",'Point Data'!BA28) -> 1 | I27: =IF('Point Data'!BB28=0,"",'Point Data'!BB28) -> 1
A28: 23 | B28: ='Point Data'!B29 -> Chimney Swift (Chaetura pelagica) | C28: ='Point Data'!C29 -> CHSW | D28: =IF(SUM('Point Data'!D29:AL29)=0,"",SUM('Point Data'!D29:AL29)) | E28: =IF(SUM('Point Data'!AM29:AT29)=0,"",SUM('Point Data'!AM29:AT29)) | F28: =IF(SUM('Point Data'!AU29)=0,"",SUM('Point Data'!AU29)) | G28: =IF(SUM('Point Data'!AV29:AZ29)=0,"",SUM('Point Data'!AV29:AZ29)) -> 6 | H28: =IF('Point Data'!BA29=0,"",'Point Data'!BA29) -> 2 | I28: =IF('Point Data'!BB29=0,"",'Point Data'!BB29) -> 6
A29: 24 | B29: ='Point Data'!B30 -> Ruby-throated Hummingbird (Archilochus colubris) | C29: ='Point Data'!C30 -> RTHU | D29: =IF(SUM('Point Data'!D30:AL30)=0,"",SUM('Point Data'!D30:AL30)) -> 1 | E29: =IF(SUM('Point Data'!AM30:AT30)=0,"",SUM('Point Data'!AM30:AT30)) | F29: =IF(SUM('Point Data'!AU30)=0,"",SUM('Point Data'!AU30)) | G29: =IF(SUM('Point Data'!AV30:AZ30)=0,"",SUM('Point Data'!AV30:AZ30)) | H29: =IF('Point Data'!BA30=0,"",'Point Data'!BA30) -> 1 | I29: =IF('Point Data'!BB30=0,"",'Point Data'!BB30) -> 1
A30: 25 | B30: ='Point Data'!B31 -> Belted Kingfisher (Ceryle alcyon) | C30: ='Point Data'!C31 -> BEKI | D30: =IF(SUM('Point Data'!D31:AL31)=0,"",SUM('Point Data'!D31:AL31)) -> 2 | E30: =IF(SUM('Point Data'!AM31:AT31)=0,"",SUM('Point Data'!AM31:AT31)) -> 6 | F30: =IF(SUM('Point Data'!AU31)=0,"",SUM('Point Data'!AU31)) -> 1 | G30: =IF(SUM('Point Data'!AV31:AZ31)=0,"",SUM('Point Data'!AV31:AZ31)) -> 1 | H30: =IF('Point Data'!BA31=0,"",'Point Data'!BA31) -> 10 | I30: =IF('Point Data'!BB31=0,"",'Point Data'!BB31) -> 10
A31: 26 | B31: ='Point Data'!B32 -> Red-bellied Woodpecker (Melanerpes carolinus) | C31: ='Point Data'!C32 -> RBWO | D31: =IF(SUM('Point Data'!D32:AL32)=0,"",SUM('Point Data'!D32:AL32)) -> 11 | E31: =IF(SUM('Point Data'!AM32:AT32)=0,"",SUM('Point Data'!AM32:AT32)) -> 1 | F31: =IF(SUM('Point Data'!AU32)=0,"",SUM('Point Data'!AU32)) | G31: =IF(SUM('Point Data'!AV32:AZ32)=0,"",SUM('Point Data'!AV32:AZ32)) -> 1 | H31: =IF('Point Data'!BA32=0,"",'Point Data'!BA32) -> 11 | I31: =IF('Point Data'!BB32=0,"",'Point Data'!BB32) -> 13
A32: 27 | B32: ='Point Data'!B33 -> Downy Woodpecker (Picoides pubescens) | C32: ='Point Data'!C33 -> DOWO | D32: =IF(SUM('Point Data'!D33:AL33)=0,"",SUM('Point Data'!D33:AL33)) -> 6 | E32: =IF(SUM('Point Data'!AM33:AT33)=0,"",SUM('Point Data'!AM33:AT33)) -> 6 | F32: =IF(SUM('Point Data'!AU33)=0,"",SUM('Point Data'!AU33)) -> 1 | G32: =IF(SUM('Point Data'!AV33:AZ33)=0,"",SUM('Point Data'!AV33:AZ33)) -> 4 | H32: =IF('Point Data'!BA33=0,"",'Point Data'!BA33) -> 16 | I32: =IF('Point Data'!BB33=0,"",'Point Data'!BB33) -> 17
A33: 28 | B33: ='Point Data'!B34 -> Hairy Woodpecker (Picoides villosus) | C33: ='Point Data'!C34 -> HAWO | D33: =IF(SUM('Point Data'!D34:AL34)=0,"",SUM('Point Data'!D34:AL34)) -> 1 | E33: =IF(SUM('Point Data'!AM34:AT34)=0,"",SUM('Point Data'!AM34:AT34)) | F33: =IF(SUM('Point Data'!AU34)=0,"",SUM('Point Data'!AU34)) | G33: =IF(SUM('Point Data'!AV34:AZ34)=0,"",SUM('Point Data'!AV34:AZ34)) | H33: =IF('Point Data'!BA34=0,"",'Point Data'!BA34) -> 1 | I33: =IF('Point Data'!BB34=0,"",'Point Data'!BB34) -> 1
A34: 29 | B34: ='Point Data'!B35 -> Northern Flicker (Colaptes auratus) | C34: ='Point Data'!C35 -> NOFL | D34: =IF(SUM('Point Data'!D35:AL35)=0,"",SUM('Point Data'!D35:AL35)) -> 1 | E34: =IF(SUM('Point Data'!AM35:AT35)=0,"",SUM('Point Data'!AM35:AT35)) -> 1 | F34: =IF(SUM('Point Data'!AU35)=0,"",SUM('Point Data'!AU35)) | G34: =IF(SUM('Point Data'!AV35:AZ35)=0,"",SUM('Point Data'!AV35:AZ35)) | H34: =IF('Point Data'!BA35=0,"",'Point Data'!BA35) -> 2 | I34: =IF('Point Data'!BB35=0,"",'Point Data'!BB35) -> 2
A35: 30 | B35: ='Point Data'!B36 -> Pileated Woodpecker (Dryocopus pileatus) | C35: ='Point Data'!C36 -> PIWO | D35: =IF(SUM('Point Data'!D36:AL36)=0,"",SUM('Point Data'!D36:AL36)) -> 2 | E35: =IF(SUM('Point Data'!AM36:AT36)=0,"",SUM('Point Data'!AM36:AT36)) | F35: =IF(SUM('Point Data'!AU36)=0,"",SUM('Point Data'!AU36)) | G35: =IF(SUM('Point Data'!AV36:AZ36)=0,"",SUM('Point Data'!AV36:AZ36)) | H35: =IF('Point Data'!BA36=0,"",'Point Data'!BA36) -> 2 | I35: =IF('Point Data'!BB36=0,"",'Point Data'!BB36) -> 2
A36: 31 | B36: ='Point Data'!B37 -> Eastern Wood-Pewee (Contopus virens) | C36: ='Point Data'!C37 -> EAWP | D36: =IF(SUM('Point Data'!D37:AL37)=0,"",SUM('Point Data'!D37:AL37)) -> 20 | E36: =IF(SUM('Point Data'!AM37:AT37)=0,"",SUM('Point Data'!AM37:AT37)) -> 1 | F36: =IF(SUM('Point Data'!AU37)=0,"",SUM('Point Data'!AU37)) | G36: =IF(SUM('Point Data'!AV37:AZ37)=0,"",SUM('Point Data'!AV37:AZ37)) -> 1 | H36: =IF('Point Data'!BA37=0,"",'Point Data'!BA37) -> 15 | I36: =IF('Point Data'!BB37=0,"",'Point Data'!BB37) -> 22
A37: 32 | B37: ='Point Data'!B38 -> Alder Flycatcher (Empidonax alnorum) | C37: ='Point Data'!C38 -> ALFL | D37: =IF(SUM('Point Data'!D38:AL38)=0,"",SUM('Point Data'!D38:AL38)) -> 2 | E37: =IF(SUM('Point Data'!AM38:AT38)=0,"",SUM('Point Data'!AM38:AT38)) | F37: =IF(SUM('Point Data'!AU38)=0,"",SUM('Point Data'!AU38)) | G37: =IF(SUM('Point Data'!AV38:AZ38)=0,"",SUM('Point Data'!AV38:AZ38)) | H37: =IF('Point Data'!BA38=0,"",'Point Data'!BA38) -> 1 | I37: =IF('Point Data'!BB38=0,"",'Point Data'!BB38) -> 2
A38: 33 | B38: ='Point Data'!B39 -> Willow Flycatcher (Empidonax traillii) | C38: ='Point Data'!C39 -> WIFL | D38: =IF(SUM('Point Data'!D39:AL39)=0,"",SUM('Point Data'!D39:AL39)) -> 4 | E38: =IF(SUM('Point Data'!AM39:AT39)=0,"",SUM('Point Data'!AM39:AT39)) | F38: =IF(SUM('Point Data'!AU39)=0,"",SUM('Point Data'!AU39)) | G38: =IF(SUM('Point Data'!AV39:AZ39)=0,"",SUM('Point Data'!AV39:AZ39)) | H38: =IF('Point Data'!BA39=0,"",'Point Data'!BA39) -> 2 | I38: =IF('Point Data'!BB39=0,"",'Point Data'!BB39) -> 4 | J38: SGCN
A39: 34 | B39: ='Point Data'!B40 -> Least Flycatcher (Empidonax minimus) | C39: ='Point Data'!C40 -> LEFL | D39: =IF(SUM('Point Data'!D40:AL40)=0,"",SUM('Point Data'!D40:AL40)) | E39: =IF(SUM('Point Data'!AM40:AT40)=0,"",SUM('Point Data'!AM40:AT40)) | F39: =IF(SUM('Point Data'!AU40)=0,"",SUM('Point Data'!AU40)) | G39: =IF(SUM('Point Data'!AV40:AZ40)=0,"",SUM('Point Data'!AV40:AZ40)) | H39: =IF('Point Data'!BA40=0,"",'Point Data'!BA40) | I39: =IF('Point Data'!BB40=0,"",'Point Data'!BB40)
A40: 35 | B40: ='Point Data'!B41 -> Eastern Phoebe (Sayornis phoebe) | C40: ='Point Data'!C41 -> EAPH | D40: =IF(SUM('Point Data'!D41:AL41)=0,"",SUM('Point Data'!D41:AL41)) | E40: =IF(SUM('Point Data'!AM41:AT41)=0,"",SUM('Point Data'!AM41:AT41)) | F40: =IF(SUM('Point Data'!AU41)=0,"",SUM('Point Data'!AU41)) -> 1 | G40: =IF(SUM('Point Data'!AV41:AZ41)=0,"",SUM('Point Data'!AV41:AZ41)) -> 1 | H40: =IF('Point Data'!BA41=0,"",'Point Data'!BA41) -> 2 | I40: =IF('Point Data'!BB41=0,"",'Point Data'!BB41) -> 2 | K40: ON
A41: 36 | B41: ='Point Data'!B42 -> Great Crested Flycatcher (Myiarchus crinitus) | C41: ='Point Data'!C42 -> GCFL | D41: =IF(SUM('Point Data'!D42:AL42)=0,"",SUM('Point Data'!D42:AL42)) -> 14 | E41: =IF(SUM('Point Data'!AM42:AT42)=0,"",SUM('Point Data'!AM42:AT42)) -> 6 | F41: =IF(SUM('Point Data'!AU42)=0,"",SUM('Point Data'!AU42)) -> 1 | G41: =IF(SUM('Point Data'!AV42:AZ42)=0,"",SUM('Point Data'!AV42:AZ42)) -> 4 | H41: =IF('Point Data'!BA42=0,"",'Point Data'!BA42) -> 21 | I41: =IF('Point Data'!BB42=0,"",'Point Data'!BB42) -> 25
A42: 37 | B42: ='Point Data'!B43 -> Eastern Kingbird (Tyrannus tyrannus) | C42: ='Point Data'!C43 -> EAKI | D42: =IF(SUM('Point Data'!D43:AL43)=0,"",SUM('Point Data'!D43:AL43)) -> 1 | E42: =IF(SUM('Point Data'!AM43:AT43)=0,"",SUM('Point Data'!AM43:AT43)) -> 1 | F42: =IF(SUM('Point Data'!AU43)=0,"",SUM('Point Data'!AU43)) | G42: =IF(SUM('Point Data'!AV43:AZ43)=0,"",SUM('Point Data'!AV43:AZ43)) | H42: =IF('Point Data'!BA43=0,"",'Point Data'!BA43) -> 2 | I42: =IF('Point Data'!BB43=0,"",'Point Data'!BB43) -> 2
A43: 38 | B43: ='Point Data'!B44 -> Yellow-throated Vireo (Vireo flavifrons) | C43: ='Point Data'!C44 -> YTVI | D43: =IF(SUM('Point Data'!D44:AL44)=0,"",SUM('Point Data'!D44:AL44)) -> 2 | E43: =IF(SUM('Point Data'!AM44:AT44)=0,"",SUM('Point Data'!AM44:AT44)) | F43: =IF(SUM('Point Data'!AU44)=0,"",SUM('Point Data'!AU44)) | G43: =IF(SUM('Point Data'!AV44:AZ44)=0,"",SUM('Point Data'!AV44:AZ44)) | H43: =IF('Point Data'!BA44=0,"",'Point Data'!BA44) -> 2 | I43: =IF('Point Data'!BB44=0,"",'Point Data'!BB44) -> 2
A44: 39 | B44: ='Point Data'!B45 -> Warbling Vireo (Vireo gilvus) | C44: ='Point Data'!C45 -> WAVI | D44: =IF(SUM('Point Data'!D45:AL45)=0,"",SUM('Point Data'!D45:AL45)) -> 6 | E44: =IF(SUM('Point Data'!AM45:AT45)=0,"",SUM('Point Data'!AM45:AT45)) -> 5 | F44: =IF(SUM('Point Data'!AU45)=0,"",SUM('Point Data'!AU45)) -> 1 | G44: =IF(SUM('Point Data'!AV45:AZ45)=0,"",SUM('Point Data'!AV45:AZ45)) -> 2 | H44: =IF('Point Data'!BA45=0,"",'Point Data'!BA45) -> 12 | I44: =IF('Point Data'!BB45=0,"",'Point Data'!BB45) -> 14 | K44: CF
A45: 40 | B45: ='Point Data'!B46 -> Red-eyed Vireo (Vireo olivaceus) | C45: ='Point Data'!C46 -> REVI | D45: =IF(SUM('Point Data'!D46:AL46)=0,"",SUM('Point Data'!D46:AL46)) -> 21 | E45: =IF(SUM('Point Data'!AM46:AT46)=0,"",SUM('Point Data'!AM46:AT46)) -> 3 | F45: =IF(SUM('Point Data'!AU46)=0,"",SUM('Point Data'!AU46)) -> 1 | G45: =IF(SUM('Point Data'!AV46:AZ46)=0,"",SUM('Point Data'!AV46:AZ46)) -> 4 | H45: =IF('Point Data'!BA46=0,"",'Point Data'!BA46) -> 22 | I45: =IF('Point Data'!BB46=0,"",'Point Data'!BB46) -> 29
A46: 41 | B46: ='Point Data'!B47 -> Blue Jay (Cyanocitta cristata) | C46: ='Point Data'!C47 -> BLJA | D46: =IF(SUM('Point Data'!D47:AL47)=0,"",SUM('Point Data'!D47:AL47)) -> 25 | E46: =IF(SUM('Point Data'!AM47:AT47)=0,"",SUM('Point Data'!AM47:AT47)) -> 3 | F46: =IF(SUM('Point Data'!AU47)=0,"",SUM('Point Data'!AU47)) -> 1 | G46: =IF(SUM('Point Data'!AV47:AZ47)=0,"",SUM('Point Data'!AV47:AZ47)) -> 4 | H46: =IF('Point Data'!BA47=0,"",'Point Data'!BA47) -> 25 | I46: =IF('Point Data'!BB47=0,"",'Point Data'!BB47) -> 33
A47: 42 | B47: ='Point Data'!B48 -> American Crow (Corvus brachyrhynchos) | C47: ='Point Data'!C48 -> AMCR | D47: =IF(SUM('Point Data'!D48:AL48)=0,"",SUM('Point Data'!D48:AL48)) -> 16 | E47: =IF(SUM('Point Data'!AM48:AT48)=0,"",SUM('Point Data'!AM48:AT48)) -> 4 | F47: =IF(SUM('Point Data'!AU48)=0,"",SUM('Point Data'!AU48)) -> 3 | G47: =IF(SUM('Point Data'!AV48:AZ48)=0,"",SUM('Point Data'!AV48:AZ48)) -> 10 | H47: =IF('Point Data'!BA48=0,"",'Point Data'!BA48) -> 19 | I47: =IF('Point Data'!BB48=0,"",'Point Data'!BB48) -> 33
A48: 43 | B48: ='Point Data'!B49 -> Tree Swallow (Tachycineta bicolor) | C48: ='Point Data'!C49 -> TRES | D48: =IF(SUM('Point Data'!D49:AL49)=0,"",SUM('Point Data'!D49:AL49)) -> 6 | E48: =IF(SUM('Point Data'!AM49:AT49)=0,"",SUM('Point Data'!AM49:AT49)) -> 3 | F48: =IF(SUM('Point Data'!AU49)=0,"",SUM('Point Data'!AU49)) | G48: =IF(SUM('Point Data'!AV49:AZ49)=0,"",SUM('Point Data'!AV49:AZ49)) | H48: =IF('Point Data'!BA49=0,"",'Point Data'!BA49) -> 5 | I48: =IF('Point Data'!BB49=0,"",'Point Data'!BB49) -> 9
A49: 44 | B49: ='Point Data'!B50 -> No. Rough-w. Swallow (Stelgidopteryx serripennis) | C49: ='Point Data'!C50 -> NRWS | D49: =IF(SUM('Point Data'!D50:AL50)=0,"",SUM('Point Data'!D50:AL50)) -> 1 | E49: =IF(SUM('Point Data'!AM50:AT50)=0,"",SUM('Point Data'!AM50:AT50)) -> 1 | F49: =IF(SUM('Point Data'!AU50)=0,"",SUM('Point Data'!AU50)) -> 1 | G49: =IF(SUM('Point Data'!AV50:AZ50)=0,"",SUM('Point Data'!AV50:AZ50)) | H49: =IF('Point Data'!BA50=0,"",'Point Data'!BA50) -> 3 | I49: =IF('Point Data'!BB50=0,"",'Point Data'!BB50) -> 3
A50: 45 | B50: ='Point Data'!B51 -> Bank Swallow (Riparia riparia) | C50: ='Point Data'!C51 -> BANS | D50: =IF(SUM('Point Data'!D51:AL51)=0,"",SUM('Point Data'!D51:AL51)) -> 26 | E50: =IF(SUM('Point Data'!AM51:AT51)=0,"",SUM('Point Data'!AM51:AT51)) -> 2 | F50: =IF(SUM('Point Data'!AU51)=0,"",SUM('Point Data'!AU51)) | G50: =IF(SUM('Point Data'!AV51:AZ51)=0,"",SUM('Point Data'!AV51:AZ51)) | H50: =IF('Point Data'!BA51=0,"",'Point Data'!BA51) -> 4 | I50: =IF('Point Data'!BB51=0,"",'Point Data'!BB51) -> 28
A51: 46 | B51: ='Point Data'!B52 -> Cliff Swallow (Petrochelidon pyrrhonota) | C51: ='Point Data'!C52 -> CLSW | D51: =IF(SUM('Point Data'!D52:AL52)=0,"",SUM('Point Data'!D52:AL52)) | E51: =IF(SUM('Point Data'!AM52:AT52)=0,"",SUM('Point Data'!AM52:AT52)) | F51: =IF(SUM('Point Data'!AU52)=0,"",SUM('Point Data'!AU52)) | G51: =IF(SUM('Point Data'!AV52:AZ52)=0,"",SUM('Point Data'!AV52:AZ52)) | H51: =IF('Point Data'!BA52=0,"",'Point Data'!BA52) | I51: =IF('Point Data'!BB52=0,"",'Point Data'!BB52)
A52: 47 | B52: ='Point Data'!B53 -> Barn Swallow (Hirundo rustica) | C52: ='Point Data'!C53 -> BARS | D52: =IF(SUM('Point Data'!D53:AL53)=0,"",SUM('Point Data'!D53:AL53)) -> 2 | E52: =IF(SUM('Point Data'!AM53:AT53)=0,"",SUM('Point Data'!AM53:AT53)) -> 1 | F52: =IF(SUM('Point Data'!AU53)=0,"",SUM('Point Data'!AU53)) | G52: =IF(SUM('Point Data'!AV53:AZ53)=0,"",SUM('Point Data'!AV53:AZ53)) | H52: =IF('Point Data'!BA53=0,"",'Point Data'!BA53) -> 3 | I52: =IF('Point Data'!BB53=0,"",'Point Data'!BB53) -> 3
A53: 48 | B53: ='Point Data'!B54 -> Black-capped Chickadee (Poecile atricapillus) | C53: ='Point Data'!C54 -> BCCH | D53: =IF(SUM('Point Data'!D54:AL54)=0,"",SUM('Point Data'!D54:AL54)) -> 3 | E53: =IF(SUM('Point Data'!AM54:AT54)=0,"",SUM('Point Data'!AM54:AT54)) -> 4 | F53: =IF(SUM('Point Data'!AU54)=0,"",SUM('Point Data'!AU54)) | G53: =IF(SUM('Point Data'!AV54:AZ54)=0,"",SUM('Point Data'!AV54:AZ54)) -> 2 | H53: =IF('Point Data'!BA54=0,"",'Point Data'!BA54) -> 8 | I53: =IF('Point Data'!BB54=0,"",'Point Data'!BB54) -> 9
A54: 49 | B54: ='Point Data'!B55 -> White-breasted Nuthatch (Sitta carolinensis) | C54: ='Point Data'!C55 -> WBNU | D54: =IF(SUM('Point Data'!D55:AL55)=0,"",SUM('Point Data'!D55:AL55)) -> 7 | E54: =IF(SUM('Point Data'!AM55:AT55)=0,"",SUM('Point Data'!AM55:AT55)) -> 2 | F54: =IF(SUM('Point Data'!AU55)=0,"",SUM('Point Data'!AU55)) | G54: =IF(SUM('Point Data'!AV55:AZ55)=0,"",SUM('Point Data'!AV55:AZ55)) -> 1 | H54: =IF('Point Data'!BA55=0,"",'Point Data'!BA55) -> 10 | I54: =IF('Point Data'!BB55=0,"",'Point Data'!BB55) -> 10 | K54: CF
A55: 50 | B55: ='Point Data'!B56 -> House Wren (Troglodytes aedon) | C55: ='Point Data'!C56 -> HOWR | D55: =IF(SUM('Point Data'!D56:AL56)=0,"",SUM('Point Data'!D56:AL56)) -> 19 | E55: =IF(SUM('Point Data'!AM56:AT56)=0,"",SUM('Point Data'!AM56:AT56)) -> 9 | F55: =IF(SUM('Point Data'!AU56)=0,"",SUM('Point Data'!AU56)) -> 1 | G55: =IF(SUM('Point Data'!AV56:AZ56)=0,"",SUM('Point Data'!AV56:AZ56)) -> 3 | H55: =IF('Point Data'!BA56=0,"",'Point Data'!BA56) -> 22 | I55: =IF('Point Data'!BB56=0,"",'Point Data'!BB56) -> 32 | K55: CF
A56: 51 | B56: ='Point Data'!B57 -> Blue-gray Gnatcatcher (Polioptila caerulea) | C56: ='Point Data'!C57 -> BGGN | D56: =IF(SUM('Point Data'!D57:AL57)=0,"",SUM('Point Data'!D57:AL57)) -> 2 | E56: =IF(SUM('Point Data'!AM57:AT57)=0,"",SUM('Point Data'!AM57:AT57)) -> 1 | F56: =IF(SUM('Point Data'!AU57)=0,"",SUM('Point Data'!AU57)) | G56: =IF(SUM('Point Data'!AV57:AZ57)=0,"",SUM('Point Data'!AV57:AZ57)) | H56: =IF('Point Data'!BA57=0,"",'Point Data'!BA57) -> 3 | I56: =IF('Point Data'!BB57=0,"",'Point Data'!BB57) -> 3
A57: 52 | B57: ='Point Data'!B58 -> Eastern Bluebird (Sialia sialis) | C57: ='Point Data'!C58 -> EABL | D57: =IF(SUM('Point Data'!D58:AL58)=0,"",SUM('Point Data'!D58:AL58)) -> 1 | E57: =IF(SUM('Point Data'!AM58:AT58)=0,"",SUM('Point Data'!AM58:AT58)) | F57: =IF(SUM('Point Data'!AU58)=0,"",SUM('Point Data'!AU58)) | G57: =IF(SUM('Point Data'!AV58:AZ58)=0,"",SUM('Point Data'!AV58:AZ58)) | H57: =IF('Point Data'!BA58=0,"",'Point Data'!BA58) -> 1 | I57: =IF('Point Data'!BB58=0,"",'Point Data'!BB58) -> 1 | K57: CF
A58: 53 | B58: ='Point Data'!B59 -> Swainson's Thrush (Catharus ustulatus) | C58: ='Point Data'!C59 -> SWTH | D58: =IF(SUM('Point Data'!D59:AL59)=0,"",SUM('Point Data'!D59:AL59)) -> 1 | E58: =IF(SUM('Point Data'!AM59:AT59)=0,"",SUM('Point Data'!AM59:AT59)) | F58: =IF(SUM('Point Data'!AU59)=0,"",SUM('Point Data'!AU59)) | G58: =IF(SUM('Point Data'!AV59:AZ59)=0,"",SUM('Point Data'!AV59:AZ59)) | H58: =IF('Point Data'!BA59=0,"",'Point Data'!BA59) -> 1 | I58: =IF('Point Data'!BB59=0,"",'Point Data'!BB59) -> 1 | J58: SGCN
A59: 54 | B59: ='Point Data'!B60 -> Veery (Catharus fuscescens) | C59: ='Point Data'!C60 -> VEER | D59: =IF(SUM('Point Data'!D60:AL60)=0,"",SUM('Point Data'!D60:AL60)) | E59: =IF(SUM('Point Data'!AM60:AT60)=0,"",SUM('Point Data'!AM60:AT60)) | F59: =IF(SUM('Point Data'!AU60)=0,"",SUM('Point Data'!AU60)) | G59: =IF(SUM('Point Data'!AV60:AZ60)=0,"",SUM('Point Data'!AV60:AZ60)) | H59: =IF('Point Data'!BA60=0,"",'Point Data'!BA60) | I59: =IF('Point Data'!BB60=0,"",'Point Data'!BB60)
A60: 55 | B60: ='Point Data'!B61 -> Wood Thrush (Hylocichla mustelina) | C60: ='Point Data'!C61 -> WOTH | D60: =IF(SUM('Point Data'!D61:AL61)=0,"",SUM('Point Data'!D61:AL61)) -> 3 | E60: =IF(SUM('Point Data'!AM61:AT61)=0,"",SUM('Point Data'!AM61:AT61)) | F60: =IF(SUM('Point Data'!AU61)=0,"",SUM('Point Data'!AU61)) | G60: =IF(SUM('Point Data'!AV61:AZ61)=0,"",SUM('Point Data'!AV61:AZ61)) | H60: =IF('Point Data'!BA61=0,"",'Point Data'!BA61) -> 2 | I60: =IF('Point Data'!BB61=0,"",'Point Data'!BB61) -> 3 | J60: SGCN
A61: 56 | B61: ='Point Data'!B62 -> American Robin (Turdus migratorius) | C61: ='Point Data'!C62 -> AMRO | D61: =IF(SUM('Point Data'!D62:AL62)=0,"",SUM('Point Data'!D62:AL62)) -> 24 | E61: =IF(SUM('Point Data'!AM62:AT62)=0,"",SUM('Point Data'!AM62:AT62)) -> 13 | F61: =IF(SUM('Point Data'!AU62)=0,"",SUM('Point Data'!AU62)) -> 3 | G61: =IF(SUM('Point Data'!AV62:AZ62)=0,"",SUM('Point Data'!AV62:AZ62)) -> 11 | H61: =IF('Point Data'!BA62=0,"",'Point Data'!BA62) -> 27 | I61: =IF('Point Data'!BB62=0,"",'Point Data'!BB62) -> 51 | K61: CF
A62: 57 | B62: ='Point Data'!B63 -> Gray Catbird (Dumetella carolinensis) | C62: ='Point Data'!C63 -> GRCA | D62: =IF(SUM('Point Data'!D63:AL63)=0,"",SUM('Point Data'!D63:AL63)) -> 15 | E62: =IF(SUM('Point Data'!AM63:AT63)=0,"",SUM('Point Data'!AM63:AT63)) -> 2 | F62: =IF(SUM('Point Data'!AU63)=0,"",SUM('Point Data'!AU63)) | G62: =IF(SUM('Point Data'!AV63:AZ63)=0,"",SUM('Point Data'!AV63:AZ63)) -> 1 | H62: =IF('Point Data'!BA63=0,"",'Point Data'!BA63) -> 14 | I62: =IF('Point Data'!BB63=0,"",'Point Data'!BB63) -> 18 | K62: CF
A63: 58 | B63: ='Point Data'!B64 -> Brown Thrasher (Toxostoma rufum) | C63: ='Point Data'!C64 -> BRTH | D63: =IF(SUM('Point Data'!D64:AL64)=0,"",SUM('Point Data'!D64:AL64)) | E63: =IF(SUM('Point Data'!AM64:AT64)=0,"",SUM('Point Data'!AM64:AT64)) | F63: =IF(SUM('Point Data'!AU64)=0,"",SUM('Point Data'!AU64)) | G63: =IF(SUM('Point Data'!AV64:AZ64)=0,"",SUM('Point Data'!AV64:AZ64)) | H63: =IF('Point Data'!BA64=0,"",'Point Data'!BA64) | I63: =IF('Point Data'!BB64=0,"",'Point Data'!BB64)
A64: 59 | B64: ='Point Data'!B65 -> European Starling (Sturnus vulgaris) | C64: ='Point Data'!C65 -> EUST | D64: =IF(SUM('Point Data'!D65:AL65)=0,"",SUM('Point Data'!D65:AL65)) -> 1 | E64: =IF(SUM('Point Data'!AM65:AT65)=0,"",SUM('Point Data'!AM65:AT65)) -> 1 | F64: =IF(SUM('Point Data'!AU65)=0,"",SUM('Point Data'!AU65)) | G64: =IF(SUM('Point Data'!AV65:AZ65)=0,"",SUM('Point Data'!AV65:AZ65)) -> 7 | H64: =IF('Point Data'!BA65=0,"",'Point Data'!BA65) -> 4 | I64: =IF('Point Data'!BB65=0,"",'Point Data'!BB65) -> 9
A65: 60 | B65: ='Point Data'!B66 -> Cedar Waxwing (Bombycilla cedrorum) | C65: ='Point Data'!C66 -> CEDW | D65: =IF(SUM('Point Data'!D66:AL66)=0,"",SUM('Point Data'!D66:AL66)) -> 4 | E65: =IF(SUM('Point Data'!AM66:AT66)=0,"",SUM('Point Data'!AM66:AT66)) -> 4 | F65: =IF(SUM('Point Data'!AU66)=0,"",SUM('Point Data'!AU66)) | G65: =IF(SUM('Point Data'!AV66:AZ66)=0,"",SUM('Point Data'!AV66:AZ66)) -> 2 | H65: =IF('Point Data'!BA66=0,"",'Point Data'!BA66) -> 6 | I65: =IF('Point Data'!BB66=0,"",'Point Data'!BB66) -> 10
A66: 61 | B66: ='Point Data'!B67 -> Blue-winged Warbler (Vermivora pinus) | C66: ='Point Data'!C67 -> BWWA | D66: =IF(SUM('Point Data'!D67:AL67)=0,"",SUM('Point Data'!D67:AL67)) -> 3 | E66: =IF(SUM('Point Data'!AM67:AT67)=0,"",SUM('Point Data'!AM67:AT67)) | F66: =IF(SUM('Point Data'!AU67)=0,"",SUM('Point Data'!AU67)) | G66: =IF(SUM('Point Data'!AV67:AZ67)=0,"",SUM('Point Data'!AV67:AZ67)) | H66: =IF('Point Data'!BA67=0,"",'Point Data'!BA67) -> 3 | I66: =IF('Point Data'!BB67=0,"",'Point Data'!BB67) -> 3
A67: 62 | B67: ='Point Data'!B68 -> Golden-winged Warbler (Vermivora chrysoptera) | C67: ='Point Data'!C68 -> GWWA | D67: =IF(SUM('Point Data'!D68:AL68)=0,"",SUM('Point Data'!D68:AL68)) | E67: =IF(SUM('Point Data'!AM68:AT68)=0,"",SUM('Point Data'!AM68:AT68)) | F67: =IF(SUM('Point Data'!AU68)=0,"",SUM('Point Data'!AU68)) | G67: =IF(SUM('Point Data'!AV68:AZ68)=0,"",SUM('Point Data'!AV68:AZ68)) | H67: =IF('Point Data'!BA68=0,"",'Point Data'!BA68) | I67: =IF('Point Data'!BB68=0,"",'Point Data'!BB68)
A68: 63 | B68: ='Point Data'!B69 -> Yellow Warbler (Dendroica petechia) | C68: ='Point Data'!C69 -> YEWA | D68: =IF(SUM('Point Data'!D69:AL69)=0,"",SUM('Point Data'!D69:AL69)) -> 13 | E68: =IF(SUM('Point Data'!AM69:AT69)=0,"",SUM('Point Data'!AM69:AT69)) -> 1 | F68: =IF(SUM('Point Data'!AU69)=0,"",SUM('Point Data'!AU69)) -> 1 | G68: =IF(SUM('Point Data'!AV69:AZ69)=0,"",SUM('Point Data'!AV69:AZ69)) | H68: =IF('Point Data'!BA69=0,"",'Point Data'!BA69) -> 11 | I68: =IF('Point Data'!BB69=0,"",'Point Data'!BB69) -> 15 | K68: CN
A69: 64 | B69: ='Point Data'!B70 -> Chestnut-sided Warbler (Dendroica pensylvanica) | C69: ='Point Data'!C70 -> CSWA | D69: =IF(SUM('Point Data'!D70:AL70)=0,"",SUM('Point Data'!D70:AL70)) -> 2 | E69: =IF(SUM('Point Data'!AM70:AT70)=0,"",SUM('Point Data'!AM70:AT70)) | F69: =IF(SUM('Point Data'!AU70)=0,"",SUM('Point Data'!AU70)) | G69: =IF(SUM('Point Data'!AV70:AZ70)=0,"",SUM('Point Data'!AV70:AZ70)) | H69: =IF('Point Data'!BA70=0,"",'Point Data'!BA70) -> 2 | I69: =IF('Point Data'!BB70=0,"",'Point Data'!BB70) -> 2
A70: 65 | B70: ='Point Data'!B71 -> American Redstart (Setophaga ruticilla) | C70: ='Point Data'!C71 -> AMRE | D70: =IF(SUM('Point Data'!D71:AL71)=0,"",SUM('Point Data'!D71:AL71)) -> 7 | E70: =IF(SUM('Point Data'!AM71:AT71)=0,"",SUM('Point Data'!AM71:AT71)) -> 2 | F70: =IF(SUM('Point Data'!AU71)=0,"",SUM('Point Data'!AU71)) | G70: =IF(SUM('Point Data'!AV71:AZ71)=0,"",SUM('Point Data'!AV71:AZ71)) -> 3 | H70: =IF('Point Data'!BA71=0,"",'Point Data'!BA71) -> 9 | I70: =IF('Point Data'!BB71=0,"",'Point Data'!BB71) -> 12
A71: 66 | B71: ='Point Data'!B72 -> Ovenbird (Seiurus aurocapilla) | C71: ='Point Data'!C72 -> OVEN | D71: =IF(SUM('Point Data'!D72:AL72)=0,"",SUM('Point Data'!D72:AL72)) -> 1 | E71: =IF(SUM('Point Data'!AM72:AT72)=0,"",SUM('Point Data'!AM72:AT72)) | F71: =IF(SUM('Point Data'!AU72)=0,"",SUM('Point Data'!AU72)) | G71: =IF(SUM('Point Data'!AV72:AZ72)=0,"",SUM('Point Data'!AV72:AZ72)) | H71: =IF('Point Data'!BA72=0,"",'Point Data'!BA72) -> 1 | I71: =IF('Point Data'!BB72=0,"",'Point Data'!BB72) -> 1
A72: 67 | B72: ='Point Data'!B73 -> Mourning Warbler (Oporornis philadelphia) | C72: ='Point Data'!C73 -> MOWA | D72: =IF(SUM('Point Data'!D73:AL73)=0,"",SUM('Point Data'!D73:AL73)) -> 1 | E72: =IF(SUM('Point Data'!AM73:AT73)=0,"",SUM('Point Data'!AM73:AT73)) -> 1 | F72: =IF(SUM('Point Data'!AU73)=0,"",SUM('Point Data'!AU73)) | G72: =IF(SUM('Point Data'!AV73:AZ73)=0,"",SUM('Point Data'!AV73:AZ73)) | H72: =IF('Point Data'!BA73=0,"",'Point Data'!BA73) -> 2 | I72: =IF('Point Data'!BB73=0,"",'Point Data'!BB73) -> 2
A73: 68 | B73: ='Point Data'!B74 -> Common Yellowthroat (Geothlypis trichas) | C73: ='Point Data'!C74 -> COYE | D73: =IF(SUM('Point Data'!D74:AL74)=0,"",SUM('Point Data'!D74:AL74)) -> 17 | E73: =IF(SUM('Point Data'!AM74:AT74)=0,"",SUM('Point Data'!AM74:AT74)) | F73: =IF(SUM('Point Data'!AU74)=0,"",SUM('Point Data'!AU74)) | G73: =IF(SUM('Point Data'!AV74:AZ74)=0,"",SUM('Point Data'!AV74:AZ74)) | H73: =IF('Point Data'!BA74=0,"",'Point Data'!BA74) -> 11 | I73: =IF('Point Data'!BB74=0,"",'Point Data'!BB74) -> 17
A74: 69 | B74: ='Point Data'!B75 -> Scarlet Tanager (Piranga olivacea) | C74: ='Point Data'!C75 -> SCTA | D74: =IF(SUM('Point Data'!D75:AL75)=0,"",SUM('Point Data'!D75:AL75)) -> 4 | E74: =IF(SUM('Point Data'!AM75:AT75)=0,"",SUM('Point Data'!AM75:AT75)) -> 1 | F74: =IF(SUM('Point Data'!AU75)=0,"",SUM('Point Data'!AU75)) | G74: =IF(SUM('Point Data'!AV75:AZ75)=0,"",SUM('Point Data'!AV75:AZ75)) | H74: =IF('Point Data'!BA75=0,"",'Point Data'!BA75) -> 4 | I74: =IF('Point Data'!BB75=0,"",'Point Data'!BB75) -> 5
A75: 70 | B75: ='Point Data'!B76 -> Eastern Towhee (Pipilo erythrophthalmus) | C75: ='Point Data'!C76 -> EATO | D75: =IF(SUM('Point Data'!D76:AL76)=0,"",SUM('Point Data'!D76:AL76)) -> 4 | E75: =IF(SUM('Point Data'!AM76:AT76)=0,"",SUM('Point Data'!AM76:AT76)) | F75: =IF(SUM('Point Data'!AU76)=0,"",SUM('Point Data'!AU76)) | G75: =IF(SUM('Point Data'!AV76:AZ76)=0,"",SUM('Point Data'!AV76:AZ76)) | H75: =IF('Point Data'!BA76=0,"",'Point Data'!BA76) -> 4 | I75: =IF('Point Data'!BB76=0,"",'Point Data'!BB76) -> 4
A76: 71 | B76: ='Point Data'!B77 -> Chipping Sparrow (Spizella passerina) | C76: ='Point Data'!C77 -> CHSP | D76: =IF(SUM('Point Data'!D77:AL77)=0,"",SUM('Point Data'!D77:AL77)) -> 3 | E76: =IF(SUM('Point Data'!AM77:AT77)=0,"",SUM('Point Data'!AM77:AT77)) | F76: =IF(SUM('Point Data'!AU77)=0,"",SUM('Point Data'!AU77)) | G76: =IF(SUM('Point Data'!AV77:AZ77)=0,"",SUM('Point Data'!AV77:AZ77)) | H76: =IF('Point Data'!BA77=0,"",'Point Data'!BA77) -> 3 | I76: =IF('Point Data'!BB77=0,"",'Point Data'!BB77) -> 3
A77: 72 | B77: ='Point Data'!B78 -> Clay-colored Sparrow (Spizella pallida) | C77: ='Point Data'!C78 -> CCSP | D77: =IF(SUM('Point Data'!D78:AL78)=0,"",SUM('Point Data'!D78:AL78)) -> 6 | E77: =IF(SUM('Point Data'!AM78:AT78)=0,"",SUM('Point Data'!AM78:AT78)) | F77: =IF(SUM('Point Data'!AU78)=0,"",SUM('Point Data'!AU78)) | G77: =IF(SUM('Point Data'!AV78:AZ78)=0,"",SUM('Point Data'!AV78:AZ78)) | H77: =IF('Point Data'!BA78=0,"",'Point Data'!BA78) -> 5 | I77: =IF('Point Data'!BB78=0,"",'Point Data'!BB78) -> 6
A78: 73 | B78: ='Point Data'!B79 -> Field Sparrow (Spizella pusilla) | C78: ='Point Data'!C79 -> FISP | D78: =IF(SUM('Point Data'!D79:AL79)=0,"",SUM('Point Data'!D79:AL79)) -> 2 | E78: =IF(SUM('Point Data'!AM79:AT79)=0,"",SUM('Point Data'!AM79:AT79)) | F78: =IF(SUM('Point Data'!AU79)=0,"",SUM('Point Data'!AU79)) | G78: =IF(SUM('Point Data'!AV79:AZ79)=0,"",SUM('Point Data'!AV79:AZ79)) | H78: =IF('Point Data'!BA79=0,"",'Point Data'!BA79) -> 2 | I78: =IF('Point Data'!BB79=0,"",'Point Data'!BB79) -> 2 | J78: SGCN
A79: 74 | B79: ='Point Data'!B80 -> Savannah Sparrow (Passerculus sandwichensis) | C79: ='Point Data'!C80 -> SASP | D79: =IF(SUM('Point Data'!D80:AL80)=0,"",SUM('Point Data'!D80:AL80)) -> 2 | E79: =IF(SUM('Point Data'!AM80:AT80)=0,"",SUM('Point Data'!AM80:AT80)) | F79: =IF(SUM('Point Data'!AU80)=0,"",SUM('Point Data'!AU80)) | G79: =IF(SUM('Point Data'!AV80:AZ80)=0,"",SUM('Point Data'!AV80:AZ80)) | H79: =IF('Point Data'!BA80=0,"",'Point Data'!BA80) -> 1 | I79: =IF('Point Data'!BB80=0,"",'Point Data'!BB80) -> 2
A80: 75 | B80: ='Point Data'!B81 -> Song Sparrow (Melospiza melodia) | C80: ='Point Data'!C81 -> SOSP | D80: =IF(SUM('Point Data'!D81:AL81)=0,"",SUM('Point Data'!D81:AL81)) -> 36 | E80: =IF(SUM('Point Data'!AM81:AT81)=0,"",SUM('Point Data'!AM81:AT81)) -> 9 | F80: =IF(SUM('Point Data'!AU81)=0,"",SUM('Point Data'!AU81)) -> 3 | G80: =IF(SUM('Point Data'!AV81:AZ81)=0,"",SUM('Point Data'!AV81:AZ81)) -> 3 | H80: =IF('Point Data'!BA81=0,"",'Point Data'!BA81) -> 29 | I80: =IF('Point Data'!BB81=0,"",'Point Data'!BB81) -> 51 | K80: CF
A81: 76 | B81: ='Point Data'!B82 -> Swamp Sparrow (Melospiza georgiana) | C81: ='Point Data'!C82 -> SWSP | D81: =IF(SUM('Point Data'!D82:AL82)=0,"",SUM('Point Data'!D82:AL82)) | E81: =IF(SUM('Point Data'!AM82:AT82)=0,"",SUM('Point Data'!AM82:AT82)) | F81: =IF(SUM('Point Data'!AU82)=0,"",SUM('Point Data'!AU82)) | G81: =IF(SUM('Point Data'!AV82:AZ82)=0,"",SUM('Point Data'!AV82:AZ82)) | H81: =IF('Point Data'!BA82=0,"",'Point Data'!BA82) | I81: =IF('Point Data'!BB82=0,"",'Point Data'!BB82)
A82: 77 | B82: ='Point Data'!B83 -> Northern Cardinal (Cardinalis cardinalis) | C82: ='Point Data'!C83 -> NOCA | D82: =IF(SUM('Point Data'!D83:AL83)=0,"",SUM('Point Data'!D83:AL83)) -> 25 | E82: =IF(SUM('Point Data'!AM83:AT83)=0,"",SUM('Point Data'!AM83:AT83)) -> 14 | F82: =IF(SUM('Point Data'!AU83)=0,"",SUM('Point Data'!AU83)) -> 3 | G82: =IF(SUM('Point Data'!AV83:AZ83)=0,"",SUM('Point Data'!AV83:AZ83)) -> 5 | H82: =IF('Point Data'!BA83=0,"",'Point Data'!BA83) -> 31 | I82: =IF('Point Data'!BB83=0,"",'Point Data'!BB83) -> 47
A83: 78 | B83: ='Point Data'!B84 -> Rose-breasted Grosbeak (Pheucticus ludovicianus) | C83: ='Point Data'!C84 -> RBGR | D83: =IF(SUM('Point Data'!D84:AL84)=0,"",SUM('Point Data'!D84:AL84)) -> 7 | E83: =IF(SUM('Point Data'!AM84:AT84)=0,"",SUM('Point Data'!AM84:AT84)) -> 1 | F83: =IF(SUM('Point Data'!AU84)=0,"",SUM('Point Data'!AU84)) | G83: =IF(SUM('Point Data'!AV84:AZ84)=0,"",SUM('Point Data'!AV84:AZ84)) | H83: =IF('Point Data'!BA84=0,"",'Point Data'!BA84) -> 8 | I83: =IF('Point Data'!BB84=0,"",'Point Data'!BB84) -> 8
A84: 79 | B84: ='Point Data'!B85 -> Indigo Bunting (Passerina cyanea) | C84: ='Point Data'!C85 -> INBU | D84: =IF(SUM('Point Data'!D85:AL85)=0,"",SUM('Point Data'!D85:AL85)) -> 16 | E84: =IF(SUM('Point Data'!AM85:AT85)=0,"",SUM('Point Data'!AM85:AT85)) -> 3 | F84: =IF(SUM('Point Data'!AU85)=0,"",SUM('Point Data'!AU85)) | G84: =IF(SUM('Point Data'!AV85:AZ85)=0,"",SUM('Point Data'!AV85:AZ85)) -> 2 | H84: =IF('Point Data'!BA85=0,"",'Point Data'!BA85) -> 16 | I84: =IF('Point Data'!BB85=0,"",'Point Data'!BB85) -> 21
A85: 80 | B85: ='Point Data'!B86 -> Dickcissel (Spiza americana) | C85: ='Point Data'!C86 -> DICK | D85: =IF(SUM('Point Data'!D86:AL86)=0,"",SUM('Point Data'!D86:AL86)) | E85: =IF(SUM('Point Data'!AM86:AT86)=0,"",SUM('Point Data'!AM86:AT86)) | F85: =IF(SUM('Point Data'!AU86)=0,"",SUM('Point Data'!AU86)) | G85: =IF(SUM('Point Data'!AV86:AZ86)=0,"",SUM('Point Data'!AV86:AZ86)) | H85: =IF('Point Data'!BA86=0,"",'Point Data'!BA86) | I85: =IF('Point Data'!BB86=0,"",'Point Data'!BB86)
A86: 81 | B86: ='Point Data'!B87 -> Bobolink (Dolichonyx oryzivorus) | C86: ='Point Data'!C87 -> BOBO | D86: =IF(SUM('Point Data'!D87:AL87)=0,"",SUM('Point Data'!D87:AL87)) | E86: =IF(SUM('Point Data'!AM87:AT87)=0,"",SUM('Point Data'!AM87:AT87)) | F86: =IF(SUM('Point Data'!AU87)=0,"",SUM('Point Data'!AU87)) | G86: =IF(SUM('Point Data'!AV87:AZ87)=0,"",SUM('Point Data'!AV87:AZ87)) | H86: =IF('Point Data'!BA87=0,"",'Point Data'!BA87) | I86: =IF('Point Data'!BB87=0,"",'Point Data'!BB87)
A87: 82 | B87: ='Point Data'!B88 -> Red-winged Blackbird (Agelaius phoeniceus) | C87: ='Point Data'!C88 -> RWBB | D87: =IF(SUM('Point Data'!D88:AL88)=0,"",SUM('Point Data'!D88:AL88)) -> 51 | E87: =IF(SUM('Point Data'!AM88:AT88)=0,"",SUM('Point Data'!AM88:AT88)) -> 18 | F87: =IF(SUM('Point Data'!AU88)=0,"",SUM('Point Data'!AU88)) -> 8 | G87: =IF(SUM('Point Data'!AV88:AZ88)=0,"",SUM('Point Data'!AV88:AZ88)) -> 4 | H87: =IF('Point Data'!BA88=0,"",'Point Data'!BA88) -> 24 | I87: =IF('Point Data'!BB88=0,"",'Point Data'!BB88) -> 81 | K87: FL
A88: 83 | B88: ='Point Data'!B89 -> Eastern Meadowlark (Sturnella magna) | C88: ='Point Data'!C89 -> EAME | D88: =IF(SUM('Point Data'!D89:AL89)=0,"",SUM('Point Data'!D89:AL89)) -> 4 | E88: =IF(SUM('Point Data'!AM89:AT89)=0,"",SUM('Point Data'!AM89:AT89)) | F88: =IF(SUM('Point Data'!AU89)=0,"",SUM('Point Data'!AU89)) | G88: =IF(SUM('Point Data'!AV89:AZ89)=0,"",SUM('Point Data'!AV89:AZ89)) | H88: =IF('Point Data'!BA89=0,"",'Point Data'!BA89) -> 3 | I88: =IF('Point Data'!BB89=0,"",'Point Data'!BB89) -> 4
A89: 84 | B89: ='Point Data'!B90 -> Common Grackle (Quiscalus quiscula) | C89: ='Point Data'!C90 -> COGR | D89: =IF(SUM('Point Data'!D90:AL90)=0,"",SUM('Point Data'!D90:AL90)) -> 19 | E89: =IF(SUM('Point Data'!AM90:AT90)=0,"",SUM('Point Data'!AM90:AT90)) -> 13 | F89: =IF(SUM('Point Data'!AU90)=0,"",SUM('Point Data'!AU90)) -> 3 | G89: =IF(SUM('Point Data'!AV90:AZ90)=0,"",SUM('Point Data'!AV90:AZ90)) -> 5 | H89: =IF('Point Data'!BA90=0,"",'Point Data'!BA90) -> 25 | I89: =IF('Point Data'!BB90=0,"",'Point Data'!BB90) -> 40 | K89: CF
A90: 85 | B90: ='Point Data'!B91 -> Brown-headed Cowbird (Molothrus ater) | C90: ='Point Data'!C91 -> BHCO | D90: =IF(SUM('Point Data'!D91:AL91)=0,"",SUM('Point Data'!D91:AL91)) -> 10 | E90: =IF(SUM('Point Data'!AM91:AT91)=0,"",SUM('Point Data'!AM91:AT91)) -> 2 | F90: =IF(SUM('Point Data'!AU91)=0,"",SUM('Point Data'!AU91)) | G90: =IF(SUM('Point Data'!AV91:AZ91)=0,"",SUM('Point Data'!AV91:AZ91)) -> 2 | H90: =IF('Point Data'!BA91=0,"",'Point Data'!BA91) -> 12 | I90: =IF('Point Data'!BB91=0,"",'Point Data'!BB91) -> 14
A91: 86 | B91: ='Point Data'!B92 -> Orchard Oriole ((Icterus spurius) | C91: ='Point Data'!C92 -> OROR | D91: =IF(SUM('Point Data'!D92:AL92)=0,"",SUM('Point Data'!D92:AL92)) -> 3 | E91: =IF(SUM('Point Data'!AM92:AT92)=0,"",SUM('Point Data'!AM92:AT92)) -> 2 | F91: =IF(SUM('Point Data'!AU92)=0,"",SUM('Point Data'!AU92)) | G91: =IF(SUM('Point Data'!AV92:AZ92)=0,"",SUM('Point Data'!AV92:AZ92)) | H91: =IF('Point Data'!BA92=0,"",'Point Data'!BA92) -> 4 | I91: =IF('Point Data'!BB92=0,"",'Point Data'!BB92) -> 5
A92: 87 | B92: ='Point Data'!B93 -> Baltimore Oriole (Icterus galbula) | C92: ='Point Data'!C93 -> BAOR | D92: =IF(SUM('Point Data'!D93:AL93)=0,"",SUM('Point Data'!D93:AL93)) -> 15 | E92: =IF(SUM('Point Data'!AM93:AT93)=0,"",SUM('Point Data'!AM93:AT93)) -> 3 | F92: =IF(SUM('Point Data'!AU93)=0,"",SUM('Point Data'!AU93)) | G92: =IF(SUM('Point Data'!AV93:AZ93)=0,"",SUM('Point Data'!AV93:AZ93)) -> 2 | H92: =IF('Point Data'!BA93=0,"",'Point Data'!BA93) -> 16 | I92: =IF('Point Data'!BB93=0,"",'Point Data'!BB93) -> 20 | K92: CN
A93: 88 | B93: ='Point Data'!B94 -> House Finch (Carpodacus mexicanus) | C93: ='Point Data'!C94 -> HOFI | D93: =IF(SUM('Point Data'!D94:AL94)=0,"",SUM('Point Data'!D94:AL94)) -> 1 | E93: =IF(SUM('Point Data'!AM94:AT94)=0,"",SUM('Point Data'!AM94:AT94)) -> 3 | F93: =IF(SUM('Point Data'!AU94)=0,"",SUM('Point Data'!AU94)) | G93: =IF(SUM('Point Data'!AV94:AZ94)=0,"",SUM('Point Data'!AV94:AZ94)) -> 3 | H93: =IF('Point Data'!BA94=0,"",'Point Data'!BA94) -> 6 | I93: =IF('Point Data'!BB94=0,"",'Point Data'!BB94) -> 7
A94: 89 | B94: ='Point Data'!B95 -> American Goldfinch (Carduelis tristis) | C94: ='Point Data'!C95 -> AMGO | D94: =IF(SUM('Point Data'!D95:AL95)=0,"",SUM('Point Data'!D95:AL95)) -> 13 | E94: =IF(SUM('Point Data'!AM95:AT95)=0,"",SUM('Point Data'!AM95:AT95)) -> 10 | F94: =IF(SUM('Point Data'!AU95)=0,"",SUM('Point Data'!AU95)) | G94: =IF(SUM('Point Data'!AV95:AZ95)=0,"",SUM('Point Data'!AV95:AZ95)) -> 1 | H94: =IF('Point Data'!BA95=0,"",'Point Data'!BA95) -> 14 | I94: =IF('Point Data'!BB95=0,"",'Point Data'!BB95) -> 24
A95: 90 | B95: ='Point Data'!B96 -> House Sparrow (Passer domesticus) | C95: ='Point Data'!C96 -> HOSP | D95: =IF(SUM('Point Data'!D96:AL96)=0,"",SUM('Point Data'!D96:AL96)) | E95: =IF(SUM('Point Data'!AM96:AT96)=0,"",SUM('Point Data'!AM96:AT96)) -> 7 | F95: =IF(SUM('Point Data'!AU96)=0,"",SUM('Point Data'!AU96)) | G95: =IF(SUM('Point Data'!AV96:AZ96)=0,"",SUM('Point Data'!AV96:AZ96)) -> 5 | H95: =IF('Point Data'!BA96=0,"",'Point Data'!BA96) -> 5 | I95: =IF('Point Data'!BB96=0,"",'Point Data'!BB96) -> 12
H96: Total Individuals: | I96: =IF('Point Data'!BB97=0,"",'Point Data'!BB97) -> 987
H97: Total Species: | I97: =IF('Point Data'!BB98=0,"",'Point Data'!BB98) -> 77

Sheet Point Data
B1: 2016 Breeding Bird Survey | C1: Date: | D1: 42526 | E1: 42526 | F1: 42527 | G1: 42526 | H1: 42527 | I1: 42527 | J1: 42526 | K1: 42527 | L1: 42527 | M1: 42531 | N1: No DATA | O1: No DATA | P1: No DATA | Q1: 42531 | R1: 43626 | S1: No DATA | T1: No DATA | U1: No DATA | V1: No DATA | W1: No DATA | X1: No DATA | Y1: No DATA | Z1: No DATA | AA1: 42528 | AB1: 42528 | AC1: 42528 | AD1: 42528 | AE1: 42528 | AF1: 42529 | AG1: 42529 | AH1: 42529 | AI1: 42529 | AJ1: 42529 | AK1: 42529 | AL1: 42529 | AM1: 42534 | AN1: 42534 | AO1: 42534 | AP1: 42534 | AQ1: 42533 | AR1: 42533 | AS1: 42533 | AT1: 42533 | AU1: 42535 | AV1: 42534 | AW1: 42534 | AX1: 42535 | AY1: 42535 | AZ1: 42535 | BA1: Days | BB1: Hours
C2: Time: | D2: 0.25 | E2: 0.26388889 | F2: 0.23194444 | G2: 0.28402778 | H2: 0.26944444 | I2: 0.25277778 | J2: 0.3 | K2: 0.29027778 | L2: 0.30416667 | M2: 0.23263889 | Q2: 0.29097222 | R2: 0.30416667 | AA2: 0.22708333 | AB2: 0.24166667 | AC2: 0.25486111 | AD2: 0.30277778 | AE2: 0.28402778 | AF2: 0.23958333 | AG2: 0.25555556 | AH2: 0.26666667 | AI2: 0.28055556 | AJ2: 0.29652778 | AK2: 0.31111111 | AL2: 0.32361111 | AM2: 0.22222222 | AN2: 0.2375 | AO2: 0.24861111 | AP2: 0.26388889 | AQ2: 0.24791667 | AR2: 0.26041667 | AS2: 0.27013889 | AT2: 0.28472222 | AU2: 0.21041667 | AV2: 0.29097222 | AW2: 0.30625 | AX2: 0.22430556 | AY2: 0.23958333 | AZ2: 0.25277778 | BA2: 8 | BB2: ='GPS Coordinates'!F21 -> 38.565278
C3: Waypoint: | D3: ='GPS Coordinates'!A4 -> BWR-001 | E3: ='GPS Coordinates'!B4 -> BWR-002 | F3: ='GPS Coordinates'!C4 -> BWR-003 | G3: ='GPS Coordinates'!D4 -> BWR-004 | H3: ='GPS Coordinates'!E4 -> BWR-005 | I3: ='GPS Coordinates'!F4 -> BWR-006 | J3: ='GPS Coordinates'!G4 -> BWR-007 | K3: ='GPS Coordinates'!H4 -> BWR-008 | ... AZ3: ='GPS Coordinates'!AW4 -> Kiwanis-049 | BB3: No Data
B4: Sheboygan AOC | C4: GPS | D4: ='GPS Coordinates'!A7 -> 43.721389 | E4: ='GPS Coordinates'!B7 -> 43.721556 | F4: ='GPS Coordinates'!C7 -> 43.724861 | G4: ='GPS Coordinates'!D7 -> 43.7251 | H4: ='GPS Coordinates'!E7 -> 43.727278 | I4: ='GPS Coordinates'!F7 -> 43.727639 | J4: ='GPS Coordinates'!G7 -> 43.725333 | K4: ='GPS Coordinates'!H7 -> 43.724889 | ... AZ4: ='GPS Coordinates'!AW7 -> 43.752017 | BA4: Pts Complete | BB4: =COUNTIF(D1:AZ1,"=No Data") -> 11
C5: DM | D5: ='GPS Coordinates'!A8 -> -87.792278 | E5: ='GPS Coordinates'!B8 -> -87.796083 | F5: ='GPS Coordinates'!C8 -> -87.798333 | G5: ='GPS Coordinates'!D8 -> -87.793567 | H5: ='GPS Coordinates'!E8 -> -87.795778 | I5: ='GPS Coordinates'!F8 -> -87.792111 | J5: ='GPS Coordinates'!G8 -> -87.790417 | K5: ='GPS Coordinates'!H8 -> -87.786611 | ... AZ5: ='GPS Coordinates'!AW8 -> -87.72875 | BA5: =COUNTIF(D1:AZ1,">0") -> 38
B6: Species | C6: Point #: | D6: 1 | E6: 2 | F6: 3 | G6: 4 | H6: 5 | I6: 6 | J6: 7 | K6: 8 | L6: 9 | M6: 10 | N6: 11 | O6: 12 | P6: 13 | Q6: 14 | R6: 15 | S6: 16 | T6: 17 | U6: 18 | V6: 19 | W6: 20 | X6: 21 | Y6: 22 | Z6: 23 | AA6: 24 | AB6: 25 | AC6: 26 | AD6: 27 | AE6: 28 | AF6: 29 | AG6: 30 | AH6: 31 | AI6: 32 | AJ6: 33 | AK6: 34 | AL6: 35 | AM6: 36 | AN6: 37 | AO6: 38 | AP6: 39 | AQ6: 40 | AR6: 41 | AS6: 42 | AT6: 43 | AU6: 44 | AV6: 45 | AW6: 46 | AX6: 47 | AY6: 48 | AZ6: 49 | BA6: # Pts | BB6: Ind.
A7: 1 | B7: Canada Goose (Branta canadensis) | C7: CANG | H7: 10 | K7: 1 | AH7: 2 | AM7: 6 | AU7: 11 | AV7: 2 | BA7: =COUNTIF(D7:AZ7,">0") -> 6 | BB7: =SUM(D7:AZ7) -> 32
A8: 2 | B8: Wood Duck (Aix sponsa) | C8: WOOD | AM8: 1 | AU8: 2 | BA8: =COUNTIF(D8:AZ8,">0") -> 2 | BB8: =SUM(D8:AZ8) -> 3
A9: 3 | B9: Mallard (Anas platyrhynchos) | C9: MALL | AF9: 2 | AG9: 1 | AM9: 1 | AR9: 2 | AU9: 2 | BA9: =COUNTIF(D9:AZ9,">0") -> 5 | BB9: =SUM(D9:AZ9) -> 8
A10: 4 | B10: Wild Turkey (Meleagris gallopavo) | C10: WITU | D10: 1 | E10: 1 | F10: 1 | G10: 1 | BA10: =COUNTIF(D10:AZ10,">0") -> 4 | BB10: =SUM(D10:AZ10) -> 4
A11: 5 | B11: Great Blue Heron (Ardea herodias) | C11: GBHE | E11: 1 | AM11: 1 | AV11: 1 | BA11: =COUNTIF(D11:AZ11,">0") -> 3 | BB11: =SUM(D11:AZ11) -> 3
A12: 6 | B12: Great Egret (Ardea alba) | C12: GREG | BA12: =COUNTIF(D12:AZ12,">0") -> 0 | BB12: =SUM(D12:AZ12) -> 0
A13: 7 | B13: Green Heron (Butorides virescens) | C13: GRHE | AT13: 1 | BA13: =COUNTIF(D13:AZ13,">0") -> 1 | BB13: =SUM(D13:AZ13) -> 1
A14: 8 | B14: Bald Eagle (Haliaeetus leucocephalus) | C14: BAEA | BA14: =COUNTIF(D14:AZ14,">0") -> 0 | BB14: =SUM(D14:AZ14) -> 0
A15: 9 | B15: Red-tailed Hawk (Buteo jamaicensis) | C15: RTHA | J15: 1 | AC15: 1 | AI15: 2 | BA15: =COUNTIF(D15:AZ15,">0") -> 3 | BB15: =SUM(D15:AZ15) -> 4
A16: 10 | B16: American Kestrel (Falco sparverius) | C16: MAKE | BA16: =COUNTIF(D16:AZ16,">0") -> 0 | BB16: =SUM(D16:AZ16) -> 0
A17: 11 | B17: Sora (Porzana carolina) | C17: SORA | AM17: 1 | BA17: =COUNTIF(D17:AZ17,">0") -> 1 | BB17: =SUM(D17:AZ17) -> 1
A18: 11 | B18: Sandhill Crane (Grus canadensis) | C18: SACR | AC18: 1 | BA18: =COUNTIF(D18:AZ18,">0") -> 1 | BB18: =SUM(D18:AZ18) -> 1
A19: 12 | B19: Killdeer (Charadrius vociferus) | C19: KILL | K19: 1 | AA19: 1 | AF19: 1 | AM19: 1 | AU19: 2 | AW19: 1 | AX19: 1 | BA19: =COUNTIF(D19:AZ19,">0") -> 7 | BB19: =SUM(D19:AZ19) -> 8
A20: 13 | B20: Spotted Sandpiper (Actitis macularia) | C20: SPSA | AQ20: 2 | AU20: 1 | AW20: 1 | BA20: =COUNTIF(D20:AZ20,">0") -> 3 | BB20: =SUM(D20:AZ20) -> 4
A21: 14 | B21: American Woodcock (Scolopax minor) | C21: AMWO | E21: 1 | BA21: =COUNTIF(D21:AZ21,">0") -> 1 | BB21: =SUM(D21:AZ21) -> 1
A22: 15 | B22: Ring-billed Gull (Larus delawarensis) | C22: RBGU | H22: 1 | AF22: 1 | AS22: 1 | AU22: 2 | AV22: 1 | AW22: 2 | AX22: 75 | AZ22: 1 | BA22: =COUNTIF(D22:AZ22,">0") -> 8 | BB22: =SUM(D22:AZ22) -> 84
A23: 16 | B23: Rock Pigeon (Columba livia) | C23: ROPI | BA23: =COUNTIF(D23:AZ23,">0") -> 0 | BB23: =SUM(D23:AZ23) -> 0
A24: 17 | B24: Mourning Dove (Zenaida macroura) | C24: MODO | F24: 1 | G24: 1 | AF24: 1 | AJ24: 1 | AX24: 1 | AZ24: 1 | BA24: =COUNTIF(D24:AZ24,">0") -> 6 | BB24: =SUM(D24:AZ24) -> 6
A25: 18 | B25: Black-billed Cuckoo (Coccyzus erythropthalmus) | C25: BBCU | AS25: 1 | BA25: =COUNTIF(D25:AZ25,">0") -> 1 | BB25: =SUM(D25:AZ25) -> 1
A26: 19 | B26: Yellow-billed Cuckoo (Coccyzus americanus) | C26: YBCU | D26: 1 | E26: 2 | H26: 1 | M26: 1 | AK26: 1 | AZ26: 1 | BA26: =COUNTIF(D26:AZ26,">0") -> 6 | BB26: =SUM(D26:AZ26) -> 7
A27: 20 | B27: Great Horned Owl (Bubo virginianus) | C27: GHOW | BA27: =COUNTIF(D27:AZ27,">0") -> 0 | BB27: =SUM(D27:AZ27) -> 0
A28: 21 | B28: Barred Owl (Strix varia) | C28: GHOW | G28: 1 | BA28: =COUNTIF(D28:AZ28,">0") -> 1 | BB28: =SUM(D28:AZ28) -> 1
A29: 21 | B29: Chimney Swift (Chaetura pelagica) | C29: CHSW | AW29: 2 | AX29: 4 | BA29: =COUNTIF(D29:AZ29,">0") -> 2 | BB29: =SUM(D29:AZ29) -> 6
A30: 22 | B30: Ruby-throated Hummingbird (Archilochus colubris) | C30: RTHU | AA30: 1 | BA30: =COUNTIF(D30:AZ30,">0") -> 1 | BB30: =SUM(D30:AZ30) -> 1
A31: 23 | B31: Belted Kingfisher (Ceryle alcyon) | C31: BEKI | R31: 1 | AJ31: 1 | AM31: 1 | AP31: 1 | AQ31: 1 | AR31: 1 | AS31: 1 | AT31: 1 | AU31: 1 | AV31: 1 | BA31: =COUNTIF(D31:AZ31,">0") -> 10 | BB31: =SUM(D31:AZ31) -> 10
A32: 24 | B32: Red-bellied Woodpecker (Melanerpes carolinus) | C32: RBWO | G32: 1 | H32: 2 | I32: 1 | AA32: 1 | AC32: 1 | AE32: 1 | AI32: 1 | AJ32: 2 | AK32: 1 | AT32: 1 | AZ32: 1 | BA32: =COUNTIF(D32:AZ32,">0") -> 11 | BB32: =SUM(D32:AZ32) -> 13
A33: 25 | B33: Downy Woodpecker (Picoides pubescens) | C33: DOWO | F33: 1 | Q33: 1 | AB33: 1 | AC33: 1 | AE33: 1 | AK33: 1 | AN33: 1 | AO33: 1 | AP33: 1 | AQ33: 1 | AS33: 1 | AT33: 1 | AU33: 1 | AW33: 2 | AX33: 1 | AY33: 1 | BA33: =COUNTIF(D33:AZ33,">0") -> 16 | BB33: =SUM(D33:AZ33) -> 17
A34: 26 | B34: Hairy Woodpecker (Picoides villosus) | C34: HAWO | AC34: 1 | BA34: =COUNTIF(D34:AZ34,">0") -> 1 | BB34: =SUM(D34:AZ34) -> 1
A35: 27 | B35: Northern Flicker (Colaptes auratus) | C35: NOFL | AI35: 1 | AN35: 1 | BA35: =COUNTIF(D35:AZ35,">0") -> 2 | BB35: =SUM(D35:AZ35) -> 2
A36: 28 | B36: Pileated Woodpecker (Dryocopus pileatus) | C36: PIWO | E36: 1 | R36: 1 | BA36: =COUNTIF(D36:AZ36,">0") -> 2 | BB36: =SUM(D36:AZ36) -> 2
A37: 28 | B37: Eastern Wood-Pewee (Contopus virens) | C37: EAWP | F37: 2 | G37: 2 | H37: 2 | I37: 1 | K37: 1 | M37: 2 | AA37: 1 | AB37: 1 | AC37: 2 | AE37: 2 | AH37: 1 | AJ37: 2 | AL37: 1 | AO37: 1 | AZ37: 1 | BA37: =COUNTIF(D37:AZ37,">0") -> 15 | BB37: =SUM(D37:AZ37) -> 22
A38: 29 | B38: Alder Flycatcher (Empidonax alnorum) | C38: ALFL | AK38: 2 | BA38: =COUNTIF(D38:AZ38,">0") -> 1 | BB38: =SUM(D38:AZ38) -> 2
A39: 30 | B39: Willow Flycatcher (Empidonax traillii) | C39: WIFL | D39: 2 | L39: 2 | BA39: =COUNTIF(D39:AZ39,">0") -> 2 | BB39: =SUM(D39:AZ39) -> 4
A40: 31 | B40: Least Flycatcher (Empidonax minimus) | C40: LEFL | BA40: =COUNTIF(D40:AZ40,">0") -> 0 | BB40: =SUM(D40:AZ40) -> 0
A41: 32 | B41: Eastern Phoebe (Sayornis phoebe) | C41: EAPH | AU41: 1 | AW41: 1 | BA41: =COUNTIF(D41:AZ41,">0") -> 2 | BB41: =SUM(D41:AZ41) -> 2
A42: 33 | B42: Great Crested Flycatcher (Myiarchus crinitus) | C42: GCFL | E42: 1 | F42: 1 | H42: 1 | K42: 1 | R42: 1 | AA42: 2 | AB42: 1 | AC42: 1 | AD42: 2 | AH42: 1 | AJ42: 1 | AL42: 1 | AO42: 1 | AP42: 1 | AQ42: 1 | AR42: 2 | AS42: 1 | AU42: 1 | AV42: 1 | AX42: 1 | AY42: 2 | BA42: =COUNTIF(D42:AZ42,">0") -> 21 | BB42: =SUM(D42:AZ42) -> 25
A43: 34 | B43: Eastern Kingbird (Tyrannus tyrannus) | C43: EAKI | AF43: 1 | AO43: 1 | BA43: =COUNTIF(D43:AZ43,">0") -> 2 | BB43: =SUM(D43:AZ43) -> 2
A44: 35 | B44: Yellow-throated Vireo (Vireo flavifrons) | C44: YTVI | AA44: 1 | AC44: 1 | BA44: =COUNTIF(D44:AZ44,">0") -> 2 | BB44: =SUM(D44:AZ44) -> 2
A45: 36 | B45: Warbling Vireo (Vireo gilvus) | C45: WAVI | Q45: 1 | AA45: 1 | AH45: 1 | AI45: 1 | AJ45: 1 | AK45: 1 | AM45: 2 | AN45: 1 | AQ45: 2 | AU45: 1 | AV45: 1 | AX45: 1 | BA45: =COUNTIF(D45:AZ45,">0") -> 12 | BB45: =SUM(D45:AZ45) -> 14
A46: 37 | B46: Red-eyed Vireo (Vireo olivaceus) | C46: REVI | F46: 1 | I46: 1 | J46: 1 | K46: 2 | M46: 4 | Q46: 1 | R46: 1 | AA46: 2 | AB46: 1 | AC46: 2 | AD46: 2 | AE46: 1 | AH46: 1 | AL46: 1 | AO46: 1 | AP46: 1 | AR46: 1 | AU46: 1 | AV46: 1 | AW46: 1 | AY46: 1 | AZ46: 1 | BA46: =COUNTIF(D46:AZ46,">0") -> 22 | BB46: =SUM(D46:AZ46) -> 29
A47: 38 | B47: Blue Jay (Cyanocitta cristata) | C47: BLJA | D47: 2 | E47: 1 | F47: 2 | G47: 2 | H47: 1 | I47: 1 | J47: 2 | K47: 1 | L47: 1 | Q47: 1 | AA47: 1 | AB47: 2 | AC47: 2 | AD47: 1 | AE47: 2 | AF47: 1 | AI47: 1 | AK47: 1 | AP47: 1 | AQ47: 1 | AS47: 1 | AU47: 1 | AV47: 1 | AW47: 2 | AZ47: 1 | BA47: =COUNTIF(D47:AZ47,">0") -> 25 | BB47: =SUM(D47:AZ47) -> 33
A48: 39 | B48: American Crow (Corvus brachyrhynchos) | C48: AMCR | D48: 4 | E48: 1 | F48: 1 | G48: 2 | I48: 1 | J48: 2 | K48: 1 | AF48: 3 | AG48: 1 | AM48: 1 | AP48: 1 | AQ48: 1 | AT48: 1 | AU48: 3 | AV48: 1 | AW48: 2 | AX48: 1 | AY48: 4 | AZ48: 2 | BA48: =COUNTIF(D48:AZ48,">0") -> 19 | BB48: =SUM(D48:AZ48) -> 33
A49: 40 | B49: Tree Swallow (Tachycineta bicolor) | C49: TRES | AG49: 1 | AH49: 1 | AI49: 4 | AM49: 2 | AQ49: 1 | BA49: =COUNTIF(D49:AZ49,">0") -> 5 | BB49: =SUM(D49:AZ49) -> 9
A50: 41 | B50: No. Rough-w. Swallow (Stelgidopteryx serripennis) | C50: NRWS | AH50: 1 | AQ50: 1 | AU50: 1 | BA50: =COUNTIF(D50:AZ50,">0") -> 3 | BB50: =SUM(D50:AZ50) -> 3
A51: 42 | B51: Bank Swallow (Riparia riparia) | C51: BANS | AG51: 25 | AK51: 1 | AQ51: 1 | AR51: 1 | BA51: =COUNTIF(D51:AZ51,">0") -> 4 | BB51: =SUM(D51:AZ51) -> 28
A52: 43 | B52: Cliff Swallow (Petrochelidon pyrrhonota) | C52: CLSW | BA52: =COUNTIF(D52:AZ52,">0") -> 0 | BB52: =SUM(D52:AZ52) -> 0
A53: 44 | B53: Barn Swallow (Hirundo rustica) | C53: BARS | D53: 1 | AG53: 1 | AM53: 1 | BA53: =COUNTIF(D53:AZ53,">0") -> 3 | BB53: =SUM(D53:AZ53) -> 3
A54: 45 | B54: Black-capped Chickadee (Poecile atricapillus) | C54: BCCH | F54: 1 | G54: 1 | I54: 1 | AN54: 2 | AS54: 1 | AT54: 1 | AY54: 1 | AZ54: 1 | BA54: =COUNTIF(D54:AZ54,">0") -> 8 | BB54: =SUM(D54:AZ54) -> 9
A55: 46 | B55: White-breasted Nuthatch (Sitta carolinensis) | C55: WBNU | F55: 1 | H55: 1 | I55: 1 | K55: 1 | AC55: 1 | AE55: 1 | AL55: 1 | AN55: 1 | AS55: 1 | AZ55: 1 | BA55: =COUNTIF(D55:AZ55,">0") -> 10 | BB55: =SUM(D55:AZ55) -> 10
A56: 47 | B56: House Wren (Troglodytes aedon) | C56: HOWR | E56: 1 | G56: 1 | H56: 2 | Q56: 2 | R56: 1 | AC56: 1 | AD56: 1 | AE56: 2 | AF56: 1 | AG56: 1 | AJ56: 3 | AK56: 2 | AL56: 1 | AN56: 2 | AO56: 1 | AP56: 2 | AR56: 2 | AS56: 2 | AU56: 1 | AV56: 1 | AX56: 1 | AZ56: 1 | BA56: =COUNTIF(D56:AZ56,">0") -> 22 | BB56: =SUM(D56:AZ56) -> 32
A57: 48 | B57: Blue-gray Gnatcatcher (Polioptila caerulea) | C57: BGGN | E57: 1 | M57: 1 | AP57: 1 | BA57: =COUNTIF(D57:AZ57,">0") -> 3 | BB57: =SUM(D57:AZ57) -> 3
A58: 49 | B58: Eastern Bluebird (Sialia sialis) | C58: EABL | AH58: 1 | BA58: =COUNTIF(D58:AZ58,">0") -> 1 | BB58: =SUM(D58:AZ58) -> 1
A59: 50 | B59: Swainson's Thrush (Catharus ustulatus) | C59: SWTH | AF59: 1 | BA59: =COUNTIF(D59:AZ59,">0") -> 1 | BB59: =SUM(D59:AZ59) -> 1
A60: 50 | B60: Veery (Catharus fuscescens) | C60: VEER | BA60: =COUNTIF(D60:AZ60,">0") -> 0 | BB60: =SUM(D60:AZ60) -> 0
A61: 51 | B61: Wood Thrush (Hylocichla mustelina) | C61: WOTH | M61: 2 | AA61: 1 | BA61: =COUNTIF(D61:AZ61,">0") -> 2 | BB61: =SUM(D61:AZ61) -> 3
A62: 52 | B62: American Robin (Turdus migratorius) | C62: AMRO | F62: 1 | H62: 1 | I62: 2 | J62: 2 | Q62: 1 | R62: 1 | AA62: 1 | AC62: 3 | AD62: 1 | AE62: 2 | AF62: 2 | AH62: 3 | AJ62: 1 | AL62: 3 | AM62: 2 | AN62: 1 | AO62: 2 | AP62: 2 | AR62: 2 | AS62: 2 | AT62: 2 | AU62: 3 | AV62: 1 | AW62: 4 | AX62: 2 | AY62: 2 | AZ62: 2 | BA62: =COUNTIF(D62:AZ62,">0") -> 27 | BB62: =SUM(D62:AZ62) -> 51
A63: 53 | B63: Gray Catbird (Dumetella carolinensis) | C63: GRCA | E63: 1 | H63: 2 | I63: 2 | M63: 1 | Q63: 2 | R63: 1 | AD63: 1 | AE63: 1 | AF63: 1 | AH63: 1 | AJ63: 1 | AK63: 1 | AN63: 2 | AV63: 1 | BA63: =COUNTIF(D63:AZ63,">0") -> 14 | BB63: =SUM(D63:AZ63) -> 18
A64: 54 | B64: Brown Thrasher (Toxostoma rufum) | C64: BRTH | BA64: =COUNTIF(D64:AZ64,">0") -> 0 | BB64: =SUM(D64:AZ64) -> 0
A65: 55 | B65: European Starling (Sturnus vulgaris) | C65: EUST | AF65: 1 | AP65: 1 | AW65: 4 | AZ65: 3 | BA65: =COUNTIF(D65:AZ65,">0") -> 4 | BB65: =SUM(D65:AZ65) -> 9
A66: 56 | B66: Cedar Waxwing (Bombycilla cedrorum) | C66: CEDW | D66: 1 | AB66: 1 | AH66: 2 | AM66: 2 | AO66: 2 | AX66: 2 | BA66: =COUNTIF(D66:AZ66,">0") -> 6 | BB66: =SUM(D66:AZ66) -> 10
A67: 57 | B67: Blue-winged Warbler (Vermivora pinus) | C67: BWWA | AF67: 1 | AH67: 1 | AK67: 1 | BA67: =COUNTIF(D67:AZ67,">0") -> 3 | BB67: =SUM(D67:AZ67) -> 3
A68: 58 | B68: Golden-winged Warbler (Vermivora chrysoptera) | C68: GWWA | BA68: =COUNTIF(D68:AZ68,">0") -> 0 | BB68: =SUM(D68:AZ68) -> 0
A69: 59 | B69: Yellow Warbler (Dendroica petechia) | C69: YEWA | D69: 3 | E69: 1 | H69: 2 | L69: 1 | AD69: 1 | AF69: 1 | AG69: 1 | AH69: 2 | AI69: 1 | AO69: 1 | AU69: 1 | BA69: =COUNTIF(D69:AZ69,">0") -> 11 | BB69: =SUM(D69:AZ69) -> 15
A70: 60 | B70: Chestnut-sided Warbler (Dendroica pensylvanica) | C70: CSWA | J70: 1 | L70: 1 | BA70: =COUNTIF(D70:AZ70,">0") -> 2 | BB70: =SUM(D70:AZ70) -> 2
A71: 61 | B71: American Redstart (Setophaga ruticilla) | C71: AMRE | J71: 1 | M71: 1 | AF71: 1 | AJ71: 3 | AL71: 1 | AO71: 2 | AV71: 1 | AY71: 1 | AZ71: 1 | BA71: =COUNTIF(D71:AZ71,">0") -> 9 | BB71: =SUM(D71:AZ71) -> 12
A72: 62 | B72: Ovenbird (Seiurus aurocapilla) | C72: OVEN | H72: 1 | BA72: =COUNTIF(D72:AZ72,">0") -> 1 | BB72: =SUM(D72:AZ72) -> 1
A73: 63 | B73: Mourning Warbler (Oporornis philadelphia) | C73: MOWA | F73: 1 | AN73: 1 | BA73: =COUNTIF(D73:AZ73,">0") -> 2 | BB73: =SUM(D73:AZ73) -> 2
A74: 64 | B74: Common Yellowthroat (Geothlypis trichas) | C74: COYE | D74: 3 | E74: 2 | F74: 1 | H74: 1 | K74: 2 | L74: 2 | AD74: 1 | AG74: 1 | AH74: 1 | AI74: 2 | AJ74: 1 | BA74: =COUNTIF(D74:AZ74,">0") -> 11 | BB74: =SUM(D74:AZ74) -> 17
A75: 65 | B75: Scarlet Tanager (Piranga olivacea) | C75: SCTA | J75: 2 | K75: 1 | AH75: 1 | AT75: 1 | BA75: =COUNTIF(D75:AZ75,">0") -> 4 | BB75: =SUM(D75:AZ75) -> 5
A76: 66 | B76: Eastern Towhee (Pipilo erythrophthalmus) | C76: EATO | F76: 1 | G76: 1 | J76: 1 | L76: 1 | BA76: =COUNTIF(D76:AZ76,">0") -> 4 | BB76: =SUM(D76:AZ76) -> 4
A77: 67 | B77: Chipping Sparrow (Spizella passerina) | C77: CHSP | K77: 1 | AA77: 1 | AD77: 1 | BA77: =COUNTIF(D77:AZ77,">0") -> 3 | BB77: =SUM(D77:AZ77) -> 3
A78: 68 | B78: Clay-colored Sparrow (Spizella pallida) | C78: CCSP | D78: 1 | E78: 2 | L78: 1 | AI78: 1 | AK78: 1 | BA78: =COUNTIF(D78:AZ78,">0") -> 5 | BB78: =SUM(D78:AZ78) -> 6
A79: 69 | B79: Field Sparrow (Spizella pusilla) | C79: FISP | E79: 1 | J79: 1 | BA79: =COUNTIF(D79:AZ79,">0") -> 2 | BB79: =SUM(D79:AZ79) -> 2
A80: 70 | B80: Savannah Sparrow (Passerculus sandwichensis) | C80: SASP | AG80: 2 | BA80: =COUNTIF(D80:AZ80,">0") -> 1 | BB80: =SUM(D80:AZ80) -> 2
A81: 71 | B81: Song Sparrow (Melospiza melodia) | C81: SOSP | D81: 3 | E81: 3 | G81: 1 | H81: 1 | I81: 1 | J81: 1 | K81: 2 | L81: 1 | Q81: 1 | R81: 2 | AA81: 1 | AB81: 1 | AD81: 1 | AE81: 3 | AF81: 3 | AG81: 3 | AH81: 2 | AI81: 1 | AJ81: 2 | AK81: 3 | AM81: 2 | AN81: 2 | AO81: 1 | AS81: 1 | AT81: 3 | AU81: 3 | AW81: 1 | AX81: 1 | AY81: 1 | BA81: =COUNTIF(D81:AZ81,">0") -> 29 | BB81: =SUM(D81:AZ81) -> 51
A82: 72 | B82: Swamp Sparrow (Melospiza georgiana) | C82: SWSP | BA82: =COUNTIF(D82:AZ82,">0") -> 0 | BB82: =SUM(D82:AZ82) -> 0
A83: 73 | B83: Northern Cardinal (Cardinalis cardinalis) | C83: NOCA | E83: 1 | F83: 2 | H83: 2 | I83: 2 | K83: 1 | M83: 1 | Q83: 1 | R83: 1 | AA83: 2 | AB83: 2 | AC83: 1 | AD83: 2 | AE83: 1 | AF83: 2 | AJ83: 1 | AK83: 1 | AL83: 2 | AM83: 1 | AN83: 1 | AO83: 2 | AP83: 2 | AQ83: 2 | AR83: 2 | AS83: 3 | AT83: 1 | AU83: 3 | AV83: 1 | AW83: 1 | AX83: 1 | AY83: 1 | AZ83: 1 | BA83: =COUNTIF(D83:AZ83,">0") -> 31 | BB83: =SUM(D83:AZ83) -> 47
A84: 74 | B84: Rose-breasted Grosbeak (Pheucticus ludovicianus) | C84: RBGR | F84: 1 | L84: 1 | AC84: 1 | AE84: 1 | AF84: 1 | AH84: 1 | AL84: 1 | AS84: 1 | BA84: =COUNTIF(D84:AZ84,">0") -> 8 | BB84: =SUM(D84:AZ84) -> 8
A85: 75 | B85: Indigo Bunting (Passerina cyanea) | C85: INBU | E85: 1 | F85: 1 | J85: 1 | K85: 2 | AB85: 1 | AD85: 2 | AF85: 2 | AH85: 1 | AI85: 2 | AK85: 1 | AL85: 2 | AN85: 1 | AO85: 1 | AS85: 1 | AY85: 1 | AZ85: 1 | BA85: =COUNTIF(D85:AZ85,">0") -> 16 | BB85: =SUM(D85:AZ85) -> 21
A86: 76 | B86: Dickcissel (Spiza americana) | C86: DICK | BA86: =COUNTIF(D86:AZ86,">0") -> 0 | BB86: =SUM(D86:AZ86) -> 0
A87: 77 | B87: Bobolink (Dolichonyx oryzivorus) | C87: BOBO | BA87: =COUNTIF(D87:AZ87,">0") -> 0 | BB87: =SUM(D87:AZ87) -> 0
A88: 78 | B88: Red-winged Blackbird (Agelaius phoeniceus) | C88: RWBB | D88: 3 | E88: 4 | F88: 1 | I88: 1 | K88: 1 | L88: 12 | Q88: 2 | R88: 1 | AA88: 3 | AB88: 2 | AF88: 8 | AG88: 2 | AH88: 3 | AI88: 5 | AJ88: 1 | AK88: 1 | AL88: 1 | AM88: 10 | AN88: 3 | AQ88: 3 | AT88: 2 | AU88: 8 | AV88: 2 | AX88: 2 | BA88: =COUNTIF(D88:AZ88,">0") -> 24 | BB88: =SUM(D88:AZ88) -> 81
A89: 79 | B89: Eastern Meadowlark (Sturnella magna) | C89: EAME | L89: 1 | AF89: 1 | AG89: 2 | BA89: =COUNTIF(D89:AZ89,">0") -> 3 | BB89: =SUM(D89:AZ89) -> 4
A90: 80 | B90: Common Grackle (Quiscalus quiscula) | C90: COGR | E90: 1 | F90: 1 | I90: 1 | J90: 1 | L90: 2 | AA90: 1 | AB90: 1 | AD90: 1 | AE90: 1 | AF90: 2 | AI90: 1 | AJ90: 4 | AK90: 1 | AL90: 1 | AM90: 2 | AN90: 3 | AQ90: 3 | AR90: 2 | AS90: 2 | AT90: 1 | AU90: 3 | AV90: 1 | AX90: 2 | AY90: 1 | AZ90: 1 | BA90: =COUNTIF(D90:AZ90,">0") -> 25 | BB90: =SUM(D90:AZ90) -> 40
A91: 81 | B91: Brown-headed Cowbird (Molothrus ater) | C91: BHCO | D91: 2 | E91: 1 | H91: 1 | I91: 1 | L91: 1 | AE91: 1 | AF91: 1 | AI91: 1 | AJ91: 1 | AN91: 2 | AV91: 1 | AX91: 1 | BA91: =COUNTIF(D91:AZ91,">0") -> 12 | BB91: =SUM(D91:AZ91) -> 14
A92: 82 | B92: Orchard Oriole ((Icterus spurius) | C92: OROR | AH92: 1 | AI92: 1 | AK92: 1 | AM92: 2 | BA92: =COUNTIF(D92:AZ92,">0") -> 4 | BB92: =SUM(D92:AZ92) -> 5
A93: 83 | B93: Baltimore Oriole (Icterus galbula) | C93: BAOR | H93: 3 | I93: 1 | J93: 1 | L93: 1 | Q93: 1 | R93: 2 | AH93: 1 | AI93: 1 | AJ93: 1 | AK93: 1 | AL93: 2 | AN93: 1 | AQ93: 1 | AR93: 1 | AX93: 1 | AY93: 1 | BA93: =COUNTIF(D93:AZ93,">0") -> 16 | BB93: =SUM(D93:AZ93) -> 20
A94: 84 | B94: House Finch (Carpodacus mexicanus) | C94: HOFI | AI94: 1 | AQ94: 1 | AR94: 1 | AT94: 1 | AV94: 2 | AW94: 1 | BA94: =COUNTIF(D94:AZ94,">0") -> 6 | BB94: =SUM(D94:AZ94) -> 7
A95: 85 | B95: American Goldfinch (Carduelis tristis) | C95: AMGO | D95: 2 | E95: 2 | I95: 1 | J95: 1 | L95: 2 | AE95: 1 | AG95: 2 | AK95: 2 | AN95: 2 | AO95: 2 | AP95: 3 | AQ95: 2 | AT95: 1 | AY95: 1 | BA95: =COUNTIF(D95:AZ95,">0") -> 14 | BB95: =SUM(D95:AZ95) -> 24
A96: 86 | B96: House Sparrow (Passer domesticus) | C96: HOSP | AM96: 1 | AQ96: 1 | AS96: 5 | AV96: 3 | AW96: 2 | BA96: =COUNTIF(D96:AZ96,">0") -> 5 | BB96: =SUM(D96:AZ96) -> 12
B97: Total Individuals: | D97: =SUM(D7:D96) -> 29 | E97: =SUM(E7:E96) -> 31 | F97: =SUM(F7:F96) -> 22 | G97: =SUM(G7:G96) -> 14 | H97: =SUM(H7:H96) -> 35 | I97: =SUM(I7:I96) -> 19 | J97: =SUM(J7:J96) -> 19 | K97: =SUM(K7:K96) -> 19 | ... AZ97: =SUM(AZ7:AZ96) -> 21 | BB97: =SUM(BB7:BB96) -> 987
B98: Total Species: | D98: =COUNT(D7:D96) -> 14 | E98: =COUNT(E7:E96) -> 22 | F98: =COUNT(F7:F96) -> 19 | G98: =COUNT(G7:G96) -> 11 | H98: =COUNT(H7:H96) -> 18 | I98: =COUNT(I7:I96) -> 16 | J98: =COUNT(J7:J96) -> 15 | K98: =COUNT(K7:K96) -> 15 | ... AZ98: =COUNT(AZ7:AZ96) -> 17 | BB98: =COUNTIF(BB7:BB96,">0") -> 77
AQ99: Kayak | AR99: Kayak | AS99: Kayak | AT99: Kayak

Sheet GPS Coordinates
A2: 42526 | B2: 42526 | C2: 42527 | D2: 42526 | E2: 42527 | F2: 42527 | G2: 42526 | H2: 42527 | I2: 42527 | J2: 42531 | K2: No DATA | L2: No DATA | M2: No DATA | N2: 42531 | O2: 42531 | P2: No DATA | Q2: No DATA | R2: No DATA | S2: No DATA | T2: No DATA | U2: No DATA | V2: No DATA | W2: No DATA | X2: 42528 | Y2: 42528 | Z2: 42528 | AA2: 42528 | AB2: 42528 | AC2: 42529 | AD2: 42529 | AE2: 42529 | AF2: 42529 | AG2: 42529 | AH2: 42529 | AI2: 42529 | AJ2: 42534 | AK2: 42534 | AL2: 42534 | AM2: 42534 | AN2: 42533 | AO2: 42533 | AP2: 42533 | AQ2: 42533 | AR2: 42535 | AS2: 42534 | AT2: 42534 | AU2: 42535 | AV2: 42535 | AW2: 42535
A3: 0.25 | B3: 0.26388889 | C3: 0.23194444 | D3: 0.28402778 | E3: 0.26944444 | F3: 0.25277778 | G3: 0.3 | H3: 0.29027778 | I3: 0.30416667 | J3: 0.23263889 | N3: 0.29097222 | O3: 0.30416667 | X3: 0.22708333 | Y3: 0.24166667 | Z3: 0.25486111 | AA3: 0.30277778 | AB3: 0.28402778 | AC3: 0.23958333 | AD3: 0.25555556 | AE3: 0.26666667 | AF3: 0.28055556 | AG3: 0.29652778 | AH3: 0.31111111 | AI3: 0.32361111 | AJ3: 0.22222222 | AK3: 0.2375 | AL3: 0.24861111 | AM3: 0.26388889 | AN3: 0.24791667 | AO3: 0.26041667 | AP3: 0.27013889 | AQ3: 0.28472222 | AR3: 0.21041667 | AS3: 0.29097222 | AT3: 0.30625 | AU3: 0.22430556 | AV3: 0.23958333 | AW3: 0.25277778
A4: BWR-001 | B4: BWR-002 | C4: BWR-003 | D4: BWR-004 | E4: BWR-005 | F4: BWR-006 | G4: BWR-007 | H4: BWR-008 | I4: BWR-009 | J4: BWR-010 | K4: BWR-011 | L4: BWR-012 | M4: BWR-013 | N4: BWR-014 | O4: BWR-015 | P4: BWR-016 | Q4: BWR-017 | R4: BWR-018 | S4: BWR-019 | T4: BWR-020 | U4: BWR-021 | V4: BWR-022 | W4: BWR-023 | X4: AOC-024 | Y4: AOC-025 | Z4: AOC-026 | AA4: AOC-027 | AB4: AOC-028 | AC4: AOC-029 | AD4: AOC-030 | AE4: AOC-031 | AF4: AOC-032 | AG4: AOC-033 | AH4: AOC-034 | AI4: AOC-035 | AJ4: Taylor-036 | AK4: Taylor-037 | AL4: Taylor-038 | AM4: Taylor-039 | AN4: Taylor-040 | AO4: Taylor-041 | AP4: Taylor-042 | AQ4: Taylor-043 | AR4: Wildwood-044 | AS4: Kiwanis-045 | AT4: Kiwanis-046 | AU4: Kiwanis-047 | AV4: Kiwanis-048 | AW4: Kiwanis-049
A5: N 43 43.2833333333333 | B5: N 43 43.2933333333333 | C5: N 43 43.4916666666667 | D5: N 43 43.506 | E5: N 43 43.6366666666667 | F5: N 43 43.6583333333333 | G5: N 43 43.52 | H5: N 43 43.4933333333333 | I5: N 43 43.3816666666667 | J5: N 43 43.6333333333333 | K5: N 43 43.74 | L5: N 43 44.058 | M5: N 43 43.8783333333333 | N5: N 43 43.8433333333333 | O5: N 43 43.7433333333333 | P5: N 43 43.6483333333333 | Q5: N 43 43.5833333333333 | R5: N 43 44.218 | S5: N 43 44.0583333333333 | T5: N 43 43.9216666666667 | U5: N 43 43.8033333333333 | V5: N 43 43.865 | W5: N 43 43.7166666666667 | X5: N 43 43.18 | Y5: N 43 43.3033333333333 | Z5: N 43 43.434 | AA5: N 43 43.557 | AB5: N 43 43.689 | AC5: N 43 44.24 | AD5: N 43 44.3366666666667 | AE5: N 43 44.3766666666667 | AF5: N 43 44.03 | AG5: N 43 44.03 | AH5: N 43 43.9816666666667 | AI5: N 43 44.13 | AJ5: N 43 44.401 | AK5: N 43 44.465 | AL5: N 43 44.466 | AM5: N 43 44.44 | AN5: N 43 44.455 | AO5: N 43 44.488 | AP5: N 43 44.565 | AQ5: N 43 44.581 | AR5: N 43 44.669 | AS5: N 43 44.882 | AT5: N 43 45.045 | AU5: N 43 45.268 | AV5: N 43 44.968 | AW5: N 43 45.121
A6: W 87 47.5366666666667 | B6: W 87 47.765 | C6: W 87 47.9 | D6: W 87 47.614 | E6: W 87 47.7466666666667 | F6: W 87 47.5266666666667 | G6: W 87 47.425 | H6: W 87 47.1966666666667 | I6: W 87 47.415 | J6: W 87 46.67 | K6: W 87 46.8583333333333 | L6: W 87 46.895 | M6: W 87 47 | N6: W 87 47.37 | O6: W 87 47.2916666666667 | P6: W 87 47.1083333333333 | Q6: W 87 46.8866666666667 | R6: W 87 46.495 | S6: W 87 46.5333333333333 | T6: W 87 46.5716666666667 | U6: W 87 46.4033333333333 | V6: W 87 46.1966666666667 | W6: W 87 46.0883333333333 | X6: W 87 46.0116666666667 | Y6: W 87 45.883 | Z6: W 87 45.924 | AA6: W 87 45.719 | AB6: W 87 45.834 | AC6: W 87 46.045 | AD6: W 87 45.845 | AE6: W 87 45.6466666666667 | AF6: W 87 45.93 | AG6: W 87 45.93 | AH6: W 87 46.1483333333333 | AI6: W 87 46.2066666666667 | AJ6: W 87 44.827 | AK6: W 87 45.1683333333333 | AL6: W 87 45.336 | AM6: W 87 45.495 | AN6: W 87 44.58 | AO6: W 87 44.415 | AP6: W 87 44.323 | AQ6: W 87 44.153 | AR6: W 87 44.018 | AS6: W 87 43.739 | AT6: W 87 43.547 | AU6: W 87 43.545 | AV6: W 87 43.726 | AW6: W 87 43.725
A7: 43.721389 | B7: 43.721556 | C7: 43.724861 | D7: 43.7251 | E7: 43.727278 | F7: 43.727639 | G7: 43.725333 | H7: 43.724889 | I7: 43.723028 | J7: 43.727222 | K7: 43.729 | L7: 43.7343 | M7: 43.731306 | N7: 43.730722 | O7: 43.729056 | P7: 43.727472 | Q7: 43.726389 | R7: 43.736967 | S7: 43.734306 | T7: 43.732028 | U7: 43.730056 | V7: 43.731083 | W7: 43.728611 | X7: 43.719667 | Y7: 43.721722 | Z7: 43.7239 | AA7: 43.72595 | AB7: 43.72815 | AC7: 43.737333 | AD7: 43.738944 | AE7: 43.739611 | AF7: 43.733833 | AG7: 43.733833 | AH7: 43.733028 | AI7: 43.7355 | AJ7: 43.740017 | AK7: 43.741083 | AL7: 43.7411 | AM7: 43.740667 | AN7: 43.740917 | AO7: 43.741467 | AP7: 43.74275 | AQ7: 43.743017 | AR7: 43.744483 | AS7: 43.748033 | AT7: 43.75075 | AU7: 43.754467 | AV7: 43.749467 | AW7: 43.752017
A8: -87.792278 | B8: -87.796083 | C8: -87.798333 | D8: -87.793567 | E8: -87.795778 | F8: -87.792111 | G8: -87.790417 | H8: -87.786611 | I8: -87.79025 | J8: -87.777833 | K8: -87.780972 | L8: -87.781583 | M8: -87.783333 | N8: -87.7895 | O8: -87.788194 | P8: -87.785139 | Q8: -87.781444 | R8: -87.774917 | S8: -87.775556 | T8: -87.776194 | U8: -87.773389 | V8: -87.769944 | W8: -87.768139 | X8: -87.766861 | Y8: -87.764717 | Z8: -87.7654 | AA8: -87.761983 | AB8: -87.7639 | AC8: -87.767417 | AD8: -87.764083 | AE8: -87.760778 | AF8: -87.7655 | AG8: -87.7655 | AH8: -87.769139 | AI8: -87.770111 | AJ8: -87.747117 | AK8: -87.752806 | AL8: -87.7556 | AM8: -87.75825 | AN8: -87.743 | AO8: -87.74025 | AP8: -87.738717 | AQ8: -87.735883 | AR8: -87.733633 | AS8: -87.728983 | AT8: -87.725783 | AU8: -87.72575 | AV8: -87.728767 | AW8: -87.72875
AS9: By kayak | AT9: By kayak | AU9: By kayak | AV9: By kayak
A10: Date | B10: Start Time | D10: End Time | F10: Hours | G10: Pts
A11: 42526 | B11: =A3 -> 0.25 | D11: 0.30694444 | F11: =(D11-B11) -> 0.056944444 | G11: =COUNTIF($A$2:$BI$2,A11) -> 4 | H11: Kohler | I11: 4
A12: 42527 | B12: 0.23194444 | D12: 0.31111111 | F12: =(D12-B12) -> 0.079166667 | G12: =COUNTIF($A$2:$BI$2,A12) -> 5 | H12: Kohler | I12: 5
A13: 42528 | B13: 0.22708333 | D13: 0.30972222 | F13: =(D13-B13) -> 0.082638889 | G13: =COUNTIF($A$2:$BI$2,A13) -> 5 | H13: Kohler | I13: 5
A14: 42529 | B14: 0.23958333 | D14: 0.33055556 | F14: =(D14-B14) -> 0.090972222 | G14: =COUNTIF($A$2:$BI$2,A14) -> 7 | H14: Kohler | I14: 7
A15: 42530 | F15: =(D15-B15) -> 0 | G15: =COUNTIF($A$2:$BI$2,A15) -> 0
A16: 42531 | B16: 0.23263889 | D16: 0.31111111 | F16: =(D16-B16) -> 0.078472222 | G16: =COUNTIF($A$2:$BI$2,A16) -> 3 | H16: Kohler | I16: 3 | J16: =SUM(I11:I16) -> 24
A17: 42532 | F17: =(D17-B17) -> 0 | G17: =COUNTIF($A$2:$BI$2,A17) -> 0
A18: 42533 | B18: 0.24791667 | D18: 0.29166667 | F18: =(D18-B18) -> 0.04375 | G18: =COUNTIF($A$2:$BI$2,A18) -> 4 | H18: Taylor | I18: 4
A19: 42534 | B19: 0.22222222 | D19: 0.31319444 | F19: =(D19-B19) -> 0.090972222 | G19: =COUNTIF($A$2:$BI$2,A19) -> 6 | H19: Taylor | I19: 4 | J19: Kiwanis | K19: 2
A20: 42535 | B20: 0.21041667 | D20: 0.25277778 | F20: =(D20-B20) -> 0.042361111 | G20: =COUNTIF($A$2:$BI$2,A20) -> 4 | H20: Wildwood | I20: 1 | J20: Kiwanis | K20: 3
F21: =SUM(F11:G20) -> 38.565278 | G21: =SUM(G11:G20) -> 38
