Workbook

Sheet Cumulative Totals
B1: 2016 Sheboygan AOC BBS | C1: Areas: | D1: Kohler Properties | E1: Taylor & Indiana | F1: Wildwood Island | G1: Kiwanis Park | H1: Total Days | I1: Total Hours | J1: Spec. of Greatest Conservation Need | K1: Observed Breeding Codes
B2: Points: | C2: ='Point Data'!BA5 -> 38 | D2: 24 | E2: 8 | F2: 1 | G2: 5 | H2: ='Point Data'!BA2 -> 8 | I2: ='Point Data'!BB2 -> 38.565278
B3: Total Species | C3: ='Point Data'!BB98 -> 77 | D3: =COUNTIF(D6:D95,">0") -> 69 | E3: =COUNTIF(E6:E95,">0") -> 49 | F3: =COUNTIF(F6:F95,">0") -> 22 | G3: =COUNTIF(G6:G95,">0") -> 36
B4: Total Individuals | C4: ='Point Data'!BB97 -> 987 | D4: =SUM(D6:D95) -> 558 | E4: =SUM(E6:E95) -> 188 | F4: =SUM(F6:F95) -> 53 | G4: =SUM(G6:G95) -> 188 | J4: =COUNTIF(J6:J95,"=SGCN") -> 7 | K4: =COUNTIF(K6:K95,"*") -> 14
A5: # | B5: Species | C5: Code | D5: Ind. | E5: Ind. | F5: Ind. | G5: Ind. | H5: # of Pts | I5: Ind. | J5: SGCN | K5: Breeding Code
A6: 1 | B6: ='Point Data'!B7 -> Canada Goose (Branta canadensis) | C6: ='Point Data'!C7 -> CANG | D6: =IF(SUM('Point Data'!D7:AL7)=0,"",SUM('Point Data'!D7:AL7)) -> 13 | E6: =IF(SUM('Point Data'!AM7:AT7)=0,"",SUM('Point Data'!AM7:AT7)) -> 6 | F6: =IF(SUM('Point Data'!AU7)=0,"",SUM('Point Data'!AU7)) -> 11 | G6: =IF(SUM('Point Data'!AV7:AZ7)=0,"",SUM('Point Data'!AV7:AZ7)) -> 2 | H6: =IF('Point Data'!BA7=0,"",'Point Data'!BA7) -> 6 | I6: =IF('Point Data'!BB7=0,"",'Point Data'!BB7) -> 32 | K6: FL
A7: 2 | B7: ='Point Data'!B8 -> Wood Duck (Aix sponsa) | C7: ='Point Data'!C8 -> WOOD | D7: =IF(SUM('Point Data'!D8:AL8)=0,"",SUM('Point Data'!D8:AL8)) | E7: =IF(SUM('Point Data'!AM8:AT8)=0,"",SUM('Point Data'!AM8:AT8)) -> 1 | F7: =IF(SUM('Point Data'!AU8)=0,"",SUM('Point Data'!AU8)) -> 2 | G7: =IF(SUM('Point Data'!AV8:AZ8)=0,"",SUM('Point Data'!AV8:AZ8)) | H7: =IF('Point Data'!BA8=0,"",'Point Data'!BA8) -> 2 | I7: =IF('Point Data'!BB8=0,"",'Point Data'!BB8) -> 3
A8: 3 | B8: ='Point Data'!B9 -> Mallard (Anas platyrhynchos) | C8: ='Point Data'!C9 -> MALL | D8: =IF(SUM('Point Data'!D9:AL9)=0,"",SUM('Point Data'!D9:AL9)) -> 3 | E8: =IF(SUM('Point Data'!AM9:AT9)=0,"",SUM('Point Data'!AM9:AT9)) -> 3 | F8: =IF(SUM('Point Data'!AU9)=0,"",SUM('Point Data'!AU9)) -> 2 | G8: =IF(SUM('Point Data'!AV9:AZ9)=0,"",SUM('Point Data'!AV9:AZ9)) | H8: =IF('Point Data'!BA9=0,"",'Point Data'!BA9) -> 5 | I8: =IF('Point Data'!BB9=0,"",'Point Data'!BB9) -> 8 | K8: FL
A9: 4 | B9: ='Point Data'!B10 -> Wild Turkey (Meleagris gallopavo) | C9: ='Point Data'!C10 -> WITU | D9: =IF(SUM('Point Data'!D10:AL10)=0,"",SUM('Point Data'!D10:AL10)) -> 4 | E9: =IF(SUM('Point Data'!AM10:AT10)=0,"",SUM('Point Data'!AM10:AT10)) | F9: =IF(SUM('Point Data'!AU10)=0,"",SUM('Point Data'!AU10)) | G9: =IF(SUM('Point Data'!AV10:AZ10)=0,"",SUM('Point Data'!AV10:AZ10)) | H9: =IF('Point Data'!BA10=0,"",'Point Data'!BA10) -> 4 | I9: =IF('Point Data'!BB10=0,"",'Point Data'!BB10) -> 4
A10: 5 | B10: ='Point Data'!B11 -> Great Blue Heron (Ardea herodias) | C10: ='Point Data'!C11 -> GBHE | D10: =IF(SUM('Point Data'!D11:AL11)=0,"",SUM('Point Data'!D11:AL11)) -> 1 | E10: =IF(SUM('Point Data'!AM11:AT11)=0,"",SUM('Point Data'!AM11:AT11)) -> 1 | F10: =IF(SUM('Point Data'!AU11)=0,"",SUM('Point Data'!AU11)) | G10: =IF(SUM('Point Data'!AV11:AZ11)=0,"",SUM('Point Data'!AV11:AZ11)) -> 1 | H10: =IF('Point Data'!BA11=0,"",'Point Data'!BA11) -> 3 | I10: =IF('Point Data'!BB11=0,"",'Point Data'!BB11) -> 3
A11: 6 | B11: ='Point Data'!B12 -> Great Egret (Ardea alba) | C11: ='Point Data'!C12 -> GREG | D11: =IF(SUM('Point Data'!D12:AL12)=0,"",SUM('Point Data'!D12:AL12)) | E11: =IF(SUM('Point Data'!AM12:AT12)=0,"",SUM('Point Data'!AM12:AT12)) | F11: =IF(SUM('Point Data'!AU12)=0,"",SUM('Point Data'!AU12)) | G11: =IF(SUM('Point Data'!AV12:AZ12)=0,"",SUM('Point Data'!AV12:AZ12)) | H11: =IF('Point Data'!BA12=0,"",'Point Data'!BA12) | I11: =IF('Point Data'!BB12=0,"",'Point Data'!BB12)
A12: 7 | B12: ='Point Data'!B13 -> Green Heron (Butorides virescens) | C12: ='Point Data'!C13 -> GRHE | D12: =IF(SUM('Point Data'!D13:AL13)=0,"",SUM('Point Data'!D13:AL13)) | E12: =IF(SUM('Point Data'!AM13:AT13)=0,"",SUM('Point Data'!AM13:AT13)) -> 1 | F12: =IF(SUM('Point Data'!AU13)=0,"",SUM('Point Data'!AU13)) | G12: =IF(SUM('Point Data'!AV13:AZ13)=0,"",SUM('Point Data'!AV13:AZ13)) | H12: =IF('Point Data'!BA13=0,"",'Point Data'!BA13) -> 1 | I12: =IF('Point Data'!BB13=0,"",'Point Data'!BB13) -> 1
A13: 8 | B13: ='Point Data'!B14 -> Bald Eagle (Haliaeetus leucocephalus) | C13: ='Point Data'!C14 -> BAEA | D13: =IF(SUM('Point Data'!D14:AL14)=0,"",SUM('Point Data'!D14:AL14)) | E13: =IF(SUM('Point Data'!AM14:AT14)=0,"",SUM('Point Data'!AM14:AT14)) | F13: =IF(SUM('Point Data'!AU14)=0,"",SUM('Point Data'!AU14)) | G13: =IF(SUM('Point Data'!AV14:AZ14)=0,"",SUM('Point Data'!AV14:AZ14)) | H13: =IF('Point Data'!BA14=0,"",'Point Data'!BA14) | I13: =IF('Point Data'!BB14=0,"",'Point Data'!BB14)
A14: 9 | B14: ='Point Data'!B15 -> Red-tailed Hawk (Buteo jamaicensis) | C14: ='Point Data'!C15 -> RTHA | D14: =IF(SUM('Point Data'!D15:AL15)=0,"",SUM('Point Data'!D15:AL15)) -> 4 | E14: =IF(SUM('Point Data'!AM15:AT15)=0,"",SUM('Point Data'!AM15:AT15)) | F14: =IF(SUM('Point Data'!AU15)=0,"",SUM('Point Data'!AU15)) | G14: =IF(SUM('Point Data'!AV15:AZ15)=0,"",SUM('Point Data'!AV15:AZ15)) | H14: =IF('Point Data'!BA15=0,"",'Point Data'!BA15) -> 3 | I14: =IF('Point Data'!BB15=0,"",'Point Data'!BB15) -> 4
A15: 10 | B15: ='Point Data'!B16 -> American Kestrel (Falco sparverius) | C15: ='Point Data'!C16 -> MAKE | D15: =IF(SUM('Point Data'!D16:AL16)=0,"",SUM('Point Data'!D16:AL16)) | E15: =IF(SUM('Point Data'!AM16:AT16)=0,"",SUM('Point Data'!AM16:AT16)) | F15: =IF(SUM('Point Data'!AU16)=0,"",SUM('Point Data'!AU16)) | G15: =IF(SUM('Point Data'!AV16:AZ16)=0,"",SUM('Point Data'!AV16:AZ16)) | H15: =IF('Point Data'!BA16=0,"",'Point Data'!BA16) | I15: =IF('Point Data'!BB16=0,"",'Point Data'!BB16)
A16: 11 | B16: ='Point Data'!B17 -> Sora (Porzana carolina) | C16: ='Point Data'!C17 -> SORA | D16: =IF(SUM('Point Data'!D17:AL17)=0,"",SUM('Point Data'!D17:AL17)) | E16: =IF(SUM('Point Data'!AM17:AT17)=0,"",SUM('Point Data'!AM17:AT17)) -> 1 | F16: =IF(SUM('Point Data'!AU17)=0,"",SUM('Point Data'!AU17)) | G16: =IF(SUM('Point Data'!AV17:AZ17)=0,"",SUM('Point Data'!AV17:AZ17)) | H16: =IF('Point Data'!BA17=0,"",'Point Data'!BA17) -> 1 | I16: =IF('Point Data'!BB17=0,"",'Point Data'!BB17) -> 1
A17: 12 | B17: ='Point Data'!B18 -> Sandhill Crane (Grus canadensis) | C17: ='Point Data'!C18 -> SACR | D17: =IF(SUM('Point Data'!D18:AL18)=0,"",SUM('Point Data'!D18:AL18)) -> 1 | E17: =IF(SUM('Point Data'!AM18:AT18)=0,"",SUM('Point Data'!AM18:AT18)) | F17: =IF(SUM('Point Data'!AU18)=0,"",SUM('Point Data'!AU18)) | G17: =IF(SUM('Point Data'!AV18:AZ18)=0,"",SUM('Point Data'!AV18:AZ18)) | H17: =IF('Point Data'!BA18=0,"",'Point Data'!BA18) -> 1 | I17: =IF('Point Data'!BB18=0,"",'Point Data'!BB18) -> 1
A18: 13 | B18: ='Point Data'!B19 -> Killdeer (Charadrius vociferus) | C18: ='Point Data'!C19 -> KILL | D18: =IF(SUM('Point Data'!D19:AL19)=0,"",SUM('Point Data'!D19:AL19)) -> 3 | E18: =IF(SUM('Point Data'!AM19:AT19)=0,"",SUM('Point Data'!AM19:AT19)) -> 1 | F18: =IF(SUM('Point Data'!AU19)=0,"",SUM('Point Data'!AU19)) -> 2 | G18: =IF(SUM('Point Data'!AV19:AZ19)=0,"",SUM('Point Data'!AV19:AZ19)) -> 2 | H18: =IF('Point Data'!BA19=0,"",'Point Data'!BA19) -> 7 | I18: =IF('Point Data'!BB19=0,"",'Point Data'!BB19) -> 8
A19: 14 | B19: ='Point Data'!B20 -> Spotted Sandpiper (Actitis macularia) | C19: ='Point Data'!C20 -> SPSA | D19: =IF(SUM('Point Data'!D20:AL20)=0,"",SUM('Point Data'!D20:AL20)) | E19: =IF(SUM('Point Data'!AM20:AT20)=0,"",SUM('Point Data'!AM20:AT20)) -> 2 | F19: =IF(SUM('Point Data'!AU20)=0,"",SUM('Point Data'!AU20)) -> 1 | G19: =IF(SUM('Point Data'!AV20:AZ20)=0,"",SUM('Point Data'!AV20:AZ20)) -> 1 | H19: =IF('Point Data'!BA20=0,"",'Point Data'!BA20) -> 3 | I19: =IF('Point Data'!BB20=0,"",'Point Data'!BB20) -> 4
A20: 15 | B20: ='Point Data'!B21 -> American Woodcock (Scolopax minor) | C20: ='Point Data'!C21 -> AMWO | D20: =IF(SUM('Point Data'!D21:AL21)=0,"",SUM('Point Data'!D21:AL21)) -> 1 | E20: =IF(SUM('Point Data'!AM21:AT21)=0,"",SUM('Point Data'!AM21:AT21)) | F20: =IF(SUM('Point Data'!AU21)=0,"",SUM('Point Data'!AU21)) | G20: =IF(SUM('Point Data'!AV21:AZ21)=0,"",SUM('Point Data'!AV21:AZ21)) | H20: =IF('Point Data'!BA21=0,"",'Point Data'!BA21) -> 1 | I20: =IF('Point Data'!BB21=0,"",'Point Data'!BB21) -> 1 | J20: SGCN
A21: 16 | B21: ='Point Data'!B22 -> Ring-billed Gull (Larus delawarensis) | C21: ='Point Data'!C22 -> RBGU | D21: =IF(SUM('Point Data'!D22:AL22)=0,"",SUM('Point Data'!D22:AL22)) -> 2 | E21: =IF(SUM('Point Data'!AM22:AT22)=0,"",SUM('Point Data'!AM22:AT22)) -> 1 | F21: =IF(SUM('Point Data'!AU22)=0,"",SUM('Point Data'!AU22)) -> 2 | G21: =IF(SUM('Point Data'!AV22:AZ22)=0,"",SUM('Point Data'!AV22:AZ22)) -> 79 | H21: =IF('Point Data'!BA22=0,"",'Point Data'!BA22) -> 8 | I21: =IF('Point Data'!BB22=0,"",'Point Data'!BB22) -> 84
A22: 17 | B22: ='Point Data'!B23 -> Rock Pigeon (Columba livia) | C22: ='Point Data'!C23 -> ROPI | D22: =IF(SUM('Point Data'!D23:AL23)=0,"",SUM('Point Data'!D23:AL23)) | E22: =IF(SUM('Point Data'!AM23:AT23)=0,"",SUM('Point Data'!AM23:AT23)) | F22: =IF(SUM('Point Data'!AU23)=0,"",SUM('Point Data'!AU23)) | G22: =IF(SUM('Point Data'!AV23:AZ23)=0,"",SUM('Point Data'!AV23:AZ23)) | H22: =IF('Point Data'!BA23=0,"",'Point Data'!BA23) | I22: =IF('Point Data'!BB23=0,"",'Point Data'!BB23)
A23: 18 | B23: ='Point Data'!B24 -> Mourning Dove (Zenaida macroura) | C23: ='Point Data'!C24 -> MODO | D23: =IF(SUM('Point Data'!D24:AL24)=0,"",SUM('Point Data'!D24:AL24)) -> 4 | E23: =IF(SUM('Point Data'!AM24:AT24)=0,"",SUM('Point Data'!AM24:AT24)) | F23: =IF(SUM('Point Data'!AU24)=0,"",SUM('Point Data'!AU24)) | G23: =IF(SUM('Point Data'!AV24:AZ24)=0,"",SUM('Point Data'!AV24:AZ24)) -> 2 | H23: =IF('Point Data'!BA24=0,"",'Point Data'!BA24) -> 6 | I23: =IF('Point Data'!BB24=0,"",'Point Data'!BB24) -> 6
A24: 19 | B24: ='Point Data'!B25 -> Black-billed Cuckoo (Coccyzus erythropthalmus) | C24: ='Point Data'!C25 -> BBCU | D24: =IF(SUM('Point Data'!D25:AL25)=0,"",SUM('Point Data'!D25:AL25)) | E24: =IF(SUM('Point Data'!AM25:AT25)=0,"",SUM('Point Data'!AM25:AT25)) -> 1 | F24: =IF(SUM('Point Data'!AU25)=0,"",SUM('Point Data'!AU25)) | G24: =IF(SUM('Point Data'!AV25:AZ25)=0,"",SUM('Point Data'!AV25:AZ25)) | H24: =IF('Point Data'!BA25=0,"",'Point Data'!BA25) -> 1 | I24: =IF('Point Data'!BB25=0,"",'Point Data'!BB25) -> 1 | J24: SGCN
A25: 20 | B25: ='Point Data'!B26 -> Yellow-billed Cuckoo (Coccyzus americanus) | C25: ='Point Data'!C26 -> YBCU | D25: =IF(SUM('Point Data'!D26:AL26)=0,"",SUM('Point Data'!D26:AL26)) -> 6 | E25: =IF(SUM('Point Data'!AM26:AT26)=0,"",SUM('Point Data'!AM26:AT26)) | F25: =IF(SUM('Point Data'!AU26)=0,"",SUM('Point Data'!AU26)) | G25: =IF(SUM('Point Data'!AV26:AZ26)=0,"",SUM('Point Data'!AV26:AZ26)) -> 1 | H25: =IF('Point Data'!BA26=0,"",'Point Data'!BA26) -> 6 | I25: =IF('Point Data'!BB26=0,"",'Point Data'!BB26) -> 7 | J25: SGCN
A26: 21 | B26: ='Point Data'!B27 -> Great Horned Owl (Bubo virginianus) | C26: ='Point Data'!C27 -> GHOW | D26: =IF(SUM('Point Data'!D27:AL27)=0,"",SUM('Point Data'!D27:AL27)) | E26: =IF(SUM('Point Data'!AM27:AT27)=0,"",SUM('Point Data'!AM27:AT27)) | F26: =IF(SUM('Point Data'!AU27)=0,"",SUM('Point Data'!AU27)) | G26: =IF(SUM('Point Data'!AV27:AZ27)=0,"",SUM('Point Data'!AV27:AZ27)) | H26: =IF('Point Data'!BA27=0,"",'Point Data'!BA27) | I26: =IF('Point Data'!BB27=0,"",'Point Data'!BB27)
A27: 22 | B27: ='Point Data'!B28 -> Barred Owl (Strix varia) | C27: ='Point Data'!C28 -> GHOW | D27: =IF(SUM('Point Data'!D28:AL28)=0,"",SUM('Point Data'!D28:AL28)) -> 1 | E27: =IF(SUM('Point Data'!AM28:AT28)=0,"",SUM('Point Data'!AM28:AT28)) | F27: =IF(SUM('Point Data'!AU28)=0,"",SUM('Point Data'!AU28)) | G27: =IF(SUM('Point Data'!AV28:AZ28)=0,"",SUM('Point Data'!AV28:AZ28)) | H27: =IF('Point Data'!BA28=0,"",'Point Data'!BA28) -> 1 | I27: =IF('Point Data'!BB28=0,"",'Point Data'!BB28) -> 1
A28: 23 | B28: ='Point Data'!B29 -> Chimney Swift (Chaetura pelagica) | C28: ='Point Data'!C29 -> CHSW | D28: =IF(SUM('Point Data'!D29:AL29)=0,"",SUM('Point Data'!D29:AL29)) | E28: =IF(SUM('Point Data'!AM29:AT29)=0,"",SUM('Point Data'!AM29:AT29)) | F28: =IF(SUM('Point Data'!AU29)=0,"",SUM('Point Data'!AU29)) | G28: =IF(SUM('Point Data'!AV29:AZ29)=0,"",SUM('Point Data'!AV29:AZ29)) -> 6 | H28: =IF('Point Data'!BA29=0,"",'Point Data'!BA29) -> 2 | I28: =IF('Point Data'!BB29=0,"",'Point Data'!BB29) -> 6
A29: 24 | B29: ='Point Data'!B30 -> Ruby-throated Hummingbird (Archilochus colubris) | C29: ='Point Data'!C30 -> RTHU | D29: =IF(SUM('Point Data'!D30:AL30)=0,"",SUM('Point Data'!D30:AL30)) -> 1 | E29: =IF(SUM('Point Data'!AM30:AT30)=0,"",SUM('Point Data'!AM30:AT30)) | F29: =IF(SUM('Point Data'!AU30)=0,"",SUM('Point Data'!AU30)) | G29: =IF(SUM('Point Data'!AV30:AZ30)=0,"",SUM('Point Data'!AV30:AZ30)) | H29: =IF('Point Data'!BA30=0,"",'Point Data'!BA30) -> 1 | I29: =IF('Point Data'!BB30=0,"",'Point Data'!BB30) -> 1
A30: 25 | B30: ='Point Data'!B31 -> Belted Kingfisher (Ceryle alcyon) | C30: ='Point Data'!C31 -> BEKI | D30: =IF(SUM('Point Data'!D31:AL31)=0,"",SUM('Point Data'!D31:AL31)) -> 2 | E30: =IF(SUM('Point Data'!AM31:AT31)=0,"",SUM('Point Data'!AM31:AT31)) -> 6 | F30: =IF(SUM('Point Data'!AU31)=0,"",SUM('Point Data'!AU31)) -> 1 | G30: =IF(SUM('Point Data'!AV31:AZ31)=0,"",SUM('Point Data'!AV31:AZ31)) -> 1 | H30: =IF('Point Data'!BA31=0,"",'Point Data'!BA31) -> 10 | I30: =IF('Point Data'!BB31=0,"",'Point Data'!BB31) -> 10
A31: 26 | B31: ='Point Data'!B32 -> Red-bellied Woodpecker (Melanerpes carolinus) | C31: ='Point Data'!C32 -> RBWO | D31: =IF(SUM('Point Data'!D32:AL32)=0,"",SUM('Point Data'!D32:AL32)) -> 11 | E31: =IF(SUM('Point Data'!AM32:AT32)=0,"",SUM('Point Data'!AM32:AT32)) -> 1 | F31: =IF(SUM('Point Data'!AU32)=0,"",SUM('Point Data'!AU32)) | G31: =IF(SUM('Point Data'!AV32:AZ32)=0,"",SUM('Point Data'!AV32:AZ32)) -> 1 | H31: =IF('Point Data'!BA32=0,"",'Point Data'!BA32) -> 11 | I31: =IF('Point Data'!BB32=0,"",'Point Data'!BB32) -> 13
A32: 27 | B32: ='Point Data'!B33 -> Downy Woodpecker (Picoides pubescens) | C32: ='Point Data'!C33 -> DOWO | D32: =IF(SUM('Point Data'!D33:AL33)=0,"",SUM('Point Data'!D33:AL33)) -> 6 | E32: =IF(SUM('Point Data'!AM33:AT33)=0,"",SUM('Point Data'!AM33:AT33)) -> 6 | F32: =IF(SUM('Point Data'!AU33)=0,"",SUM('Point Data'!AU33)) -> 1 | G32: =IF(SUM('Point Data'!AV33:AZ33)=0,"",SUM('Point Data'!AV33:AZ33)) -> 4 | H32: =IF('Point Data'!BA33=0,"",'Point Data'!BA33) -> 16 | I32: =IF('Point Data'!BB33=0,"",'Point Data'!BB33) -> 17
A33: 28 | B33: ='Point Data'!B34 -> Hairy Woodpecker (Picoides villosus) | C33: ='Point Data'!C34 -> HAWO | D33: =IF(SUM('Point Data'!D34:AL34)=0,"",SUM('Point Data'!D34:AL34)) -> 1 | E33: =IF(SUM('Point Data'!AM34:AT34)=0,"",SUM('Point Data'!AM34:AT34)) | F33: =IF(SUM('Point Data'!AU34)=0,"",SUM('Point Data'!AU34)) | G33: =IF(SUM('Point Data'!AV34:AZ34)=0,"",SUM('Point Data'!AV34:AZ34)) | H33: =IF('Point Data'!BA34=0,"",'Point Data'!BA34) -> 1 | I33: =IF('Point Data'!BB34=0,"",'Point Data'!BB34) -> 1
A34: 29 | B34: ='Point Data'!B35 -> Northern Flicker (Colaptes auratus) | C34: ='Point Data'!C35 -> NOFL | D34: =IF(SUM('Point Data'!D35:AL35)=0,"",SUM('Point Data'!D35:AL35)) -> 1 | E34: =IF(SUM('Point Data'!AM35:AT35)=0,"",SUM('Point Data'!AM35:AT35)) -> 1 | F34: =IF(SUM('Point Data'!AU35)=0,"",SUM('Point Data'!AU35)) | G34: =IF(SUM('Point Data'!AV35:AZ35)=0,"",SUM('Point Data'!AV35:AZ35)) | H34: =IF('Point Data'!BA35=0,"",'Point Data'!BA35) -> 2 | I34: =IF('Point Data'!BB35=0,"",'Point Data'!BB35) -> 2
A35: 30 | B35: ='Point Data'!B36 -> Pileated Woodpecker (Dryocopus pileatus) | C35: ='Point Data'!C36 -> PIWO | D35: =IF(SUM('Point Data'!D36:AL36)=0,"",SUM('Point Data'!D36:AL36)) -> 2 | E35: =IF(SUM('Point Data'!AM36:AT36)=0,"",SUM('Point Data'!AM36:AT36)) | F35: =IF(SUM('Point Data'!AU36)=0,"",SUM('Point Data'!AU36)) | G35: =IF(SUM('Point Data'!AV36:AZ36)=0,"",SUM('Point Data'!AV36:AZ36)) | H35: =IF('Point Data'!BA36=0,"",'Point Data'!BA36) -> 2 | I35: =IF('Point Data'!BB36=0,"",'Point Data'!BB36) -> 2
A36: 31 | B36: ='Point Data'!B37 -> Eastern Wood-Pewee (Contopus virens) | C36: ='Point Data'!C37 -> EAWP | D36: =IF(SUM('Point Data'!D37:AL37)=0,"",SUM('Point Data'!D37:AL37)) -> 20 | E36: =IF(SUM('Point Data'!AM37:AT37)=0,"",SUM('Point Data'!AM37:AT37)) -> 1 | F36: =IF(SUM('Point Data'!AU37)=0,"",SUM('Point Data'!AU37)) | G36: =IF(SUM('Point Data'!AV37:AZ37)=0,"",SUM('Point Data'!AV37:AZ37)) -> 1 | H36: =IF('Point Data'!BA37=0,"",'Point Data'!BA37) -> 15 | I36: =IF('Point Data'!BB37=0,"",'Point Data'!BB37) -> 22
A37: 32 | B37: ='Point Data'!B38 -> Alder Flycatcher (Empidonax alnorum) | C37: ='Point Data'!C38 -> ALFL | D37: =IF(SUM('Point Data'!D38:AL38)=0,"",SUM('Point Data'!D38:AL38)) -> 2 | E37: =IF(SUM('Point Data'!AM38:AT38)=0,"",SUM('Point Data'!AM38:AT38)) | F37: =IF(SUM('Point Data'!AU38)=0,"",SUM('Point Data'!AU38)) | G37: =IF(SUM('Point Data'!AV38:AZ38)=0,"",SUM('Point Data'!AV38:AZ38)) | H37: =IF('Point Data'!BA38=0,"",'Point Data'!BA38) -> 1 | I37: =IF('Point Data'!BB38=0,"",'Point Data'!BB38) -> 2
A38: 33 | B38: ='Point Data'!B39 -> Willow Flycatcher (Empidonax traillii) | C38: ='Point Data'!C39 -> WIFL | D38: =IF(SUM('Point Data'!D39:AL39)=0,"",SUM('Point Data'!D39:AL39)) -> 4 | E38: =IF(SUM('Point Data'!AM39:AT39)=0,"",SUM('Point Data'!AM39:AT39)) | F38: =IF(SUM('Point Data'!AU39)=0,"",SUM('Point Data'!AU39)) | G38: =IF(SUM('Point Data'!AV39:AZ39)=0,"",SUM('Point Data'!AV39:AZ39)) | H38: =IF('Point Data'!BA39=0,"",'Point Data'!BA39) -> 2 | I38: =IF('Point Data'!BB39=0,"",'Point Data'!BB39) -> 4 | J38: SGCN
A39: 34 | B39: ='Point Data'!B40 -> Least Flycatcher (Empidonax minimus) | C39: ='Point Data'!C40 -> LEFL | D39: =IF(SUM('Point Data'!D40:AL40)=0,"",SUM('Point Data'!D40:AL40)) | E39: =IF(SUM('Point Data'!AM40:AT40)=0,"",SUM('Point Data'!AM40:AT40)) | F39: =IF(SUM('Point Data'!AU40)=0,"",SUM('Point Data'!AU40)) | G39: =IF(SUM('Point Data'!AV40:AZ40)=0,"",SUM('Point Data'!AV40:AZ40)) | H39: =IF('Point Data'!BA40=0,"",'Point Data'!BA40) | I39: =IF('Point Data'!BB40=0,"",'Point Data'!BB40)
A40: 35 | B40: ='Point Data'!B41 -> Eastern Phoebe (Sayornis phoebe) | C40: ='Point Data'!C41 -> EAPH | D40: =IF(SUM('Point Data'!D41:AL41)=0,"",SUM('Point Data'!D41:AL41)) | E40: =IF(SUM('Point Data'!AM41:AT41)=0,"",SUM('Point Data'!AM41:AT41)) | F40: =IF(SUM('Point Data'!AU41)=0,"",SUM('Point Data'!AU41)) -> 1 | G40: =IF(SUM('Point Data'!AV41:AZ41)=0,"",SUM('Point Data'!AV41:AZ41)) -> 1 | H40: =IF('Point Data'!BA41=0,"",'Point Data'!BA41) -> 2 | I40: =IF('Point Data'!BB41=0,"",'Point Data'!BB41) -> 2 | K40: ON
...

Sheet Point Data
B1: 2016 Breeding Bird Survey | C1: Date: | D1: 42526 | E1: 42526 | F1: 42527 | G1: 42526 | H1: 42527 | I1: 42527 | J1: 42526 | K1: 42527 | L1: 42527 | M1: 42531 | N1: No DATA | O1: No DATA | P1: No DATA | Q1: 42531 | R1: 43626 | S1: No DATA | T1: No DATA | U1: No DATA | V1: No DATA | W1: No DATA | X1: No DATA | Y1: No DATA | Z1: No DATA | AA1: 42528 | AB1: 42528 | AC1: 42528 | AD1: 42528 | AE1: 42528 | AF1: 42529 | AG1: 42529 | AH1: 42529 | AI1: 42529 | AJ1: 42529 | AK1: 42529 | AL1: 42529 | AM1: 42534 | AN1: 42534 | AO1: 42534 | AP1: 42534 | AQ1: 42533 | AR1: 42533 | AS1: 42533 | AT1: 42533 | AU1: 42535 | AV1: 42534 | AW1: 42534 | AX1: 42535 | AY1: 42535 | AZ1: 42535 | BA1: Days | BB1: Hours
C2: Time: | D2: 0.25 | E2: 0.26388889 | F2: 0.23194444 | G2: 0.28402778 | H2: 0.26944444 | I2: 0.25277778 | J2: 0.3 | K2: 0.29027778 | L2: 0.30416667 | M2: 0.23263889 | Q2: 0.29097222 | R2: 0.30416667 | AA2: 0.22708333 | AB2: 0.24166667 | AC2: 0.25486111 | AD2: 0.30277778 | AE2: 0.28402778 | AF2: 0.23958333 | AG2: 0.25555556 | AH2: 0.26666667 | AI2: 0.28055556 | AJ2: 0.29652778 | AK2: 0.31111111 | AL2: 0.32361111 | AM2: 0.22222222 | AN2: 0.2375 | AO2: 0.24861111 | AP2: 0.26388889 | AQ2: 0.24791667 | AR2: 0.26041667 | AS2: 0.27013889 | AT2: 0.28472222 | AU2: 0.21041667 | AV2: 0.29097222 | AW2: 0.30625 | AX2: 0.22430556 | AY2: 0.23958333 | AZ2: 0.25277778 | BA2: 8 | BB2: ='GPS Coordinates'!F21 -> 38.565278
C3: Waypoint: | D3: ='GPS Coordinates'!A4 -> BWR-001 | E3: ='GPS Coordinates'!B4 -> BWR-002 | F3: ='GPS Coordinates'!C4 -> BWR-003 | G3: ='GPS Coordinates'!D4 -> BWR-004 | H3: ='GPS Coordinates'!E4 -> BWR-005 | I3: ='GPS Coordinates'!F4 -> BWR-006 | J3: ='GPS Coordinates'!G4 -> BWR-007 | K3: ='GPS Coordinates'!H4 -> BWR-008 | ... AZ3: ='GPS Coordinates'!AW4 -> Kiwanis-049 | BB3: No Data
B4: Sheboygan AOC | C4: GPS | D4: ='GPS Coordinates'!A7 -> 43.721389 | E4: ='GPS Coordinates'!B7 -> 43.721556 | F4: ='GPS Coordinates'!C7 -> 43.724861 | G4: ='GPS Coordinates'!D7 -> 43.7251 | H4: ='GPS Coordinates'!E7 -> 43.727278 | I4: ='GPS Coordinates'!F7 -> 43.727639 | J4: ='GPS Coordinates'!G7 -> 43.725333 | K4: ='GPS Coordinates'!H7 -> 43.724889 | ... AZ4: ='GPS Coordinates'!AW7 -> 43.752017 | BA4: Pts Complete | BB4: =COUNTIF(D1:AZ1,"=No Data") -> 11
C5: DM | D5: ='GPS Coordinates'!A8 -> -87.792278 | E5: ='GPS Coordinates'!B8 -> -87.796083 | F5: ='GPS Coordinates'!C8 -> -87.798333 | G5: ='GPS Coordinates'!D8 -> -87.793567 | H5: ='GPS Coordinates'!E8 -> -87.795778 | I5: ='GPS Coordinates'!F8 -> -87.792111 | J5: ='GPS Coordinates'!G8 -> -87.790417 | K5: ='GPS Coordinates'!H8 -> -87.786611 | ... AZ5: ='GPS Coordinates'!AW8 -> -87.72875 | BA5: =COUNTIF(D1:AZ1,">0") -> 38
B6: Species | C6: Point #: | D6: 1 | E6: 2 | F6: 3 | G6: 4 | H6: 5 | I6: 6 | J6: 7 | K6: 8 | L6: 9 | M6: 10 | N6: 11 | O6: 12 | P6: 13 | Q6: 14 | R6: 15 | S6: 16 | T6: 17 | U6: 18 | V6: 19 | W6: 20 | X6: 21 | Y6: 22 | Z6: 23 | AA6: 24 | AB6: 25 | AC6: 26 | AD6: 27 | AE6: 28 | AF6: 29 | AG6: 30 | AH6: 31 | AI6: 32 | AJ6: 33 | AK6: 34 | AL6: 35 | AM6: 36 | AN6: 37 | AO6: 38 | AP6: 39 | AQ6: 40 | AR6: 41 | AS6: 42 | AT6: 43 | AU6: 44 | AV6: 45 | AW6: 46 | AX6: 47 | AY6: 48 | AZ6: 49 | BA6: # Pts | BB6: Ind.
A7: 1 | B7: Canada Goose (Branta canadensis) | C7: CANG | H7: 10 | K7: 1 | AH7: 2 | AM7: 6 | AU7: 11 | AV7: 2 | BA7: =COUNTIF(D7:AZ7,">0") -> 6 | BB7: =SUM(D7:AZ7) -> 32
A8: 2 | B8: Wood Duck (Aix sponsa) | C8: WOOD | AM8: 1 | AU8: 2 | BA8: =COUNTIF(D8:AZ8,">0") -> 2 | BB8: =SUM(D8:AZ8) -> 3
A9: 3 | B9: Mallard (Anas platyrhynchos) | C9: MALL | AF9: 2 | AG9: 1 | AM9: 1 | AR9: 2 | AU9: 2 | BA9: =COUNTIF(D9:AZ9,">0") -> 5 | BB9: =SUM(D9:AZ9) -> 8
A10: 4 | B10: Wild Turkey (Meleagris gallopavo) | C10: WITU | D10: 1 | E10: 1 | F10: 1 | G10: 1 | BA10: =COUNTIF(D10:AZ10,">0") -> 4 | BB10: =SUM(D10:AZ10) -> 4
A11: 5 | B11: Great Blue Heron (Ardea herodias) | C11: GBHE | E11: 1 | AM11: 1 | AV11: 1 | BA11: =COUNTIF(D11:AZ11,">0") -> 3 | BB11: =SUM(D11:AZ11) -> 3
A12: 6 | B12: Great Egret (Ardea alba) | C12: GREG | BA12: =COUNTIF(D12:AZ12,">0") -> 0 | BB12: =SUM(D12:AZ12) -> 0
A13: 7 | B13: Green Heron (Butorides virescens) | C13: GRHE | AT13: 1 | BA13: =COUNTIF(D13:AZ13,">0") -> 1 | BB13: =SUM(D13:AZ13) -> 1
A14: 8 | B14: Bald Eagle (Haliaeetus leucocephalus) | C14: BAEA | BA14: =COUNTIF(D14:AZ14,">0") -> 0 | BB14: =SUM(D14:AZ14) -> 0
A15: 9 | B15: Red-tailed Hawk (Buteo jamaicensis) | C15: RTHA | J15: 1 | AC15: 1 | AI15: 2 | BA15: =COUNTIF(D15:AZ15,">0") -> 3 | BB15: =SUM(D15:AZ15) -> 4
A16: 10 | B16: American Kestrel (Falco sparverius) | C16: MAKE | BA16: =COUNTIF(D16:AZ16,">0") -> 0 | BB16: =SUM(D16:AZ16) -> 0
A17: 11 | B17: Sora (Porzana carolina) | C17: SORA | AM17: 1 | BA17: =COUNTIF(D17:AZ17,">0") -> 1 | BB17: =SUM(D17:AZ17) -> 1
A18: 11 | B18: Sandhill Crane (Grus canadensis) | C18: SACR | AC18: 1 | BA18: =COUNTIF(D18:AZ18,">0") -> 1 | BB18: =SUM(D18:AZ18) -> 1
A19: 12 | B19: Killdeer (Charadrius vociferus) | C19: KILL | K19: 1 | AA19: 1 | AF19: 1 | AM19: 1 | AU19: 2 | AW19: 1 | AX19: 1 | BA19: =COUNTIF(D19:AZ19,">0") -> 7 | BB19: =SUM(D19:AZ19) -> 8
A20: 13 | B20: Spotted Sandpiper (Actitis macularia) | C20: SPSA | AQ20: 2 | AU20: 1 | AW20: 1 | BA20: =COUNTIF(D20:AZ20,">0") -> 3 | BB20: =SUM(D20:AZ20) -> 4
A21: 14 | B21: American Woodcock (Scolopax minor) | C21: AMWO | E21: 1 | BA21: =COUNTIF(D21:AZ21,">0") -> 1 | BB21: =SUM(D21:AZ21) -> 1
A22: 15 | B22: Ring-billed Gull (Larus delawarensis) | C22: RBGU | H22: 1 | AF22: 1 | AS22: 1 | AU22: 2 | AV22: 1 | AW22: 2 | AX22: 75 | AZ22: 1 | BA22: =COUNTIF(D22:AZ22,">0") -> 8 | BB22: =SUM(D22:AZ22) -> 84
A23: 16 | B23: Rock Pigeon (Columba livia) | C23: ROPI | BA23: =COUNTIF(D23:AZ23,">0") -> 0 | BB23: =SUM(D23:AZ23) -> 0
A24: 17 | B24: Mourning Dove (Zenaida macroura) | C24: MODO | F24: 1 | G24: 1 | AF24: 1 | AJ24: 1 | AX24: 1 | AZ24: 1 | BA24: =COUNTIF(D24:AZ24,">0") -> 6 | BB24: =SUM(D24:AZ24) -> 6
A25: 18 | B25: Black-billed Cuckoo (Coccyzus erythropthalmus) | C25: BBCU | AS25: 1 | BA25: =COUNTIF(D25:AZ25,">0") -> 1 | BB25: =SUM(D25:AZ25) -> 1
A26: 19 | B26: Yellow-billed Cuckoo (Coccyzus americanus) | C26: YBCU | D26: 1 | E26: 2 | H26: 1 | M26: 1 | AK26: 1 | AZ26: 1 | BA26: =COUNTIF(D26:AZ26,">0") -> 6 | BB26: =SUM(D26:AZ26) -> 7
A27: 20 | B27: Great Horned Owl (Bubo virginianus) | C27: GHOW | BA27: =COUNTIF(D27:AZ27,">0") -> 0 | BB27: =SUM(D27:AZ27) -> 0
A28: 21 | B28: Barred Owl (Strix varia) | C28: GHOW | G28: 1 | BA28: =COUNTIF(D28:AZ28,">0") -> 1 | BB28: =SUM(D28:AZ28) -> 1
A29: 21 | B29: Chimney Swift (Chaetura pelagica) | C29: CHSW | AW29: 2 | AX29: 4 | BA29: =COUNTIF(D29:AZ29,">0") -> 2 | BB29: =SUM(D29:AZ29) -> 6
A30: 22 | B30: Ruby-throated Hummingbird (Archilochus colubris) | C30: RTHU | AA30: 1 | BA30: =COUNTIF(D30:AZ30,">0") -> 1 | BB30: =SUM(D30:AZ30) -> 1
A31: 23 | B31: Belted Kingfisher (Ceryle alcyon) | C31: BEKI | R31: 1 | AJ31: 1 | AM31: 1 | AP31: 1 | AQ31: 1 | AR31: 1 | AS31: 1 | AT31: 1 | AU31: 1 | AV31: 1 | BA31: =COUNTIF(D31:AZ31,">0") -> 10 | BB31: =SUM(D31:AZ31) -> 10
A32: 24 | B32: Red-bellied Woodpecker (Melanerpes carolinus) | C32: RBWO | G32: 1 | H32: 2 | I32: 1 | AA32: 1 | AC32: 1 | AE32: 1 | AI32: 1 | AJ32: 2 | AK32: 1 | AT32: 1 | AZ32: 1 | BA32: =COUNTIF(D32:AZ32,">0") -> 11 | BB32: =SUM(D32:AZ32) -> 13
A33: 25 | B33: Downy Woodpecker (Picoides pubescens) | C33: DOWO | F33: 1 | Q33: 1 | AB33: 1 | AC33: 1 | AE33: 1 | AK33: 1 | AN33: 1 | AO33: 1 | AP33: 1 | AQ33: 1 | AS33: 1 | AT33: 1 | AU33: 1 | AW33: 2 | AX33: 1 | AY33: 1 | BA33: =COUNTIF(D33:AZ33,">0") -> 16 | BB33: =SUM(D33:AZ33) -> 17
A34: 26 | B34: Hairy Woodpecker (Picoides villosus) | C34: HAWO | AC34: 1 | BA34: =COUNTIF(D34:AZ34,">0") -> 1 | BB34: =SUM(D34:AZ34) -> 1
A35: 27 | B35: Northern Flicker (Colaptes auratus) | C35: NOFL | AI35: 1 | AN35: 1 | BA35: =COUNTIF(D35:AZ35,">0") -> 2 | BB35: =SUM(D35:AZ35) -> 2
A36: 28 | B36: Pileated Woodpecker (Dryocopus pileatus) | C36: PIWO | E36: 1 | R36: 1 | BA36: =COUNTIF(D36:AZ36,">0") -> 2 | BB36: =SUM(D36:AZ36) -> 2
A37: 28 | B37: Eastern Wood-Pewee (Contopus virens) | C37: EAWP | F37: 2 | G37: 2 | H37: 2 | I37: 1 | K37: 1 | M37: 2 | AA37: 1 | AB37: 1 | AC37: 2 | AE37: 2 | AH37: 1 | AJ37: 2 | AL37: 1 | AO37: 1 | AZ37: 1 | BA37: =COUNTIF(D37:AZ37,">0") -> 15 | BB37: =SUM(D37:AZ37) -> 22
A38: 29 | B38: Alder Flycatcher (Empidonax alnorum) | C38: ALFL | AK38: 2 | BA38: =COUNTIF(D38:AZ38,">0") -> 1 | BB38: =SUM(D38:AZ38) -> 2
A39: 30 | B39: Willow Flycatcher (Empidonax traillii) | C39: WIFL | D39: 2 | L39: 2 | BA39: =COUNTIF(D39:AZ39,">0") -> 2 | BB39: =SUM(D39:AZ39) -> 4
A40: 31 | B40: Least Flycatcher (Empidonax minimus) | C40: LEFL | BA40: =COUNTIF(D40:AZ40,">0") -> 0 | BB40: =SUM(D40:AZ40) -> 0
...

Sheet GPS Coordinates
A2: 42526 | B2: 42526 | C2: 42527 | D2: 42526 | E2: 42527 | F2: 42527 | G2: 42526 | H2: 42527 | I2: 42527 | J2: 42531 | K2: No DATA | L2: No DATA | M2: No DATA | N2: 42531 | O2: 42531 | P2: No DATA | Q2: No DATA | R2: No DATA | S2: No DATA | T2: No DATA | U2: No DATA | V2: No DATA | W2: No DATA | X2: 42528 | Y2: 42528 | Z2: 42528 | AA2: 42528 | AB2: 42528 | AC2: 42529 | AD2: 42529 | AE2: 42529 | AF2: 42529 | AG2: 42529 | AH2: 42529 | AI2: 42529 | AJ2: 42534 | AK2: 42534 | AL2: 42534 | AM2: 42534 | AN2: 42533 | AO2: 42533 | AP2: 42533 | AQ2: 42533 | AR2: 42535 | AS2: 42534 | AT2: 42534 | AU2: 42535 | AV2: 42535 | AW2: 42535
A3: 0.25 | B3: 0.26388889 | C3: 0.23194444 | D3: 0.28402778 | E3: 0.26944444 | F3: 0.25277778 | G3: 0.3 | H3: 0.29027778 | I3: 0.30416667 | J3: 0.23263889 | N3: 0.29097222 | O3: 0.30416667 | X3: 0.22708333 | Y3: 0.24166667 | Z3: 0.25486111 | AA3: 0.30277778 | AB3: 0.28402778 | AC3: 0.23958333 | AD3: 0.25555556 | AE3: 0.26666667 | AF3: 0.28055556 | AG3: 0.29652778 | AH3: 0.31111111 | AI3: 0.32361111 | AJ3: 0.22222222 | AK3: 0.2375 | AL3: 0.24861111 | AM3: 0.26388889 | AN3: 0.24791667 | AO3: 0.26041667 | AP3: 0.27013889 | AQ3: 0.28472222 | AR3: 0.21041667 | AS3: 0.29097222 | AT3: 0.30625 | AU3: 0.22430556 | AV3: 0.23958333 | AW3: 0.25277778
A4: BWR-001 | B4: BWR-002 | C4: BWR-003 | D4: BWR-004 | E4: BWR-005 | F4: BWR-006 | G4: BWR-007 | H4: BWR-008 | I4: BWR-009 | J4: BWR-010 | K4: BWR-011 | L4: BWR-012 | M4: BWR-013 | N4: BWR-014 | O4: BWR-015 | P4: BWR-016 | Q4: BWR-017 | R4: BWR-018 | S4: BWR-019 | T4: BWR-020 | U4: BWR-021 | V4: BWR-022 | W4: BWR-023 | X4: AOC-024 | Y4: AOC-025 | Z4: AOC-026 | AA4: AOC-027 | AB4: AOC-028 | AC4: AOC-029 | AD4: AOC-030 | AE4: AOC-031 | AF4: AOC-032 | AG4: AOC-033 | AH4: AOC-034 | AI4: AOC-035 | AJ4: Taylor-036 | AK4: Taylor-037 | AL4: Taylor-038 | AM4: Taylor-039 | AN4: Taylor-040 | AO4: Taylor-041 | AP4: Taylor-042 | AQ4: Taylor-043 | AR4: Wildwood-044 | AS4: Kiwanis-045 | AT4: Kiwanis-046 | AU4: Kiwanis-047 | AV4: Kiwanis-048 | AW4: Kiwanis-049
A5: N 43 43.2833333333333 | B5: N 43 43.2933333333333 | C5: N 43 43.4916666666667 | D5: N 43 43.506 | E5: N 43 43.6366666666667 | F5: N 43 43.6583333333333 | G5: N 43 43.52 | H5: N 43 43.4933333333333 | I5: N 43 43.3816666666667 | J5: N 43 43.6333333333333 | K5: N 43 43.74 | L5: N 43 44.058 | M5: N 43 43.8783333333333 | N5: N 43 43.8433333333333 | O5: N 43 43.7433333333333 | P5: N 43 43.6483333333333 | Q5: N 43 43.5833333333333 | R5: N 43 44.218 | S5: N 43 44.0583333333333 | T5: N 43 43.9216666666667 | U5: N 43 43.8033333333333 | V5: N 43 43.865 | W5: N 43 43.7166666666667 | X5: N 43 43.18 | Y5: N 43 43.3033333333333 | Z5: N 43 43.434 | AA5: N 43 43.557 | AB5: N 43 43.689 | AC5: N 43 44.24 | AD5: N 43 44.3366666666667 | AE5: N 43 44.3766666666667 | AF5: N 43 44.03 | AG5: N 43 44.03 | AH5: N 43 43.9816666666667 | AI5: N 43 44.13 | AJ5: N 43 44.401 | AK5: N 43 44.465 | AL5: N 43 44.466 | AM5: N 43 44.44 | AN5: N 43 44.455 | AO5: N 43 44.488 | AP5: N 43 44.565 | AQ5: N 43 44.581 | AR5: N 43 44.669 | AS5: N 43 44.882 | AT5: N 43 45.045 | AU5: N 43 45.268 | AV5: N 43 44.968 | AW5: N 43 45.121
A6: W 87 47.5366666666667 | B6: W 87 47.765 | C6: W 87 47.9 | D6: W 87 47.614 | E6: W 87 47.7466666666667 | F6: W 87 47.5266666666667 | G6: W 87 47.425 | H6: W 87 47.1966666666667 | I6: W 87 47.415 | J6: W 87 46.67 | K6: W 87 46.8583333333333 | L6: W 87 46.895 | M6: W 87 47 | N6: W 87 47.37 | O6: W 87 47.2916666666667 | P6: W 87 47.1083333333333 | Q6: W 87 46.8866666666667 | R6: W 87 46.495 | S6: W 87 46.5333333333333 | T6: W 87 46.5716666666667 | U6: W 87 46.4033333333333 | V6: W 87 46.1966666666667 | W6: W 87 46.0883333333333 | X6: W 87 46.0116666666667 | Y6: W 87 45.883 | Z6: W 87 45.924 | AA6: W 87 45.719 | AB6: W 87 45.834 | AC6: W 87 46.045 | AD6: W 87 45.845 | AE6: W 87 45.6466666666667 | AF6: W 87 45.93 | AG6: W 87 45.93 | AH6: W 87 46.1483333333333 | AI6: W 87 46.2066666666667 | AJ6: W 87 44.827 | AK6: W 87 45.1683333333333 | AL6: W 87 45.336 | AM6: W 87 45.495 | AN6: W 87 44.58 | AO6: W 87 44.415 | AP6: W 87 44.323 | AQ6: W 87 44.153 | AR6: W 87 44.018 | AS6: W 87 43.739 | AT6: W 87 43.547 | AU6: W 87 43.545 | AV6: W 87 43.726 | AW6: W 87 43.725
A7: 43.721389 | B7: 43.721556 | C7: 43.724861 | D7: 43.7251 | E7: 43.727278 | F7: 43.727639 | G7: 43.725333 | H7: 43.724889 | I7: 43.723028 | J7: 43.727222 | K7: 43.729 | L7: 43.7343 | M7: 43.731306 | N7: 43.730722 | O7: 43.729056 | P7: 43.727472 | Q7: 43.726389 | R7: 43.736967 | S7: 43.734306 | T7: 43.732028 | U7: 43.730056 | V7: 43.731083 | W7: 43.728611 | X7: 43.719667 | Y7: 43.721722 | Z7: 43.7239 | AA7: 43.72595 | AB7: 43.72815 | AC7: 43.737333 | AD7: 43.738944 | AE7: 43.739611 | AF7: 43.733833 | AG7: 43.733833 | AH7: 43.733028 | AI7: 43.7355 | AJ7: 43.740017 | AK7: 43.741083 | AL7: 43.7411 | AM7: 43.740667 | AN7: 43.740917 | AO7: 43.741467 | AP7: 43.74275 | AQ7: 43.743017 | AR7: 43.744483 | AS7: 43.748033 | AT7: 43.75075 | AU7: 43.754467 | AV7: 43.749467 | AW7: 43.752017
A8: -87.792278 | B8: -87.796083 | C8: -87.798333 | D8: -87.793567 | E8: -87.795778 | F8: -87.792111 | G8: -87.790417 | H8: -87.786611 | I8: -87.79025 | J8: -87.777833 | K8: -87.780972 | L8: -87.781583 | M8: -87.783333 | N8: -87.7895 | O8: -87.788194 | P8: -87.785139 | Q8: -87.781444 | R8: -87.774917 | S8: -87.775556 | T8: -87.776194 | U8: -87.773389 | V8: -87.769944 | W8: -87.768139 | X8: -87.766861 | Y8: -87.764717 | Z8: -87.7654 | AA8: -87.761983 | AB8: -87.7639 | AC8: -87.767417 | AD8: -87.764083 | AE8: -87.760778 | AF8: -87.7655 | AG8: -87.7655 | AH8: -87.769139 | AI8: -87.770111 | AJ8: -87.747117 | AK8: -87.752806 | AL8: -87.7556 | AM8: -87.75825 | AN8: -87.743 | AO8: -87.74025 | AP8: -87.738717 | AQ8: -87.735883 | AR8: -87.733633 | AS8: -87.728983 | AT8: -87.725783 | AU8: -87.72575 | AV8: -87.728767 | AW8: -87.72875
AS9: By kayak | AT9: By kayak | AU9: By kayak | AV9: By kayak
A10: Date | B10: Start Time | D10: End Time | F10: Hours | G10: Pts
A11: 42526 | B11: =A3 -> 0.25 | D11: 0.30694444 | F11: =(D11-B11) -> 0.056944444 | G11: =COUNTIF($A$2:$BI$2,A11) -> 4 | H11: Kohler | I11: 4
A12: 42527 | B12: 0.23194444 | D12: 0.31111111 | F12: =(D12-B12) -> 0.079166667 | G12: =COUNTIF($A$2:$BI$2,A12) -> 5 | H12: Kohler | I12: 5
A13: 42528 | B13: 0.22708333 | D13: 0.30972222 | F13: =(D13-B13) -> 0.082638889 | G13: =COUNTIF($A$2:$BI$2,A13) -> 5 | H13: Kohler | I13: 5
A14: 42529 | B14: 0.23958333 | D14: 0.33055556 | F14: =(D14-B14) -> 0.090972222 | G14: =COUNTIF($A$2:$BI$2,A14) -> 7 | H14: Kohler | I14: 7
A15: 42530 | F15: =(D15-B15) -> 0 | G15: =COUNTIF($A$2:$BI$2,A15) -> 0
A16: 42531 | B16: 0.23263889 | D16: 0.31111111 | F16: =(D16-B16) -> 0.078472222 | G16: =COUNTIF($A$2:$BI$2,A16) -> 3 | H16: Kohler | I16: 3 | J16: =SUM(I11:I16) -> 24
A17: 42532 | F17: =(D17-B17) -> 0 | G17: =COUNTIF($A$2:$BI$2,A17) -> 0
A18: 42533 | B18: 0.24791667 | D18: 0.29166667 | F18: =(D18-B18) -> 0.04375 | G18: =COUNTIF($A$2:$BI$2,A18) -> 4 | H18: Taylor | I18: 4
A19: 42534 | B19: 0.22222222 | D19: 0.31319444 | F19: =(D19-B19) -> 0.090972222 | G19: =COUNTIF($A$2:$BI$2,A19) -> 6 | H19: Taylor | I19: 4 | J19: Kiwanis | K19: 2
A20: 42535 | B20: 0.21041667 | D20: 0.25277778 | F20: =(D20-B20) -> 0.042361111 | G20: =COUNTIF($A$2:$BI$2,A20) -> 4 | H20: Wildwood | I20: 1 | J20: Kiwanis | K20: 3
F21: =SUM(F11:G20) -> 38.565278 | G21: =SUM(G11:G20) -> 38
