Workbook
Name NCList: 'Expected guild %'!$J$5:$J$13

Sheet Enter field data
A1: Natural Community Verification -Data Entry Spreadsheet | E1: Form V6. 3-23-2017
A2: Only enter data into the cells shaded in orange. The rest will autofill/autocalculate.
A4: Biologist: | B4: unmuth | F4: KEY:
A5: Today's Date: | B5: 42898 | R5: Enter data in cell; these entries are used to lookup/autocalculate values in green cells
A6: Sample Date: | B6: 41443 | R6: Value will autocalculate based in on data entered in orange cells
A7: Station Number: | B7: 533073
A8: Station Name/Description: | B8: BRUSH CREEK - NEAR RICHLAND CENTER, WI (US Covered Bridge Rd.)
A9: Fieldwork Description: | B9: Fish survey
A11: Waterbody Name: | B11: Brush Creek
A12: Counties: | B12: Richland Co.
A13: AUs: | B13: 13367
A14: WBIC: | B14: 1226200
A15: HUC10 (req'd for weather data): | B15: 0707000511 | E15: Must enter all 10 digits including preceding zeros
A17: Modeled Natural Community: | B17: Coldwater | E17: Click for picklist: This field must be entered exactly as shown in the tables on tab 2 for autocalculations to work.
G18: Tallies
A19: Fish Catch (enter each species and the number found) | G19: Stream Species Yes or No? | H19: Thermal | K19: Size | O19: Tolerance
A20: Species (common name) | B20: Number | C20: Thermal Guild (C,T,W) | D20: Stream Size (S,M,L) | E20: Tolerance (IT,IM,T) | F20: Number of Stream Species | H20: C | I20: T | J20: W | K20: S | L20: M | M20: Lake | N20: L | O20: IT | P20: IM | Q20: T | R20: NOTE
A21: SOUTHERN BROOK LAMPREY | B21: 7 | C21: =IFERROR(VLOOKUP($A21,'Species guilds'!$A$3:$F$301,3,FALSE),0) -> T | D21: =IFERROR(VLOOKUP($A21,'Species guilds'!$A$3:$F$301,4,FALSE),0) -> M | E21: =IFERROR(VLOOKUP($A21,'Species guilds'!$A$3:$F$301,5,FALSE),0) -> IT | F21: =IF(AND(M21>0,B21>0)=FALSE,B21,0) -> 7 | G21: =IF(D21="Lake",0,1) -> 1 | H21: =IF($C21=H$20,$B21*G21,0) -> 0 | I21: =IF($C21=I$20,$B21*G21,0) -> 7 | J21: =IF($C21=J$20,$B21*G21,0) -> 0 | K21: =IF($D21=K$20,$B21*G21,0) -> 0 | L21: =IF($D21=L$20,$B21*G21,0) -> 7 | M21: =IF($D21=M$20,$B21,0) -> 0 | N21: =IF($D21=N$20,$B21*G21,0) -> 0 | O21: =IF($E21=O$20,$B21*G21,0) -> 7 | P21: =IF($E21=P$20,$B21*G21,0) -> 0 | Q21: =IF($E21=Q$20,$B21*G21,0) -> 0 | R21: =IF(AND(B21>0,C21=0)=TRUE,"SPECIES NOT FOUND, CHECK 'SPECIES GUILDS' TAB FOR CORRECT NOMENCLATURE",IF(A21="LAMPREYS (AMMOCOETE)","ASSUMES SPECIES ARE NOT CHESTNUT OR SILVER LAMPREYS",""))
A22: BROWN TROUT | B22: 2 | C22: =IFERROR(VLOOKUP($A22,'Species guilds'!$A$3:$F$301,3,FALSE),0) -> C | D22: =IFERROR(VLOOKUP($A22,'Species guilds'!$A$3:$F$301,4,FALSE),0) -> M | E22: =IFERROR(VLOOKUP($A22,'Species guilds'!$A$3:$F$301,5,FALSE),0) -> IM | F22: =IF(AND(M22>0,B22>0)=FALSE,B22,0) -> 2 | G22: =IF(D22="Lake",0,1) -> 1 | H22: =IF($C22=H$20,$B22*G22,0) -> 2 | I22: =IF($C22=I$20,$B22*G22,0) -> 0 | J22: =IF($C22=J$20,$B22*G22,0) -> 0 | K22: =IF($D22=K$20,$B22*G22,0) -> 0 | L22: =IF($D22=L$20,$B22*G22,0) -> 2 | M22: =IF($D22=M$20,$B22,0) -> 0 | N22: =IF($D22=N$20,$B22*G22,0) -> 0 | O22: =IF($E22=O$20,$B22*G22,0) -> 0 | P22: =IF($E22=P$20,$B22*G22,0) -> 2 | Q22: =IF($E22=Q$20,$B22*G22,0) -> 0 | R22: =IF(AND(B22>0,C22=0)=TRUE,"SPECIES NOT FOUND, CHECK 'SPECIES GUILDS' TAB FOR CORRECT NOMENCLATURE",IF(A22="LAMPREYS (AMMOCOETE)","ASSUMES SPECIES ARE NOT CHESTNUT OR SILVER LAMPREYS",""))
A23: BROOK TROUT | B23: 14 | C23: =IFERROR(VLOOKUP($A23,'Species guilds'!$A$3:$F$301,3,FALSE),0) -> C | D23: =IFERROR(VLOOKUP($A23,'Species guilds'!$A$3:$F$301,4,FALSE),0) -> S | E23: =IFERROR(VLOOKUP($A23,'Species guilds'!$A$3:$F$301,5,FALSE),0) -> IT | F23: =IF(AND(M23>0,B23>0)=FALSE,B23,0) -> 14 | G23: =IF(D23="Lake",0,1) -> 1 | H23: =IF($C23=H$20,$B23*G23,0) -> 14 | I23: =IF($C23=I$20,$B23*G23,0) -> 0 | J23: =IF($C23=J$20,$B23*G23,0) -> 0 | K23: =IF($D23=K$20,$B23*G23,0) -> 14 | L23: =IF($D23=L$20,$B23*G23,0) -> 0 | M23: =IF($D23=M$20,$B23,0) -> 0 | N23: =IF($D23=N$20,$B23*G23,0) -> 0 | O23: =IF($E23=O$20,$B23*G23,0) -> 14 | P23: =IF($E23=P$20,$B23*G23,0) -> 0 | Q23: =IF($E23=Q$20,$B23*G23,0) -> 0 | R23: =IF(AND(B23>0,C23=0)=TRUE,"SPECIES NOT FOUND, CHECK 'SPECIES GUILDS' TAB FOR CORRECT NOMENCLATURE",IF(A23="LAMPREYS (AMMOCOETE)","ASSUMES SPECIES ARE NOT CHESTNUT OR SILVER LAMPREYS",""))
A24: CREEK CHUB | B24: 1 | C24: =IFERROR(VLOOKUP($A24,'Species guilds'!$A$3:$F$301,3,FALSE),0) -> T | D24: =IFERROR(VLOOKUP($A24,'Species guilds'!$A$3:$F$301,4,FALSE),0) -> S | E24: =IFERROR(VLOOKUP($A24,'Species guilds'!$A$3:$F$301,5,FALSE),0) -> T | F24: =IF(AND(M24>0,B24>0)=FALSE,B24,0) -> 1 | G24: =IF(D24="Lake",0,1) -> 1 | H24: =IF($C24=H$20,$B24*G24,0) -> 0 | I24: =IF($C24=I$20,$B24*G24,0) -> 1 | J24: =IF($C24=J$20,$B24*G24,0) -> 0 | K24: =IF($D24=K$20,$B24*G24,0) -> 1 | L24: =IF($D24=L$20,$B24*G24,0) -> 0 | M24: =IF($D24=M$20,$B24,0) -> 0 | N24: =IF($D24=N$20,$B24*G24,0) -> 0 | O24: =IF($E24=O$20,$B24*G24,0) -> 0 | P24: =IF($E24=P$20,$B24*G24,0) -> 0 | Q24: =IF($E24=Q$20,$B24*G24,0) -> 1 | R24: =IF(AND(B24>0,C24=0)=TRUE,"SPECIES NOT FOUND, CHECK 'SPECIES GUILDS' TAB FOR CORRECT NOMENCLATURE",IF(A24="LAMPREYS (AMMOCOETE)","ASSUMES SPECIES ARE NOT CHESTNUT OR SILVER LAMPREYS",""))
A25: WHITE SUCKER | B25: 13 | C25: =IFERROR(VLOOKUP($A25,'Species guilds'!$A$3:$F$301,3,FALSE),0) -> T | D25: =IFERROR(VLOOKUP($A25,'Species guilds'!$A$3:$F$301,4,FALSE),0) -> M | E25: =IFERROR(VLOOKUP($A25,'Species guilds'!$A$3:$F$301,5,FALSE),0) -> T | F25: =IF(AND(M25>0,B25>0)=FALSE,B25,0) -> 13 | G25: =IF(D25="Lake",0,1) -> 1 | H25: =IF($C25=H$20,$B25*G25,0) -> 0 | I25: =IF($C25=I$20,$B25*G25,0) -> 13 | J25: =IF($C25=J$20,$B25*G25,0) -> 0 | K25: =IF($D25=K$20,$B25*G25,0) -> 0 | L25: =IF($D25=L$20,$B25*G25,0) -> 13 | M25: =IF($D25=M$20,$B25,0) -> 0 | N25: =IF($D25=N$20,$B25*G25,0) -> 0 | O25: =IF($E25=O$20,$B25*G25,0) -> 0 | P25: =IF($E25=P$20,$B25*G25,0) -> 0 | Q25: =IF($E25=Q$20,$B25*G25,0) -> 13 | R25: =IF(AND(B25>0,C25=0)=TRUE,"SPECIES NOT FOUND, CHECK 'SPECIES GUILDS' TAB FOR CORRECT NOMENCLATURE",IF(A25="LAMPREYS (AMMOCOETE)","ASSUMES SPECIES ARE NOT CHESTNUT OR SILVER LAMPREYS",""))
A26: BROOK STICKLEBACK | B26: 71 | C26: =IFERROR(VLOOKUP($A26,'Species guilds'!$A$3:$F$301,3,FALSE),0) -> T | D26: =IFERROR(VLOOKUP($A26,'Species guilds'!$A$3:$F$301,4,FALSE),0) -> S | E26: =IFERROR(VLOOKUP($A26,'Species guilds'!$A$3:$F$301,5,FALSE),0) -> T | F26: =IF(AND(M26>0,B26>0)=FALSE,B26,0) -> 71 | G26: =IF(D26="Lake",0,1) -> 1 | H26: =IF($C26=H$20,$B26*G26,0) -> 0 | I26: =IF($C26=I$20,$B26*G26,0) -> 71 | J26: =IF($C26=J$20,$B26*G26,0) -> 0 | K26: =IF($D26=K$20,$B26*G26,0) -> 71 | L26: =IF($D26=L$20,$B26*G26,0) -> 0 | M26: =IF($D26=M$20,$B26,0) -> 0 | N26: =IF($D26=N$20,$B26*G26,0) -> 0 | O26: =IF($E26=O$20,$B26*G26,0) -> 0 | P26: =IF($E26=P$20,$B26*G26,0) -> 0 | Q26: =IF($E26=Q$20,$B26*G26,0) -> 71 | R26: =IF(AND(B26>0,C26=0)=TRUE,"SPECIES NOT FOUND, CHECK 'SPECIES GUILDS' TAB FOR CORRECT NOMENCLATURE",IF(A26="LAMPREYS (AMMOCOETE)","ASSUMES SPECIES ARE NOT CHESTNUT OR SILVER LAMPREYS",""))
A27: BLUEGILL | B27: 13 | C27: =IFERROR(VLOOKUP($A27,'Species guilds'!$A$3:$F$301,3,FALSE),0) -> W | D27: =IFERROR(VLOOKUP($A27,'Species guilds'!$A$3:$F$301,4,FALSE),0) -> L | E27: =IFERROR(VLOOKUP($A27,'Species guilds'!$A$3:$F$301,5,FALSE),0) -> IM | F27: =IF(AND(M27>0,B27>0)=FALSE,B27,0) -> 13 | G27: =IF(D27="Lake",0,1) -> 1 | H27: =IF($C27=H$20,$B27*G27,0) -> 0 | I27: =IF($C27=I$20,$B27*G27,0) -> 0 | J27: =IF($C27=J$20,$B27*G27,0) -> 13 | K27: =IF($D27=K$20,$B27*G27,0) -> 0 | L27: =IF($D27=L$20,$B27*G27,0) -> 0 | M27: =IF($D27=M$20,$B27,0) -> 0 | N27: =IF($D27=N$20,$B27*G27,0) -> 13 | O27: =IF($E27=O$20,$B27*G27,0) -> 0 | P27: =IF($E27=P$20,$B27*G27,0) -> 13 | Q27: =IF($E27=Q$20,$B27*G27,0) -> 0 | R27: =IF(AND(B27>0,C27=0)=TRUE,"SPECIES NOT FOUND, CHECK 'SPECIES GUILDS' TAB FOR CORRECT NOMENCLATURE",IF(A27="LAMPREYS (AMMOCOETE)","ASSUMES SPECIES ARE NOT CHESTNUT OR SILVER LAMPREYS",""))
A28: JOHNNY DARTER | B28: 3 | C28: =IFERROR(VLOOKUP($A28,'Species guilds'!$A$3:$F$301,3,FALSE),0) -> T | D28: =IFERROR(VLOOKUP($A28,'Species guilds'!$A$3:$F$301,4,FALSE),0) -> M | E28: =IFERROR(VLOOKUP($A28,'Species guilds'!$A$3:$F$301,5,FALSE),0) -> IM | F28: =IF(AND(M28>0,B28>0)=FALSE,B28,0) -> 3 | G28: =IF(D28="Lake",0,1) -> 1 | H28: =IF($C28=H$20,$B28*G28,0) -> 0 | I28: =IF($C28=I$20,$B28*G28,0) -> 3 | J28: =IF($C28=J$20,$B28*G28,0) -> 0 | K28: =IF($D28=K$20,$B28*G28,0) -> 0 | L28: =IF($D28=L$20,$B28*G28,0) -> 3 | M28: =IF($D28=M$20,$B28,0) -> 0 | N28: =IF($D28=N$20,$B28*G28,0) -> 0 | O28: =IF($E28=O$20,$B28*G28,0) -> 0 | P28: =IF($E28=P$20,$B28*G28,0) -> 3 | Q28: =IF($E28=Q$20,$B28*G28,0) -> 0 | R28: =IF(AND(B28>0,C28=0)=TRUE,"SPECIES NOT FOUND, CHECK 'SPECIES GUILDS' TAB FOR CORRECT NOMENCLATURE",IF(A28="LAMPREYS (AMMOCOETE)","ASSUMES SPECIES ARE NOT CHESTNUT OR SILVER LAMPREYS",""))
A29: Lampreys (Ammocoete) | B29: 9 | C29: =IFERROR(VLOOKUP($A29,'Species guilds'!$A$3:$F$301,3,FALSE),0) -> T | D29: =IFERROR(VLOOKUP($A29,'Species guilds'!$A$3:$F$301,4,FALSE),0) -> M | E29: =IFERROR(VLOOKUP($A29,'Species guilds'!$A$3:$F$301,5,FALSE),0) -> IT | F29: =IF(AND(M29>0,B29>0)=FALSE,B29,0) -> 9 | G29: =IF(D29="Lake",0,1) -> 1 | H29: =IF($C29=H$20,$B29*G29,0) -> 0 | I29: =IF($C29=I$20,$B29*G29,0) -> 9 | J29: =IF($C29=J$20,$B29*G29,0) -> 0 | K29: =IF($D29=K$20,$B29*G29,0) -> 0 | L29: =IF($D29=L$20,$B29*G29,0) -> 9 | M29: =IF($D29=M$20,$B29,0) -> 0 | N29: =IF($D29=N$20,$B29*G29,0) -> 0 | O29: =IF($E29=O$20,$B29*G29,0) -> 9 | P29: =IF($E29=P$20,$B29*G29,0) -> 0 | Q29: =IF($E29=Q$20,$B29*G29,0) -> 0 | R29: =IF(AND(B29>0,C29=0)=TRUE,"SPECIES NOT FOUND, CHECK 'SPECIES GUILDS' TAB FOR CORRECT NOMENCLATURE",IF(A29="LAMPREYS (AMMOCOETE)","ASSUMES SPECIES ARE NOT CHESTNUT OR SILVER LAMPREYS","")) -> ASSUMES SPECIES ARE NOT CHESTNUT OR SILVER LAMPREYS
C30: =IFERROR(VLOOKUP($A30,'Species guilds'!$A$3:$F$301,3,FALSE),0) -> 0 | D30: =IFERROR(VLOOKUP($A30,'Species guilds'!$A$3:$F$301,4,FALSE),0) -> 0 | E30: =IFERROR(VLOOKUP($A30,'Species guilds'!$A$3:$F$301,5,FALSE),0) -> 0 | F30: =IF(AND(M30>0,B30>0)=FALSE,B30,0) -> 0 | G30: =IF(D30="Lake",0,1) -> 1 | H30: =IF($C30=H$20,$B30*G30,0) -> 0 | I30: =IF($C30=I$20,$B30*G30,0) -> 0 | J30: =IF($C30=J$20,$B30*G30,0) -> 0 | K30: =IF($D30=K$20,$B30*G30,0) -> 0 | L30: =IF($D30=L$20,$B30*G30,0) -> 0 | M30: =IF($D30=M$20,$B30,0) -> 0 | N30: =IF($D30=N$20,$B30*G30,0) -> 0 | O30: =IF($E30=O$20,$B30*G30,0) -> 0 | P30: =IF($E30=P$20,$B30*G30,0) -> 0 | Q30: =IF($E30=Q$20,$B30*G30,0) -> 0 | R30: =IF(AND(B30>0,C30=0)=TRUE,"SPECIES NOT FOUND, CHECK 'SPECIES GUILDS' TAB FOR CORRECT NOMENCLATURE",IF(A30="LAMPREYS (AMMOCOETE)","ASSUMES SPECIES ARE NOT CHESTNUT OR SILVER LAMPREYS",""))
C31: =IFERROR(VLOOKUP($A31,'Species guilds'!$A$3:$F$301,3,FALSE),0) -> 0 | D31: =IFERROR(VLOOKUP($A31,'Species guilds'!$A$3:$F$301,4,FALSE),0) -> 0 | E31: =IFERROR(VLOOKUP($A31,'Species guilds'!$A$3:$F$301,5,FALSE),0) -> 0 | F31: =IF(AND(M31>0,B31>0)=FALSE,B31,0) -> 0 | G31: =IF(D31="Lake",0,1) -> 1 | H31: =IF($C31=H$20,$B31*G31,0) -> 0 | I31: =IF($C31=I$20,$B31*G31,0) -> 0 | J31: =IF($C31=J$20,$B31*G31,0) -> 0 | K31: =IF($D31=K$20,$B31*G31,0) -> 0 | L31: =IF($D31=L$20,$B31*G31,0) -> 0 | M31: =IF($D31=M$20,$B31,0) -> 0 | N31: =IF($D31=N$20,$B31*G31,0) -> 0 | O31: =IF($E31=O$20,$B31*G31,0) -> 0 | P31: =IF($E31=P$20,$B31*G31,0) -> 0 | Q31: =IF($E31=Q$20,$B31*G31,0) -> 0 | R31: =IF(AND(B31>0,C31=0)=TRUE,"SPECIES NOT FOUND, CHECK 'SPECIES GUILDS' TAB FOR CORRECT NOMENCLATURE",IF(A31="LAMPREYS (AMMOCOETE)","ASSUMES SPECIES ARE NOT CHESTNUT OR SILVER LAMPREYS",""))
C32: =IFERROR(VLOOKUP($A32,'Species guilds'!$A$3:$F$301,3,FALSE),0) -> 0 | D32: =IFERROR(VLOOKUP($A32,'Species guilds'!$A$3:$F$301,4,FALSE),0) -> 0 | E32: =IFERROR(VLOOKUP($A32,'Species guilds'!$A$3:$F$301,5,FALSE),0) -> 0 | F32: =IF(AND(M32>0,B32>0)=FALSE,B32,0) -> 0 | G32: =IF(D32="Lake",0,1) -> 1 | H32: =IF($C32=H$20,$B32*G32,0) -> 0 | I32: =IF($C32=I$20,$B32*G32,0) -> 0 | J32: =IF($C32=J$20,$B32*G32,0) -> 0 | K32: =IF($D32=K$20,$B32*G32,0) -> 0 | L32: =IF($D32=L$20,$B32*G32,0) -> 0 | M32: =IF($D32=M$20,$B32,0) -> 0 | N32: =IF($D32=N$20,$B32*G32,0) -> 0 | O32: =IF($E32=O$20,$B32*G32,0) -> 0 | P32: =IF($E32=P$20,$B32*G32,0) -> 0 | Q32: =IF($E32=Q$20,$B32*G32,0) -> 0 | R32: =IF(AND(B32>0,C32=0)=TRUE,"SPECIES NOT FOUND, CHECK 'SPECIES GUILDS' TAB FOR CORRECT NOMENCLATURE",IF(A32="LAMPREYS (AMMOCOETE)","ASSUMES SPECIES ARE NOT CHESTNUT OR SILVER LAMPREYS",""))
C33: =IFERROR(VLOOKUP($A33,'Species guilds'!$A$3:$F$301,3,FALSE),0) -> 0 | D33: =IFERROR(VLOOKUP($A33,'Species guilds'!$A$3:$F$301,4,FALSE),0) -> 0 | E33: =IFERROR(VLOOKUP($A33,'Species guilds'!$A$3:$F$301,5,FALSE),0) -> 0 | F33: =IF(AND(M33>0,B33>0)=FALSE,B33,0) -> 0 | G33: =IF(D33="Lake",0,1) -> 1 | H33: =IF($C33=H$20,$B33*G33,0) -> 0 | I33: =IF($C33=I$20,$B33*G33,0) -> 0 | J33: =IF($C33=J$20,$B33*G33,0) -> 0 | K33: =IF($D33=K$20,$B33*G33,0) -> 0 | L33: =IF($D33=L$20,$B33*G33,0) -> 0 | M33: =IF($D33=M$20,$B33,0) -> 0 | N33: =IF($D33=N$20,$B33*G33,0) -> 0 | O33: =IF($E33=O$20,$B33*G33,0) -> 0 | P33: =IF($E33=P$20,$B33*G33,0) -> 0 | Q33: =IF($E33=Q$20,$B33*G33,0) -> 0 | R33: =IF(AND(B33>0,C33=0)=TRUE,"SPECIES NOT FOUND, CHECK 'SPECIES GUILDS' TAB FOR CORRECT NOMENCLATURE",IF(A33="LAMPREYS (AMMOCOETE)","ASSUMES SPECIES ARE NOT CHESTNUT OR SILVER LAMPREYS",""))
C34: =IFERROR(VLOOKUP($A34,'Species guilds'!$A$3:$F$301,3,FALSE),0) -> 0 | D34: =IFERROR(VLOOKUP($A34,'Species guilds'!$A$3:$F$301,4,FALSE),0) -> 0 | E34: =IFERROR(VLOOKUP($A34,'Species guilds'!$A$3:$F$301,5,FALSE),0) -> 0 | F34: =IF(AND(M34>0,B34>0)=FALSE,B34,0) -> 0 | G34: =IF(D34="Lake",0,1) -> 1 | H34: =IF($C34=H$20,$B34*G34,0) -> 0 | I34: =IF($C34=I$20,$B34*G34,0) -> 0 | J34: =IF($C34=J$20,$B34*G34,0) -> 0 | K34: =IF($D34=K$20,$B34*G34,0) -> 0 | L34: =IF($D34=L$20,$B34*G34,0) -> 0 | M34: =IF($D34=M$20,$B34,0) -> 0 | N34: =IF($D34=N$20,$B34*G34,0) -> 0 | O34: =IF($E34=O$20,$B34*G34,0) -> 0 | P34: =IF($E34=P$20,$B34*G34,0) -> 0 | Q34: =IF($E34=Q$20,$B34*G34,0) -> 0 | R34: =IF(AND(B34>0,C34=0)=TRUE,"SPECIES NOT FOUND, CHECK 'SPECIES GUILDS' TAB FOR CORRECT NOMENCLATURE",IF(A34="LAMPREYS (AMMOCOETE)","ASSUMES SPECIES ARE NOT CHESTNUT OR SILVER LAMPREYS",""))
C35: =IFERROR(VLOOKUP($A35,'Species guilds'!$A$3:$F$301,3,FALSE),0) -> 0 | D35: =IFERROR(VLOOKUP($A35,'Species guilds'!$A$3:$F$301,4,FALSE),0) -> 0 | E35: =IFERROR(VLOOKUP($A35,'Species guilds'!$A$3:$F$301,5,FALSE),0) -> 0 | F35: =IF(AND(M35>0,B35>0)=FALSE,B35,0) -> 0 | G35: =IF(D35="Lake",0,1) -> 1 | H35: =IF($C35=H$20,$B35*G35,0) -> 0 | I35: =IF($C35=I$20,$B35*G35,0) -> 0 | J35: =IF($C35=J$20,$B35*G35,0) -> 0 | K35: =IF($D35=K$20,$B35*G35,0) -> 0 | L35: =IF($D35=L$20,$B35*G35,0) -> 0 | M35: =IF($D35=M$20,$B35,0) -> 0 | N35: =IF($D35=N$20,$B35*G35,0) -> 0 | O35: =IF($E35=O$20,$B35*G35,0) -> 0 | P35: =IF($E35=P$20,$B35*G35,0) -> 0 | Q35: =IF($E35=Q$20,$B35*G35,0) -> 0 | R35: =IF(AND(B35>0,C35=0)=TRUE,"SPECIES NOT FOUND, CHECK 'SPECIES GUILDS' TAB FOR CORRECT NOMENCLATURE",IF(A35="LAMPREYS (AMMOCOETE)","ASSUMES SPECIES ARE NOT CHESTNUT OR SILVER LAMPREYS",""))
C36: =IFERROR(VLOOKUP($A36,'Species guilds'!$A$3:$F$301,3,FALSE),0) -> 0 | D36: =IFERROR(VLOOKUP($A36,'Species guilds'!$A$3:$F$301,4,FALSE),0) -> 0 | E36: =IFERROR(VLOOKUP($A36,'Species guilds'!$A$3:$F$301,5,FALSE),0) -> 0 | F36: =IF(AND(M36>0,B36>0)=FALSE,B36,0) -> 0 | G36: =IF(D36="Lake",0,1) -> 1 | H36: =IF($C36=H$20,$B36*G36,0) -> 0 | I36: =IF($C36=I$20,$B36*G36,0) -> 0 | J36: =IF($C36=J$20,$B36*G36,0) -> 0 | K36: =IF($D36=K$20,$B36*G36,0) -> 0 | L36: =IF($D36=L$20,$B36*G36,0) -> 0 | M36: =IF($D36=M$20,$B36,0) -> 0 | N36: =IF($D36=N$20,$B36*G36,0) -> 0 | O36: =IF($E36=O$20,$B36*G36,0) -> 0 | P36: =IF($E36=P$20,$B36*G36,0) -> 0 | Q36: =IF($E36=Q$20,$B36*G36,0) -> 0 | R36: =IF(AND(B36>0,C36=0)=TRUE,"SPECIES NOT FOUND, CHECK 'SPECIES GUILDS' TAB FOR CORRECT NOMENCLATURE",IF(A36="LAMPREYS (AMMOCOETE)","ASSUMES SPECIES ARE NOT CHESTNUT OR SILVER LAMPREYS",""))
C37: =IFERROR(VLOOKUP($A37,'Species guilds'!$A$3:$F$301,3,FALSE),0) -> 0 | D37: =IFERROR(VLOOKUP($A37,'Species guilds'!$A$3:$F$301,4,FALSE),0) -> 0 | E37: =IFERROR(VLOOKUP($A37,'Species guilds'!$A$3:$F$301,5,FALSE),0) -> 0 | F37: =IF(AND(M37>0,B37>0)=FALSE,B37,0) -> 0 | G37: =IF(D37="Lake",0,1) -> 1 | H37: =IF($C37=H$20,$B37*G37,0) -> 0 | I37: =IF($C37=I$20,$B37*G37,0) -> 0 | J37: =IF($C37=J$20,$B37*G37,0) -> 0 | K37: =IF($D37=K$20,$B37*G37,0) -> 0 | L37: =IF($D37=L$20,$B37*G37,0) -> 0 | M37: =IF($D37=M$20,$B37,0) -> 0 | N37: =IF($D37=N$20,$B37*G37,0) -> 0 | O37: =IF($E37=O$20,$B37*G37,0) -> 0 | P37: =IF($E37=P$20,$B37*G37,0) -> 0 | Q37: =IF($E37=Q$20,$B37*G37,0) -> 0 | R37: =IF(AND(B37>0,C37=0)=TRUE,"SPECIES NOT FOUND, CHECK 'SPECIES GUILDS' TAB FOR CORRECT NOMENCLATURE",IF(A37="LAMPREYS (AMMOCOETE)","ASSUMES SPECIES ARE NOT CHESTNUT OR SILVER LAMPREYS",""))
C38: =IFERROR(VLOOKUP($A38,'Species guilds'!$A$3:$F$301,3,FALSE),0) -> 0 | D38: =IFERROR(VLOOKUP($A38,'Species guilds'!$A$3:$F$301,4,FALSE),0) -> 0 | E38: =IFERROR(VLOOKUP($A38,'Species guilds'!$A$3:$F$301,5,FALSE),0) -> 0 | F38: =IF(AND(M38>0,B38>0)=FALSE,B38,0) -> 0 | G38: =IF(D38="Lake",0,1) -> 1 | H38: =IF($C38=H$20,$B38*G38,0) -> 0 | I38: =IF($C38=I$20,$B38*G38,0) -> 0 | J38: =IF($C38=J$20,$B38*G38,0) -> 0 | K38: =IF($D38=K$20,$B38*G38,0) -> 0 | L38: =IF($D38=L$20,$B38*G38,0) -> 0 | M38: =IF($D38=M$20,$B38,0) -> 0 | N38: =IF($D38=N$20,$B38*G38,0) -> 0 | O38: =IF($E38=O$20,$B38*G38,0) -> 0 | P38: =IF($E38=P$20,$B38*G38,0) -> 0 | Q38: =IF($E38=Q$20,$B38*G38,0) -> 0 | R38: =IF(AND(B38>0,C38=0)=TRUE,"SPECIES NOT FOUND, CHECK 'SPECIES GUILDS' TAB FOR CORRECT NOMENCLATURE",IF(A38="LAMPREYS (AMMOCOETE)","ASSUMES SPECIES ARE NOT CHESTNUT OR SILVER LAMPREYS",""))
C39: =IFERROR(VLOOKUP($A39,'Species guilds'!$A$3:$F$301,3,FALSE),0) -> 0 | D39: =IFERROR(VLOOKUP($A39,'Species guilds'!$A$3:$F$301,4,FALSE),0) -> 0 | E39: =IFERROR(VLOOKUP($A39,'Species guilds'!$A$3:$F$301,5,FALSE),0) -> 0 | F39: =IF(AND(M39>0,B39>0)=FALSE,B39,0) -> 0 | G39: =IF(D39="Lake",0,1) -> 1 | H39: =IF($C39=H$20,$B39*G39,0) -> 0 | I39: =IF($C39=I$20,$B39*G39,0) -> 0 | J39: =IF($C39=J$20,$B39*G39,0) -> 0 | K39: =IF($D39=K$20,$B39*G39,0) -> 0 | L39: =IF($D39=L$20,$B39*G39,0) -> 0 | M39: =IF($D39=M$20,$B39,0) -> 0 | N39: =IF($D39=N$20,$B39*G39,0) -> 0 | O39: =IF($E39=O$20,$B39*G39,0) -> 0 | P39: =IF($E39=P$20,$B39*G39,0) -> 0 | Q39: =IF($E39=Q$20,$B39*G39,0) -> 0 | R39: =IF(AND(B39>0,C39=0)=TRUE,"SPECIES NOT FOUND, CHECK 'SPECIES GUILDS' TAB FOR CORRECT NOMENCLATURE",IF(A39="LAMPREYS (AMMOCOETE)","ASSUMES SPECIES ARE NOT CHESTNUT OR SILVER LAMPREYS",""))
C40: =IFERROR(VLOOKUP($A40,'Species guilds'!$A$3:$F$301,3,FALSE),0) -> 0 | D40: =IFERROR(VLOOKUP($A40,'Species guilds'!$A$3:$F$301,4,FALSE),0) -> 0 | E40: =IFERROR(VLOOKUP($A40,'Species guilds'!$A$3:$F$301,5,FALSE),0) -> 0 | F40: =IF(AND(M40>0,B40>0)=FALSE,B40,0) -> 0 | G40: =IF(D40="Lake",0,1) -> 1 | H40: =IF($C40=H$20,$B40*G40,0) -> 0 | I40: =IF($C40=I$20,$B40*G40,0) -> 0 | J40: =IF($C40=J$20,$B40*G40,0) -> 0 | K40: =IF($D40=K$20,$B40*G40,0) -> 0 | L40: =IF($D40=L$20,$B40*G40,0) -> 0 | M40: =IF($D40=M$20,$B40,0) -> 0 | N40: =IF($D40=N$20,$B40*G40,0) -> 0 | O40: =IF($E40=O$20,$B40*G40,0) -> 0 | P40: =IF($E40=P$20,$B40*G40,0) -> 0 | Q40: =IF($E40=Q$20,$B40*G40,0) -> 0 | R40: =IF(AND(B40>0,C40=0)=TRUE,"SPECIES NOT FOUND, CHECK 'SPECIES GUILDS' TAB FOR CORRECT NOMENCLATURE",IF(A40="LAMPREYS (AMMOCOETE)","ASSUMES SPECIES ARE NOT CHESTNUT OR SILVER LAMPREYS",""))
C41: =IFERROR(VLOOKUP($A41,'Species guilds'!$A$3:$F$301,3,FALSE),0) -> 0 | D41: =IFERROR(VLOOKUP($A41,'Species guilds'!$A$3:$F$301,4,FALSE),0) -> 0 | E41: =IFERROR(VLOOKUP($A41,'Species guilds'!$A$3:$F$301,5,FALSE),0) -> 0 | F41: =IF(AND(M41>0,B41>0)=FALSE,B41,0) -> 0 | G41: =IF(D41="Lake",0,1) -> 1 | H41: =IF($C41=H$20,$B41*G41,0) -> 0 | I41: =IF($C41=I$20,$B41*G41,0) -> 0 | J41: =IF($C41=J$20,$B41*G41,0) -> 0 | K41: =IF($D41=K$20,$B41*G41,0) -> 0 | L41: =IF($D41=L$20,$B41*G41,0) -> 0 | M41: =IF($D41=M$20,$B41,0) -> 0 | N41: =IF($D41=N$20,$B41*G41,0) -> 0 | O41: =IF($E41=O$20,$B41*G41,0) -> 0 | P41: =IF($E41=P$20,$B41*G41,0) -> 0 | Q41: =IF($E41=Q$20,$B41*G41,0) -> 0 | R41: =IF(AND(B41>0,C41=0)=TRUE,"SPECIES NOT FOUND, CHECK 'SPECIES GUILDS' TAB FOR CORRECT NOMENCLATURE",IF(A41="LAMPREYS (AMMOCOETE)","ASSUMES SPECIES ARE NOT CHESTNUT OR SILVER LAMPREYS",""))
... C53: =IFERROR(VLOOKUP($A53,'Species guilds'!$A$3:$F$301,3,FALSE),0) -> 0 | D53: =IFERROR(VLOOKUP($A53,'Species guilds'!$A$3:$F$301,4,FALSE),0) -> 0 | E53: =IFERROR(VLOOKUP($A53,'Species guilds'!$A$3:$F$301,5,FALSE),0) -> 0 | F53: =IF(AND(M53>0,B53>0)=FALSE,B53,0) -> 0 | G53: =IF(D53="Lake",0,1) -> 1 | H53: =IF($C53=H$20,$B53*G53,0) -> 0 | I53: =IF($C53=I$20,$B53*G53,0) -> 0 | J53: =IF($C53=J$20,$B53*G53,0) -> 0 | K53: =IF($D53=K$20,$B53*G53,0) -> 0 | L53: =IF($D53=L$20,$B53*G53,0) -> 0 | M53: =IF($D53=M$20,$B53,0) -> 0 | N53: =IF($D53=N$20,$B53*G53,0) -> 0 | O53: =IF($E53=O$20,$B53*G53,0) -> 0 | P53: =IF($E53=P$20,$B53*G53,0) -> 0 | Q53: =IF($E53=Q$20,$B53*G53,0) -> 0 | R53: =IF(AND(B53>0,C53=0)=TRUE,"SPECIES NOT FOUND, CHECK 'SPECIES GUILDS' TAB FOR CORRECT NOMENCLATURE",IF(A53="LAMPREYS (AMMOCOETE)","ASSUMES SPECIES ARE NOT CHESTNUT OR SILVER LAMPREYS",""))
A54: Total N= | B54: =SUM(B21:B53) -> 133 | F54: =SUM(F21:F53) -> 133 | H54: =SUM(H21:H53) -> 16 | I54: =SUM(I21:I53) -> 104 | J54: =SUM(J21:J53) -> 13 | K54: =SUM(K21:K53) -> 86 | L54: =SUM(L21:L53) -> 34 | M54: =SUM(M21:M53) -> 0 | N54: =SUM(N21:N53) -> 13 | O54: =SUM(O21:O53) -> 30 | ... Q54: =SUM(Q21:Q53) -> 85

Sheet NC Recommendation
A1: Natural Community Verification Recommendation | E1: Form V6. 3-23-2017
A2: Only enter data into the cells shaded in yellow. The rest will autofill/autocalculate.
A4: Biologist: | B4: ='Enter field data'!B4 -> unmuth | F4: KEY:
A5: Today's date: | B5: ='Enter field data'!B5 -> 42898 | G5: Enter information in cell (not used for autopopulation of other cells)
A6: Sample Date: | B6: ='Enter field data'!B6 -> 41443 | G6: Value will autocalculate based in on data entered in orange cells on other tabs
A7: Station Number: | B7: ='Enter field data'!B7 -> 533073
A8: Station Name/Description: | B8: ='Enter field data'!B8 -> BRUSH CREEK - NEAR RICHLAND CENTER, WI (US Covered Bridge Rd.)
A9: Fieldwork Description: | B9: ='Enter field data'!B9 -> Fish survey
A11: Waterbody Name: | B11: ='Enter field data'!B11 -> Brush Creek
A12: Counties: | B12: ='Enter field data'!B12 -> Richland Co.
A13: AUs: | B13: ='Enter field data'!B13 -> 13367
A14: WBIC: | B14: ='Enter field data'!B14 -> 1226200
A15: HUC10: | B15: ='Enter field data'!B15 -> 0707000511
A17: ENTER THE FOLLOWING AFTER THE ASSESSMENT BELOW HAS BEEN COMPLETED:
A18: Modeled Natural Community | D18: ='Enter field data'!$B$17 -> Coldwater
A19: Model "Verified as correct", OR "Proposed change"? OR inconclusive? | D19: Proposed change
A20: If a change is proposed, what is the new proposed NC? | D20: Cool-Cold Headwater
A22: TO BE FILLED IN BY THE REVIEW TEAM, IF APPLICABLE:
A23: Reviewed by review team? If so, enter date reviewed:
A24: Decision:
A25: Status (proposed for rule change, etc):
H27: IF THE MODELED NC APPEARS TO BE INCORRECT AFTER CONSIDERING TOLERANCE AND WEATHER,
H28: TEST ALTERNATIVE NCs USING THE THREE TESTING AREAS IN THIS SECTION.
A29: MODELED NATURAL COMMUNITY (do not change): | D29: ='Enter field data'!$B$17 -> Coldwater | I29: FIRST TEST NATURAL COMMUNITY (use picklist): | L29: Cool-Cold Mainstem | P29: SECOND TEST NATURAL COMMUNITY (use picklist): | S29: Cool-Cold Headwater | W29: THIRD TEST NATURAL COMMUNITY (use picklist): | Z29: Cool-Warm Headwater
A31: 1. COMPARE OBSERVED VERSUS EXPECTED SPECIES GUILDS | I31: 1. COMPARE OBSERVED VERSUS EXPECTED SPECIES GUILDS | P31: 1. COMPARE OBSERVED VERSUS EXPECTED SPECIES GUILDS | W31: 1. COMPARE OBSERVED VERSUS EXPECTED SPECIES GUILDS
A32: The following tables will autocalculate based on the modeled NC and data provided in the data-entry tab. | I32: The following tables will autocalculate based on the test NC entered above. | P32: The following tables will autocalculate based on the test NC entered above. | W32: The following tables will autocalculate based on the test NC entered above.
A34: Total number of individuals observed in each Guild (this will autocalculate) | I34: Total number of individuals observed in each Guild (this will autocalculate) | P34: Total number of individuals observed in each Guild (this will autocalculate) | W34: Total number of individuals observed in each Guild (this will autocalculate)
A35: Thermal | C35: Stream Size | E35: Tolerance | I35: Thermal | K35: Stream Size | M35: Tolerance | P35: Thermal | R35: Stream Size | T35: Tolerance | W35: Thermal | Y35: Stream Size | AA35: Tolerance
A36: Coldwater | B36: ='Enter field data'!$H$54 -> 16 | C36: Small Stream | D36: ='Enter field data'!$K$54 -> 86 | E36: Intolerant | F36: ='Enter field data'!$O$54 -> 30 | I36: Coldwater | J36: ='Enter field data'!$H$54 -> 16 | K36: Small Stream | L36: ='Enter field data'!$K$54 -> 86 | M36: Intolerant | N36: ='Enter field data'!$O$54 -> 30 | P36: Coldwater | Q36: ='Enter field data'!$H$54 -> 16 | R36: Small Stream | S36: ='Enter field data'!$K$54 -> 86 | T36: Intolerant | U36: ='Enter field data'!$O$54 -> 30 | W36: Coldwater | X36: ='Enter field data'!$H$54 -> 16 | Y36: Small Stream | Z36: ='Enter field data'!$K$54 -> 86 | AA36: Intolerant | AB36: ='Enter field data'!$O$54 -> 30
A37: Transitional | B37: ='Enter field data'!$I$54 -> 104 | C37: Medium Stream | D37: ='Enter field data'!$L$54 -> 34 | E37: Intermediate | F37: ='Enter field data'!$P$54 -> 18 | I37: Transitional | J37: ='Enter field data'!$I$54 -> 104 | K37: Medium Stream | L37: ='Enter field data'!$L$54 -> 34 | M37: Intermediate | N37: ='Enter field data'!$P$54 -> 18 | P37: Transitional | Q37: ='Enter field data'!$I$54 -> 104 | R37: Medium Stream | S37: ='Enter field data'!$L$54 -> 34 | T37: Intermediate | U37: ='Enter field data'!$P$54 -> 18 | W37: Transitional | X37: ='Enter field data'!$I$54 -> 104 | Y37: Medium Stream | Z37: ='Enter field data'!$L$54 -> 34 | AA37: Intermediate | AB37: ='Enter field data'!$P$54 -> 18
A38: Warmwater | B38: ='Enter field data'!$J$54 -> 13 | C38: Large River | D38: ='Enter field data'!$N$54 -> 13 | E38: Tolerant | F38: ='Enter field data'!$Q$54 -> 85 | I38: Warmwater | J38: ='Enter field data'!$J$54 -> 13 | K38: Large River | L38: ='Enter field data'!$N$54 -> 13 | M38: Tolerant | N38: ='Enter field data'!$Q$54 -> 85 | P38: Warmwater | Q38: ='Enter field data'!$J$54 -> 13 | R38: Large River | S38: ='Enter field data'!$N$54 -> 13 | T38: Tolerant | U38: ='Enter field data'!$Q$54 -> 85 | W38: Warmwater | X38: ='Enter field data'!$J$54 -> 13 | Y38: Large River | Z38: ='Enter field data'!$N$54 -> 13 | AA38: Tolerant | AB38: ='Enter field data'!$Q$54 -> 85
A40: Observed & Expected Guild Percentages (these will autocalculate) | I40: Observed & Expected Guild Percentages (these will autocalculate) | P40: Observed & Expected Guild Percentages (these will autocalculate) | W40: Observed & Expected Guild Percentages (these will autocalculate)
A41: Thermal | I41: Thermal | P41: Thermal | W41: Thermal
A42: Guild | B42: Observed | C42: Expected Range | E42: Within Range? | I42: Guild | J42: Observed | K42: Expected Range | M42: Within Range? | P42: Guild | Q42: Observed | R42: Expected Range | T42: Within Range? | W42: Guild | X42: Observed | Y42: Expected Range | AA42: Within Range?
C43: Low End | D43: High End | K43: Low End | L43: High End | R43: Low End | S43: High End | Y43: Low End | Z43: High End
A44: Coldwater | B44: =($B$36/'Enter field data'!$F$54) -> 0.12030075 | C44: =VLOOKUP($D$29,'Expected guild %'!$A$5:$G$13,2,FALSE) -> 0.75 | D44: =VLOOKUP($D$29,'Expected guild %'!$A$5:$G$13,3,FALSE) -> 1 | E44: =IF(AND(C44<=B44,B44<= D44)=TRUE,"Y","N") -> N | I44: Coldwater | J44: =($B$36/'Enter field data'!$F$54) -> 0.12030075 | K44: =VLOOKUP(L$29,'Expected guild %'!$A$5:$G$13,2,FALSE) -> 0.05 | L44: =VLOOKUP(L$29,'Expected guild %'!$A$5:$G$13,3,FALSE) -> 0.75 | M44: =IF(AND(K44<=J44,J44<= L44)=TRUE,"Y","N") -> Y | P44: Coldwater | Q44: =($B$36/'Enter field data'!$F$54) -> 0.12030075 | R44: =VLOOKUP(S$29,'Expected guild %'!$A$5:$G$13,2,FALSE) -> 0.05 | S44: =VLOOKUP(S$29,'Expected guild %'!$A$5:$G$13,3,FALSE) -> 0.75 | T44: =IF(AND(R44<=Q44,Q44<= S44)=TRUE,"Y","N") -> Y | W44: Coldwater | X44: =($B$36/'Enter field data'!$F$54) -> 0.12030075 | Y44: =VLOOKUP(Z$29,'Expected guild %'!$A$5:$G$13,2,FALSE) -> 0 | Z44: =VLOOKUP(Z$29,'Expected guild %'!$A$5:$G$13,3,FALSE) -> 0.05 | AA44: =IF(AND(Y44<=X44,X44<= Z44)=TRUE,"Y","N") -> N
A45: Transitional | B45: =($B$37/'Enter field data'!$F$54) -> 0.78195489 | C45: =VLOOKUP($D$29,'Expected guild %'!$A$5:$G$13,4,FALSE) -> 0 | D45: =VLOOKUP($D$29,'Expected guild %'!$A$5:$G$13,5,FALSE) -> 0.25 | E45: =IF(AND(C45<=B45,B45<= D45)=TRUE,"Y","N") -> N | I45: Transitional | J45: =($B$37/'Enter field data'!$F$54) -> 0.78195489 | K45: =VLOOKUP(L$29,'Expected guild %'!$A$5:$G$13,4,FALSE) -> 0.25 | L45: =VLOOKUP(L$29,'Expected guild %'!$A$5:$G$13,5,FALSE) -> 1 | M45: =IF(AND(K45<=J45,J45<= L45)=TRUE,"Y","N") -> Y | P45: Transitional | Q45: =($B$37/'Enter field data'!$F$54) -> 0.78195489 | R45: =VLOOKUP(S$29,'Expected guild %'!$A$5:$G$13,4,FALSE) -> 0.25 | S45: =VLOOKUP(S$29,'Expected guild %'!$A$5:$G$13,5,FALSE) -> 1 | T45: =IF(AND(R45<=Q45,Q45<= S45)=TRUE,"Y","N") -> Y | W45: Transitional | X45: =($B$37/'Enter field data'!$F$54) -> 0.78195489 | Y45: =VLOOKUP(Z$29,'Expected guild %'!$A$5:$G$13,4,FALSE) -> 0.25 | Z45: =VLOOKUP(Z$29,'Expected guild %'!$A$5:$G$13,5,FALSE) -> 1 | AA45: =IF(AND(Y45<=X45,X45<= Z45)=TRUE,"Y","N") -> Y
A46: Warmwater | B46: =($B$38/'Enter field data'!$F$54) -> 0.097744361 | C46: =VLOOKUP($D$29,'Expected guild %'!$A$5:$G$13,6,FALSE) -> 0 | D46: =VLOOKUP($D$29,'Expected guild %'!$A$5:$G$13,7,FALSE) -> 0.05 | E46: =IF(AND(C46<=B46,B46<= D46)=TRUE,"Y","N") -> N | I46: Warmwater | J46: =($B$38/'Enter field data'!$F$54) -> 0.097744361 | K46: =VLOOKUP(L$29,'Expected guild %'!$A$5:$G$13,6,FALSE) -> 0 | L46: =VLOOKUP(L$29,'Expected guild %'!$A$5:$G$13,7,FALSE) -> 0.25 | M46: =IF(AND(K46<=J46,J46<= L46)=TRUE,"Y","N") -> Y | P46: Warmwater | Q46: =($B$38/'Enter field data'!$F$54) -> 0.097744361 | R46: =VLOOKUP(S$29,'Expected guild %'!$A$5:$G$13,6,FALSE) -> 0 | S46: =VLOOKUP(S$29,'Expected guild %'!$A$5:$G$13,7,FALSE) -> 0.25 | T46: =IF(AND(R46<=Q46,Q46<= S46)=TRUE,"Y","N") -> Y | W46: Warmwater | X46: =($B$38/'Enter field data'!$F$54) -> 0.097744361 | Y46: =VLOOKUP(Z$29,'Expected guild %'!$A$5:$G$13,6,FALSE) -> 0 | Z46: =VLOOKUP(Z$29,'Expected guild %'!$A$5:$G$13,7,FALSE) -> 0.75 | AA46: =IF(AND(Y46<=X46,X46<= Z46)=TRUE,"Y","N") -> Y
A48: Stream Size | I48: Stream Size | P48: Stream Size | W48: Stream Size
A49: Guild | B49: Observed | C49: Expected Range | E49: Within Range? | I49: Guild | J49: Observed | K49: Expected Range | M49: Within Range? | P49: Guild | Q49: Observed | R49: Expected Range | T49: Within Range? | W49: Guild | X49: Observed | Y49: Expected Range | AA49: Within Range?
...

Sheet Enter weather
A1: DATE | B1: PRCP | C1: TMAX | D1: TMIN | F1: Weather data only need to be assessed if the biologist suspects the fish survey was conducted during
F2: an extreme weather year.
F4: Follow the "Weather Instructions" tab to download the weather data for your station.
F5: Use "Clear Contents" to clear the sample data here, and paste in the weather data you downloaded.
F6: Do NOT delete the rows or columns, as this will corrupt the formulas on the Weather Results tab.

Sheet Weather instructions
A1: This spreadsheet calculates temperature and precipitation indices for the date a biological sample was collected and compares them to the lower (10th percentile in 1984-2013) and upper (90th percentile in 1984-2013) extremes of these indices. If a sample was collected during extreme weather conditions, it may not be representative of typical conditions at the site. To conduct this extreme weather analysis for a new sample, daily temperature and precipitation data from a nearby weather station for at least four years prior to the sample date are required. The formulas on the sample tab are designed to work with data formatted in the style of the National Climatic Data Center's daily summaries (TMAX and TMIN in degrees C, PRCP in mm).
A2: 1. Go to http://www.ncdc.noaa.gov/cdo-web/datatools/findstation
A3: 2. Under Enter Location, type the name of the county where the station is located.
A4: 3. Under Select Dataset, choose Daily Summaries.
A5: 4. Under Data Categories, check Air Temperature and Precipitation.
A6: 5. Under Select Date Range, choose a date range that spans from at least four years prior to the sample date to the sample date, and click Apply.
A7: 6. On the map, click on the weather station icon that is closest to the center of the watershed of the sampling station, and click Add to Cart.
A8: 7. Go to your cart (orange button in upper right of screen).
A9: 8. Select the date range you specified in step 5.
A10: 9. Select Custom GHCN-Daily CSV as the output format and click continue.
A11: 10. Under Station Detail & Data Flag Options, change Units to Metric.
A12: 11. Under Select data types for custom output, expand the Precipitation header and check Precipitation (PRCP) and expand the Air Temperature header and check Maximum temperature (TMAX) and Minimum temperature (TMIN), and click continue.
... A19: 18. Review Extreme Precip? result on the Weather Results tab of this file. WET means the precipitation index for the sample was greater than the 90th percentile. DRY means the precipitation index for the sample was less than the 10th percentile. NO means the precipitation index for the sample was between the 10th and 90th percentiles.

Sheet Weather Results
A1: Sample information | B1: Sample Date | C1: ='Enter field data'!B6 -> 41443
B2: HUC10 | C2: ='Enter field data'!$B$15 -> 0707000511 | E2: This sheet autocalculates; do not enter any information.
B4: S | C4: =CONCATENATE(YEAR(C1),IF(MONTH(C1)<10,"0"&MONTH(C1),MONTH(C1)),IF(DAY(C1)<10,"0"&DAY(C1),DAY(C1))) -> 20130618
B5: S-30 | C5: =CONCATENATE(YEAR(C1-30),IF(MONTH(C1-30)<10,"0"&MONTH(C1-30),MONTH(C1-30)),IF(DAY(C1-30)<10,"0"&DAY(C1-30),DAY(C1-30))) -> 20130519
B6: S-90 | C6: =CONCATENATE(YEAR(C1-90),IF(MONTH(C1-90)<10,"0"&MONTH(C1-90),MONTH(C1-90)),IF(DAY(C1-90)<10,"0"&DAY(C1-90),DAY(C1-90))) -> 20130320
B7: S-365 | C7: =CONCATENATE(YEAR(C1-365),IF(MONTH(C1-365)<10,"0"&MONTH(C1-365),MONTH(C1-365)),IF(DAY(C1-365)<10,"0"&DAY(C1-365),DAY(C1-365))) -> 20120618
B8: S-1460 | C8: =CONCATENATE(YEAR(C1-1460),IF(MONTH(C1-1460)<10,"0"&MONTH(C1-1460),MONTH(C1-1460)),IF(DAY(C1-1460)<10,"0"&DAY(C1-1460),DAY(C1-1460))) -> 20090619
B9: APR days | C9: =IF(MONTH($C$1)=4,DAY($C$1),0)+IF(MONTH($C$1)=5,30-DAY($C$1),0) -> 0
B10: MAY days | C10: =IF(MONTH($C$1)=5,DAY($C$1),0)+IF(MONTH($C$1)=6,30-DAY($C$1),0) -> 12
B11: JUN days | C11: =IF(MONTH($C$1)=6,DAY($C$1),0)+IF(MONTH($C$1)=7,30-DAY($C$1),0) -> 18
B12: JUL days | C12: =IF(MONTH($C$1)=7,DAY($C$1),0)+IF(MONTH($C$1)=8,30-DAY($C$1),0) -> 0
B13: AUG days | C13: =IF(MONTH($C$1)=8,DAY($C$1),0)+IF(MONTH($C$1)=9,30-DAY($C$1),0) -> 0
B14: SEP days | C14: =IF(MONTH($C$1)=9,DAY($C$1),0)+IF(MONTH($C$1)=10,30-DAY($C$1),0) -> 0
B15: OCT days | C15: =IF(MONTH($C$1)=10,DAY($C$1),0)+IF(MONTH($C$1)=11,30-DAY($C$1),0) -> 0
A17: Temperature Index (average temperature (C) in 30 days prior to sample) | B17: Temp Index sample | C17: =(AVERAGEIFS('Enter weather'!$C:$C,'Enter weather'!$A:$A,"<="&$C$4,'Enter weather'!$A:$A,">="&$C$5,'Enter weather'!$C:$C,"<>"&-9999,'Enter weather'!$D:$D,"<>"&-9999)+AVERAGEIFS('Enter weather'!$D:$D,'Enter weather'!$A:$A,"<="&$C$4,'Enter weather'!$A:$A,">="&$C$5,'Enter weather'!$C:$C,"<>"&-9999,'Enter weather'!$D:$D,"<>"&-9999))/2 -> #DIV/0!
B18: Temp Index 10% | C18: =(VLOOKUP($C$2,temp!$A$1:$O$369,2,FALSE)*$C$9+VLOOKUP($C$2,temp!$A$1:$O$369,4,FALSE)*$C$10+VLOOKUP($C$2,temp!$A$1:$O$369,6,FALSE)*$C$11+VLOOKUP($C$2,temp!$A$1:$O$369,8,FALSE)*$C$12+VLOOKUP($C$2,temp!$A$1:$O$369,10,FALSE)*$C$13+VLOOKUP($C$2,temp!$A$1:$O$369,12,FALSE)*$C$14+VLOOKUP($C$2,temp!$A$1:$O$369,14,FALSE)*$C$15)/30 -> 15.475144
B19: Temp Index 90% | C19: =(VLOOKUP($C$2,temp!$A$1:$O$369,3,FALSE)*$C$9+VLOOKUP($C$2,temp!$A$1:$O$369,5,FALSE)*$C$10+VLOOKUP($C$2,temp!$A$1:$O$369,7,FALSE)*$C$11+VLOOKUP($C$2,temp!$A$1:$O$369,9,FALSE)*$C$12+VLOOKUP($C$2,temp!$A$1:$O$369,11,FALSE)*$C$13+VLOOKUP($C$2,temp!$A$1:$O$369,13,FALSE)*$C$14+VLOOKUP($C$2,temp!$A$1:$O$369,15,FALSE)*$C$15)/30 -> 18.907338
B20: Extreme Temp? | C20: =IF(C17>C19,"WARM",IF(C17<C18,"COOL","NO")) -> #DIV/0!
A22: Precipitation Index (weighted average daily precipitation (mm) in 4 years prior to sample) | B22: Avg precip 30 days | C22: =AVERAGEIFS('Enter weather'!$B:$B,'Enter weather'!$A:$A,"<="&$C$4,'Enter weather'!$A:$A,">="&$C$5,'Enter weather'!$B:$B,"<>"&-9999) -> #DIV/0!
B23: Avg precip 31-90 days | C23: =AVERAGEIFS('Enter weather'!$B:$B,'Enter weather'!$A:$A,"<="&$C$5,'Enter weather'!$A:$A,">="&$C$6,'Enter weather'!$B:$B,"<>"&-9999) -> #DIV/0!
B24: Avg precip 91-365 days | C24: =AVERAGEIFS('Enter weather'!$B:$B,'Enter weather'!$A:$A,"<="&$C$6,'Enter weather'!$A:$A,">="&$C$7,'Enter weather'!$B:$B,"<>"&-9999) -> #DIV/0!
B25: Avg precip 366-1460 days | C25: =AVERAGEIFS('Enter weather'!$B:$B,'Enter weather'!$A:$A,"<="&$C$7,'Enter weather'!$A:$A,">="&$C$8,'Enter weather'!$B:$B,"<>"&-9999) -> #DIV/0!
B26: Precip Index sample | C26: =$C$22*0.4+$C$23*0.3+$C$24*0.15+$C$25*0.15 -> #DIV/0!
B27: Precip Index 10% | C27: =(VLOOKUP($C$2,prcp!$A$1:$O$369,2,FALSE)*$C$9+VLOOKUP($C$2,prcp!$A$1:$O$369,4,FALSE)*$C$10+VLOOKUP($C$2,prcp!$A$1:$O$369,6,FALSE)*$C$11+VLOOKUP($C$2,prcp!$A$1:$O$369,8,FALSE)*$C$12+VLOOKUP($C$2,prcp!$A$1:$O$369,10,FALSE)*$C$13+VLOOKUP($C$2,prcp!$A$1:$O$369,12,FALSE)*$C$14+VLOOKUP($C$2,prcp!$A$1:$O$369,14,FALSE)*$C$15)/30 -> 1.9472148
B28: Precip Index 90% | C28: =(VLOOKUP($C$2,prcp!$A$1:$O$369,3,FALSE)*$C$9+VLOOKUP($C$2,prcp!$A$1:$O$369,5,FALSE)*$C$10+VLOOKUP($C$2,prcp!$A$1:$O$369,7,FALSE)*$C$11+VLOOKUP($C$2,prcp!$A$1:$O$369,9,FALSE)*$C$12+VLOOKUP($C$2,prcp!$A$1:$O$369,11,FALSE)*$C$13+VLOOKUP($C$2,prcp!$A$1:$O$369,13,FALSE)*$C$14+VLOOKUP($C$2,prcp!$A$1:$O$369,15,FALSE)*$C$15)/30 -> 4.6019646
B29: Extreme Precip? | C29: =IF(C26>C28,"WET",IF(C26<C27,"DRY","NO")) -> #DIV/0!

Sheet temp
A1: HUC_10 | B1: APR10T | C1: APR90T | D1: MAY10T | E1: MAY90T | F1: JUN10T | G1: JUN90T | H1: JUL10T | I1: JUL90T | J1: AUG10T | K1: AUG90T | L1: SEP10T | M1: SEP90T | N1: OCT10T | O1: OCT90T
A2: 0401020116 | B2: 2.317049 | C2: 6.880761 | D2: 8.799314 | E2: 12.56 | F2: 13.878 | G2: 17.32885 | H2: 17.71896 | I2: 21.68859 | J2: 16.81364 | K2: 20.33517 | L2: 12.24458 | M2: 15.79844 | N2: 4.517079 | O2: 8.967358
A3: 0401030101 | B3: 2.197763 | C3: 6.87502 | D3: 8.792652 | E3: 12.47394 | F3: 13.48403 | G3: 17.46659 | H3: 17.40884 | I3: 21.34959 | J3: 16.72531 | K3: 19.75078 | L3: 11.96005 | M3: 15.87505 | N3: 4.684641 | O3: 9.211782
A4: 0401030102 | B4: 2.429087 | C4: 7.008782 | D4: 9.008099 | E4: 12.7314 | F4: 13.85644 | G4: 17.65241 | H4: 17.72911 | I4: 21.48264 | J4: 16.74738 | K4: 20.08381 | L4: 12.10058 | M4: 15.92374 | N4: 4.67357 | O4: 9.124895
A5: 0401030103 | B5: 2.556304 | C5: 7.002626 | D5: 8.857974 | E5: 12.74827 | F5: 14.01038 | G5: 17.67028 | H5: 17.82542 | I5: 21.86225 | J5: 17.05758 | K5: 20.28367 | L5: 12.5724 | M5: 16.06213 | N5: 4.691855 | O5: 9.264531
A6: 0401030104 | B6: 2.38397 | C6: 6.950427 | D6: 8.835665 | E6: 12.57663 | F6: 13.76857 | G6: 17.52822 | H6: 17.731 | I6: 21.70316 | J6: 16.98027 | K6: 20.19646 | L6: 12.36774 | M6: 15.99558 | N6: 4.670822 | O6: 9.238776
A7: 0401030105 | B7: 2.51912 | C7: 6.895617 | D7: 8.577345 | E7: 12.46766 | F7: 13.93557 | G7: 17.29743 | H7: 17.92779 | I7: 22.20271 | J7: 17.33574 | K7: 20.78061 | L7: 12.97635 | M7: 16.07459 | N7: 4.654089 | O7: 9.32724
A8: 0401030106 | B8: 2.652226 | C8: 7.044943 | D8: 8.720554 | E8: 12.91636 | F8: 14.21106 | G8: 17.56762 | H8: 17.88744 | I8: 21.99145 | J8: 16.99076 | K8: 20.7895 | L8: 12.76485 | M8: 16.01264 | N8: 4.704126 | O8: 9.221367
A9: 0401030107 | B9: 2.721115 | C9: 7.247399 | D9: 9.029266 | E9: 13.51978 | F9: 14.65861 | G9: 18.03879 | H9: 17.84544 | I9: 21.77989 | J9: 16.69619 | K9: 20.86898 | L9: 12.71764 | M9: 15.9505 | N9: 4.729727 | O9: 9.0705
A10: 0401030108 | B10: 3.000167 | C10: 6.922505 | D10: 8.784458 | E10: 13.37547 | F10: 14.25832 | G10: 17.48977 | H10: 17.42518 | I10: 21.3468 | J10: 16.86991 | K10: 20.9061 | L10: 12.71442 | M10: 15.89489 | N10: 5.319102 | O10: 9.215934
A11: 0401030109 | B11: 2.935562 | C11: 6.790005 | D11: 8.481568 | E11: 12.98355 | F11: 14.0519 | G11: 17.0691 | H11: 17.18691 | I11: 21.11369 | J11: 16.97405 | K11: 20.68224 | L11: 12.59944 | M11: 15.67411 | N11: 5.408737 | O11: 9.278581
A12: 0401030110 | B12: 2.5023 | C12: 6.857535 | D12: 8.53413 | E12: 12.85553 | F12: 14.3195 | G12: 17.44848 | H12: 17.3315 | I12: 21.22649 | J12: 17.00889 | K12: 20.2424 | L12: 12.64938 | M12: 15.56248 | N12: 5.244075 | O12: 9.261101
A13: 0401030111 | B13: 3.008226 | C13: 7.06354 | D13: 9.186297 | E13: 13.43936 | F13: 14.90229 | G13: 18.18384 | H13: 17.77646 | I13: 21.49148 | J13: 17.13696 | K13: 20.25225 | L13: 12.73801 | M13: 15.73973 | N13: 5.23125 | O13: 9.198225
... A369: 0712000610 | B369: 6.430284 | C369: 10.19698 | D369: 11.21841 | E369: 16.17025 | F369: 18.04647 | G369: 21.24223 | H369: 20.18108 | I369: 24.00742 | J369: 19.21025 | K369: 22.58024 | L369: 15.53174 | M369: 18.27678 | N369: 8.095331 | O369: 11.70687

Sheet prcp
A1: HUC_10 | B1: APR10P | C1: APR90P | D1: MAY10P | E1: MAY90P | F1: JUN10P | G1: JUN90P | H1: JUL10P | I1: JUL90P | J1: AUG10P | K1: AUG90P | L1: SEP10P | M1: SEP90P | N1: OCT10P | O1: OCT90P
A2: 0401020116 | B2: 1.196357 | C2: 2.407249 | D2: 1.674053 | E2: 2.872961 | F2: 1.735991 | G2: 3.774462 | H2: 2.003377 | I2: 3.912971 | J2: 2.028193 | K2: 3.751694 | L2: 1.849035 | M2: 3.711251 | N2: 1.655686 | O2: 3.175324
A3: 0401030101 | B3: 1.166785 | C3: 2.416811 | D3: 1.681229 | E3: 2.843116 | F3: 1.756492 | G3: 3.737052 | H3: 2.024748 | I3: 3.939614 | J3: 2.076122 | K3: 3.864724 | L3: 1.866284 | M3: 3.7675 | N3: 1.668216 | O3: 3.269097
A4: 0401030102 | B4: 1.17337 | C4: 2.453183 | D4: 1.676354 | E4: 2.886232 | F4: 1.740252 | G4: 3.801038 | H4: 2.004764 | I4: 3.942206 | J4: 2.074512 | K4: 3.9376 | L4: 1.874136 | M4: 3.757783 | N4: 1.667191 | O4: 3.250353
A5: 0401030103 | B5: 1.160234 | C5: 2.379714 | D5: 1.678782 | E5: 2.835253 | F5: 1.761197 | G5: 3.683507 | H5: 2.035903 | I5: 3.943216 | J5: 2.074821 | K5: 3.767914 | L5: 1.868211 | M5: 3.815567 | N5: 1.675418 | O5: 3.309693
A6: 0401030104 | B6: 1.171988 | C6: 2.428401 | D6: 1.679355 | E6: 2.874553 | F6: 1.753445 | G6: 3.766134 | H6: 2.015949 | I6: 3.940364 | J6: 2.065501 | K6: 3.856979 | L6: 1.865987 | M6: 3.7583 | N6: 1.666359 | O6: 3.247879
A7: 0401030105 | B7: 1.202628 | C7: 2.393927 | D7: 1.682472 | E7: 2.843231 | F7: 1.753347 | G7: 3.706205 | H7: 2.016077 | I7: 3.926516 | J7: 2.040516 | K7: 3.669022 | L7: 1.867165 | M7: 3.744526 | N7: 1.671594 | O7: 3.23223
A8: 0401030106 | B8: 1.207507 | C8: 2.37913 | D8: 1.682377 | E8: 2.827874 | F8: 1.74529 | G8: 3.631954 | H8: 2.007606 | I8: 3.930078 | J8: 2.041682 | K8: 3.590118 | L8: 1.864647 | M8: 3.758801 | N8: 1.685937 | O8: 3.271877
A9: 0401030107 | B9: 1.226916 | C9: 2.391605 | D9: 1.672598 | E9: 2.834196 | F9: 1.733211 | G9: 3.578041 | H9: 1.968892 | I9: 3.929218 | J9: 2.039476 | K9: 3.564823 | L9: 1.872091 | M9: 3.814759 | N9: 1.72995 | O9: 3.345512
A10: 0401030108 | B10: 1.288579 | C10: 2.407588 | D10: 1.676623 | E10: 2.814063 | F10: 1.783153 | G10: 3.535429 | H10: 1.967035 | I10: 3.879987 | J10: 2.02561 | K10: 3.671111 | L10: 1.909539 | M10: 3.822549 | N10: 1.749103 | O10: 3.379235
A11: 0401030109 | B11: 1.336791 | C11: 2.426213 | D11: 1.669872 | E11: 2.82889 | F11: 1.811929 | G11: 3.479582 | H11: 1.96632 | I11: 3.815016 | J11: 2.004564 | K11: 3.648698 | L11: 1.91696 | M11: 3.760718 | N11: 1.74451 | O11: 3.388283
A12: 0401030110 | B12: 1.362144 | C12: 2.498631 | D12: 1.653992 | E12: 2.86415 | F12: 1.817982 | G12: 3.431566 | H12: 1.92915 | I12: 3.768013 | J12: 1.986426 | K12: 3.558616 | L12: 1.918764 | M12: 3.692121 | N12: 1.780996 | O12: 3.412712
A13: 0401030111 | B13: 1.372413 | C13: 2.556561 | D13: 1.671385 | E13: 2.847017 | F13: 1.815955 | G13: 3.460133 | H13: 1.939902 | I13: 3.866157 | J13: 2.030658 | K13: 3.689699 | L13: 1.939084 | M13: 3.827529 | N13: 1.827321 | O13: 3.526461
... A369: 0712000610 | B369: 1.846668 | C369: 3.294466 | D369: 1.728373 | E369: 3.355565 | F369: 1.787962 | G369: 4.235708 | H369: 2.068989 | I369: 3.70023 | J369: 2.030834 | K369: 3.426801 | L369: 1.916258 | M369: 3.559738 | N369: 1.81056 | O369: 3.437362

Sheet Expected guild %
A2: Table 2. Fish thermal guild expectations (percentage of total individuals collected)
A3: Natural Community | B3: Coldwater Individuals | D3: Transitional Individuals | F3: Warmwater Individuals | J3: NC list for dropdown | L3: Verification
B4: Low End | C4: High End | D4: Low End | E4: High End | F4: Low End | G4: High End | L4: Dropdown
A5: Macroinvertebrate | B5: NA | C5: NA | D5: NA | E5: NA | F5: NA | G5: NA | J5: Macroinvertebrate | L5: Verified as correct
A6: Coldwater | B6: 0.75 | C6: 1 | D6: 0 | E6: 0.25 | F6: 0 | G6: 0.05 | J6: Coldwater | L6: Proposed change
A7: Cool-Cold Headwater | B7: 0.05 | C7: 0.75 | D7: 0.25 | E7: 1 | F7: 0 | G7: 0.25 | J7: Cool-Cold Headwater
A8: Cool-Cold Mainstem | B8: 0.05 | C8: 0.75 | D8: 0.25 | E8: 1 | F8: 0 | G8: 0.25 | J8: Cool-Cold Mainstem
A9: Cool-Warm Headwater | B9: 0 | C9: 0.05 | D9: 0.25 | E9: 1 | F9: 0 | G9: 0.75 | J9: Cool-Warm Headwater
A10: Cool-Warm Mainstem | B10: 0 | C10: 0.05 | D10: 0.25 | E10: 1 | F10: 0 | G10: 0.75 | J10: Cool-Warm Mainstem
A11: Warm Headwater | B11: 0 | C11: 0.05 | D11: 0 | E11: 0.25 | F11: 0.75 | G11: 1 | J11: Warm Headwater
A12: Warm Mainstem | B12: 0 | C12: 0.05 | D12: 0 | E12: 0.25 | F12: 0.75 | G12: 1 | J12: Warm Mainstem
A13: Nonwadable Warm River | B13: 0 | C13: 0.05 | D13: 0 | E13: 0.25 | F13: 0.75 | G13: 1 | J13: Nonwadable Warm River
A16: Table 3. Fish stream size guild expectations (percentage of total individuals collected)
A17: Natural Community | B17: Small Stream | D17: Medium Stream | F17: Large River
B18: Low End | C18: High End | D18: Low End | E18: High End | F18: Low End | G18: High End
A19: Macroinvertebrate | B19: Total catch of fish (all size guilds combined) less than 25 individuals in at least 100 m wetted stream length sampled
A20: Coldwater | B20: 0 | C20: 1 | D20: 0 | E20: 1 | F20: 0 | G20: 1
A21: Cool-Cold Headwater | B21: 0.5 | C21: 1 | D21: 0 | E21: 0.5 | F21: 0 | G21: 0.1
A22: Cool-Cold Mainstem | B22: 0 | C22: 0.5 | D22: 0.5 | E22: 1 | F22: 0 | G22: 0.5
A23: Cool-Warm Headwater | B23: 0.5 | C23: 1 | D23: 0 | E23: 0.5 | F23: 0 | G23: 0.1
A24: Cool-Warm Mainstem | B24: 0 | C24: 0.5 | D24: 0.5 | E24: 1 | F24: 0 | G24: 0.5
A25: Warm Headwater | B25: 0.5 | C25: 1 | D25: 0 | E25: 0.5 | F25: 0 | G25: 0.1
A26: Warm Mainstem | B26: 0 | C26: 0.5 | D26: 0.5 | E26: 1 | F26: 0 | G26: 0.5
A27: Nonwadable Warm River | B27: 0 | C27: 0.1 | D27: 0 | E27: 0.25 | F27: 0.75 | G27: 1
A30: Table 4. Fish tolerance guild expectations (percentage of total individuals collected)
A31: Natural Community | B31: Intolerant | D31: Intermediate | F31: Tolerant
B32: Low End | C32: High End | D32: Low End | E32: High End | F32: Low End | G32: High End
A33: Macroinvertebrate | B33: NA | C33: NA | D33: NA | E33: NA | F33: NA | G33: NA
A34: Coldwater | B34: PRESENT | C34: 1 | D34: 0 | E34: 1 | F34: 0 | G34: 0.25
A35: Cool-Cold Headwater | B35: PRESENT | C35: 1 | D35: 0 | E35: 1 | F35: 0 | G35: 0.75
A36: Cool-Cold Mainstem | B36: PRESENT | C36: 1 | D36: 0 | E36: 1 | F36: 0 | G36: 0.7
A37: Cool-Warm Headwater | B37: PRESENT | C37: 1 | D37: 0 | E37: 1 | F37: 0 | G37: 0.75
A38: Cool-Warm Mainstem | B38: PRESENT | C38: 1 | D38: 0 | E38: 1 | F38: 0 | G38: 0.6
A39: Warm Headwater | B39: PRESENT | C39: 1 | D39: 0 | E39: 1 | F39: 0 | G39: 0.75
A40: Warm Mainstem | B40: PRESENT | C40: 1 | D40: 0 | E40: 1 | F40: 0 | G40: 0.5
A41: Nonwadable Warm River | B41: PRESENT | C41: 1 | D41: 0 | E41: 1 | F41: 0 | G41: 0.15

Sheet Species guilds
A1: Table 5. Thermal, stream size, and tolerance guilds of Wisconsin fishes.
A2: Common Name | B2: Scientific name | C2: Thermal (C,T,W) | D2: Stream Size (S,M,L) | E2: Tolerance (IT,IM,T)
A3: Chestnut Lamprey | B3: Ichthyomyzon castaneus | C3: W | D3: L | E3: IT | G3: red text=edited based on newest classification info from John Lyons, 12-2-2015
A4: Northern Brook Lamprey | B4: Ichthyomyzon fossor | C4: T | D4: M | E4: IT
A5: Southern Brook Lamprey | B5: Ichthyomyzon gagei | C5: T | D5: M | E5: IT
A6: Silver Lamprey | B6: Ichthyomyzon unicuspis | C6: W | D6: L | E6: IT
A7: American Brook Lamprey | B7: Lampetra appendix | C7: T | D7: M | E7: IT
A8: Sea Lamprey | B8: Petromyzon marinus | C8: T | D8: M | E8: IT
A9: Lampreys (Ammocoete) | C9: T | D9: M | E9: IT
A10: Lake Sturgeon | B10: Acipenser fulvescens | C10: T | D10: L | E10: IM
A11: Shovelnose Sturgeon | B11: Scaphirhynchus platorynchus | C11: W | D11: L | E11: IM
A12: Paddlefish | B12: Polyodon spathula | C12: W | D12: L | E12: IM
A13: Longnose Gar | B13: Lepisosteus osseus | C13: W | D13: L | E13: IM
A14: Shortnose Gar | B14: Lepisosteus platostomus | C14: W | D14: L | E14: IM
A15: Bowfin | B15: Amia calva | C15: W | D15: L | E15: IM
A16: Goldeye | B16: Hiodon alosoides | C16: W | D16: L | E16: IM
A17: Mooneye | B17: Hiodon tergisus | C17: W | D17: L | E17: IM
A18: American Eel | B18: Anguilla rostrata | C18: W | D18: L | E18: IM
A19: Skipjack Herring | B19: Alosa chrysochloris | C19: W | D19: L | E19: IM
A20: Alewife | B20: Alosa pseudoharengus | C20: T | D20: Lake | E20: IM
A21: Gizzard Shad | B21: Dorosoma cepedianum | C21: W | D21: L | E21: IM
... A168: Tubenose Goby | B168: Proterorhinus marmoratus | C168: W | D168: Lake | E168: IM
