Workbook

Sheet Cumulative Totals
B1: 2011 Sheboygan AOC BBS | C1: # Pts | D1: Sp. | E1: Days | F1: Hours | G1: Species of Greatest Conservation Need | H1: Observed Breeding Codes
B2: Priority Site #1 | C2: ='Priority Site #1'!AL5 -> 17 | D2: ='Priority Site #1'!AM94 -> 51 | E2: 4 | F2: ='Priority Site #1'!AL2 -> 0.21388889
B3: Priority Site #2 | C3: ='Priority Site #2'!V5 -> 9 | D3: ='Priority Site #2'!W94 -> 52 | E3: 2 | F3: ='Priority Site #2'!V2 -> 0.11944444
B4: Priority Site #3 | C4: ='Priority Site #3'!Z5 -> 11 | D4: ='Priority Site #3'!AA94 -> 45 | E4: 2 | F4: ='Priority Site #3'!Z2 -> 0.14444444
B5: Species | D5: # Pts | E5: Ind. | F5: Enroot or After
A6: 1 | B6: Canada Goose (Branta canadensis) | C6: CAGO | D6: ='Priority Site #1'!AL7+'Priority Site #2'!V7+'Priority Site #3'!Z7 -> 1 | E6: ='Priority Site #1'!AM7+'Priority Site #2'!W7+'Priority Site #3'!AA7 -> 1
A7: 2 | B7: Wood Duck (Aix sponsa) | C7: WOOD | D7: ='Priority Site #1'!AL8+'Priority Site #2'!V8+'Priority Site #3'!Z8 -> 0 | E7: ='Priority Site #1'!AM8+'Priority Site #2'!W8+'Priority Site #3'!AA8 -> 0 | F7: X
A8: 3 | B8: Mallard (Anas platyrhynchos) | C8: MALL | D8: ='Priority Site #1'!AL9+'Priority Site #2'!V9+'Priority Site #3'!Z9 -> 4 | E8: ='Priority Site #1'!AM9+'Priority Site #2'!W9+'Priority Site #3'!AA9 -> 8
A9: 4 | B9: Wild Turkey (Meleagris gallopavo) | C9: WITU | D9: ='Priority Site #1'!AL10+'Priority Site #2'!V10+'Priority Site #3'!Z10 -> 0 | E9: ='Priority Site #1'!AM10+'Priority Site #2'!W10+'Priority Site #3'!AA10 -> 0 | F9: X
A10: 5 | B10: Great Blue Heron (Ardea herodias) | C10: GBHE | D10: ='Priority Site #1'!AL11+'Priority Site #2'!V11+'Priority Site #3'!Z11 -> 0 | E10: ='Priority Site #1'!AM11+'Priority Site #2'!W11+'Priority Site #3'!AA11 -> 0 | F10: X
A11: 6 | B11: Great Egret (Ardea alba) | C11: GREG | D11: ='Priority Site #1'!AL12+'Priority Site #2'!V12+'Priority Site #3'!Z12 -> 0 | E11: ='Priority Site #1'!AM12+'Priority Site #2'!W12+'Priority Site #3'!AA12 -> 0
A12: 7 | B12: Green Heron (Butorides virescens) | C12: GRHE | D12: ='Priority Site #1'!AL13+'Priority Site #2'!V13+'Priority Site #3'!Z13 -> 2 | E12: ='Priority Site #1'!AM13+'Priority Site #2'!W13+'Priority Site #3'!AA13 -> 2
A13: 8 | B13: Bald Eagle (Haliaeetus leucocephalus) | C13: BAEA | D13: ='Priority Site #1'!AL14+'Priority Site #2'!V14+'Priority Site #3'!Z14 -> 1 | E13: ='Priority Site #1'!AM14+'Priority Site #2'!W14+'Priority Site #3'!AA14 -> 1 | G13: SGCN
A14: 9 | B14: Red-tailed Hawk (Buteo jamaicensis) | C14: RTHA | D14: ='Priority Site #1'!AL15+'Priority Site #2'!V15+'Priority Site #3'!Z15 -> 2 | E14: ='Priority Site #1'!AM15+'Priority Site #2'!W15+'Priority Site #3'!AA15 -> 2
A15: 10 | B15: American Kestrel (Falco sparverius) | C15: MAKE | D15: ='Priority Site #1'!AL16+'Priority Site #2'!V16+'Priority Site #3'!Z16 -> 1 | E15: ='Priority Site #1'!AM16+'Priority Site #2'!W16+'Priority Site #3'!AA16 -> 1
A16: 11 | B16: Sandhill Crane (Grus canadensis) | C16: SACR | D16: ='Priority Site #1'!AL17+'Priority Site #2'!V17+'Priority Site #3'!Z17 -> 0 | E16: ='Priority Site #1'!AM17+'Priority Site #2'!W17+'Priority Site #3'!AA17 -> 0 | F16: X
A17: 12 | B17: Killdeer (Charadrius vociferus) | C17: KILL | D17: ='Priority Site #1'!AL18+'Priority Site #2'!V18+'Priority Site #3'!Z18 -> 6 | E17: ='Priority Site #1'!AM18+'Priority Site #2'!W18+'Priority Site #3'!AA18 -> 6
A18: 13 | B18: Spotted Sandpiper (Actitis macularia) | C18: SPSA | D18: ='Priority Site #1'!AL19+'Priority Site #2'!V19+'Priority Site #3'!Z19 -> 1 | E18: ='Priority Site #1'!AM19+'Priority Site #2'!W19+'Priority Site #3'!AA19 -> 1
A19: 14 | B19: American Woodcock (Scolopax minor) | C19: AMWO | D19: ='Priority Site #1'!AL20+'Priority Site #2'!V20+'Priority Site #3'!Z20 -> 0 | E19: ='Priority Site #1'!AM20+'Priority Site #2'!W20+'Priority Site #3'!AA20 -> 0 | F19: X | G19: SGCN
A20: 15 | B20: Ring-billed Gull (Larus delawarensis) | C20: RBGU | D20: ='Priority Site #1'!AL21+'Priority Site #2'!V21+'Priority Site #3'!Z21 -> 2 | E20: ='Priority Site #1'!AM21+'Priority Site #2'!W21+'Priority Site #3'!AA21 -> 4
A21: 16 | B21: Rock Pigeon (Columba livia) | C21: ROPI | D21: ='Priority Site #1'!AL22+'Priority Site #2'!V22+'Priority Site #3'!Z22 -> 0 | E21: ='Priority Site #1'!AM22+'Priority Site #2'!W22+'Priority Site #3'!AA22 -> 0 | F21: X
A22: 17 | B22: Mourning Dove (Zenaida macroura) | C22: MODO | D22: ='Priority Site #1'!AL23+'Priority Site #2'!V23+'Priority Site #3'!Z23 -> 11 | E22: ='Priority Site #1'!AM23+'Priority Site #2'!W23+'Priority Site #3'!AA23 -> 15
A23: 18 | B23: Black-billed Cuckoo (Coccyzus erythropthalmus) | C23: BBCU | D23: ='Priority Site #1'!AL24+'Priority Site #2'!V24+'Priority Site #3'!Z24 -> 0 | E23: ='Priority Site #1'!AM24+'Priority Site #2'!W24+'Priority Site #3'!AA24 -> 0
A24: 19 | B24: Yellow-billed Cuckoo (Coccyzus americanus) | C24: YBCU | D24: ='Priority Site #1'!AL25+'Priority Site #2'!V25+'Priority Site #3'!Z25 -> 2 | E24: ='Priority Site #1'!AM25+'Priority Site #2'!W25+'Priority Site #3'!AA25 -> 2 | G24: SGCN
A25: 20 | B25: Great Horned Owl (Bubo virginianus) | C25: GHOW | D25: ='Priority Site #1'!AL26+'Priority Site #2'!V26+'Priority Site #3'!Z26 -> 1 | E25: ='Priority Site #1'!AM26+'Priority Site #2'!W26+'Priority Site #3'!AA26 -> 1
A26: 21 | B26: Chimney Swift (Chaetura pelagica) | C26: CHSW | D26: ='Priority Site #1'!AL27+'Priority Site #2'!V27+'Priority Site #3'!Z27 -> 4 | E26: ='Priority Site #1'!AM27+'Priority Site #2'!W27+'Priority Site #3'!AA27 -> 4
A27: 22 | B27: Ruby-throated Hummingbird (Archilochus colubris) | C27: RTHU | D27: ='Priority Site #1'!AL28+'Priority Site #2'!V28+'Priority Site #3'!Z28 -> 1 | E27: ='Priority Site #1'!AM28+'Priority Site #2'!W28+'Priority Site #3'!AA28 -> 1
A28: 23 | B28: Belted Kingfisher (Ceryle alcyon) | C28: BEKI | D28: ='Priority Site #1'!AL29+'Priority Site #2'!V29+'Priority Site #3'!Z29 -> 3 | E28: ='Priority Site #1'!AM29+'Priority Site #2'!W29+'Priority Site #3'!AA29 -> 3 | H28: CF
A29: 24 | B29: Red-bellied Woodpecker (Melanerpes carolinus) | C29: RBWO | D29: ='Priority Site #1'!AL30+'Priority Site #2'!V30+'Priority Site #3'!Z30 -> 12 | E29: ='Priority Site #1'!AM30+'Priority Site #2'!W30+'Priority Site #3'!AA30 -> 19
A30: 25 | B30: Downy Woodpecker (Picoides pubescens) | C30: DOWO | D30: ='Priority Site #1'!AL31+'Priority Site #2'!V31+'Priority Site #3'!Z31 -> 7 | E30: ='Priority Site #1'!AM31+'Priority Site #2'!W31+'Priority Site #3'!AA31 -> 8
A31: 26 | B31: Hairy Woodpecker (Picoides villosus) | C31: HAWO | D31: ='Priority Site #1'!AL32+'Priority Site #2'!V32+'Priority Site #3'!Z32 -> 7 | E31: ='Priority Site #1'!AM32+'Priority Site #2'!W32+'Priority Site #3'!AA32 -> 8
A32: 27 | B32: Northern Flicker (Colaptes auratus) | C32: NOFL | D32: ='Priority Site #1'!AL33+'Priority Site #2'!V33+'Priority Site #3'!Z33 -> 4 | E32: ='Priority Site #1'!AM33+'Priority Site #2'!W33+'Priority Site #3'!AA33 -> 4
A33: 28 | B33: Eastern Wood-Pewee (Contopus virens) | C33: EAWP | D33: ='Priority Site #1'!AL34+'Priority Site #2'!V34+'Priority Site #3'!Z34 -> 14 | E33: ='Priority Site #1'!AM34+'Priority Site #2'!W34+'Priority Site #3'!AA34 -> 20
A34: 29 | B34: Alder Flycatcher (Empidonax alnorum) | C34: ALFL | D34: ='Priority Site #1'!AL35+'Priority Site #2'!V35+'Priority Site #3'!Z35 -> 2 | E34: ='Priority Site #1'!AM35+'Priority Site #2'!W35+'Priority Site #3'!AA35 -> 2
A35: 30 | B35: Willow Flycatcher (Empidonax traillii) | C35: WIFL | D35: ='Priority Site #1'!AL36+'Priority Site #2'!V36+'Priority Site #3'!Z36 -> 2 | E35: ='Priority Site #1'!AM36+'Priority Site #2'!W36+'Priority Site #3'!AA36 -> 3 | G35: SGCN
A36: 31 | B36: Least Flycatcher (Empidonax minimus) | C36: LEFL | D36: ='Priority Site #1'!AL37+'Priority Site #2'!V37+'Priority Site #3'!Z37 -> 0 | E36: ='Priority Site #1'!AM37+'Priority Site #2'!W37+'Priority Site #3'!AA37 -> 0
A37: 32 | B37: Eastern Phoebe (Sayornis phoebe) | C37: EAPH | D37: ='Priority Site #1'!AL38+'Priority Site #2'!V38+'Priority Site #3'!Z38 -> 2 | E37: ='Priority Site #1'!AM38+'Priority Site #2'!W38+'Priority Site #3'!AA38 -> 2
A38: 33 | B38: Great Crested Flycatcher (Myiarchus crinitus) | C38: GCFL | D38: ='Priority Site #1'!AL39+'Priority Site #2'!V39+'Priority Site #3'!Z39 -> 15 | E38: ='Priority Site #1'!AM39+'Priority Site #2'!W39+'Priority Site #3'!AA39 -> 24 | H38: CF
A39: 34 | B39: Eastern Kingbird (Tyrannus tyrannus) | C39: EAKI | D39: ='Priority Site #1'!AL40+'Priority Site #2'!V40+'Priority Site #3'!Z40 -> 1 | E39: ='Priority Site #1'!AM40+'Priority Site #2'!W40+'Priority Site #3'!AA40 -> 1
A40: 35 | B40: Yellow-throated Vireo (Vireo flavifrons) | C40: YTVI | D40: ='Priority Site #1'!AL41+'Priority Site #2'!V41+'Priority Site #3'!Z41 -> 1 | E40: ='Priority Site #1'!AM41+'Priority Site #2'!W41+'Priority Site #3'!AA41 -> 1
A41: 36 | B41: Warbling Vireo (Vireo gilvus) | C41: WAVI | D41: ='Priority Site #1'!AL42+'Priority Site #2'!V42+'Priority Site #3'!Z42 -> 10 | E41: ='Priority Site #1'!AM42+'Priority Site #2'!W42+'Priority Site #3'!AA42 -> 16
A42: 37 | B42: Red-eyed Vireo (Vireo olivaceus) | C42: REVI | D42: ='Priority Site #1'!AL43+'Priority Site #2'!V43+'Priority Site #3'!Z43 -> 18 | E42: ='Priority Site #1'!AM43+'Priority Site #2'!W43+'Priority Site #3'!AA43 -> 26 | H42: ON
A43: 38 | B43: Blue Jay (Cyanocitta cristata) | C43: BLJA | D43: ='Priority Site #1'!AL44+'Priority Site #2'!V44+'Priority Site #3'!Z44 -> 19 | E43: ='Priority Site #1'!AM44+'Priority Site #2'!W44+'Priority Site #3'!AA44 -> 22 | H43: CF
A44: 39 | B44: American Crow (Corvus brachyrhynchos) | C44: AMCR | D44: ='Priority Site #1'!AL45+'Priority Site #2'!V45+'Priority Site #3'!Z45 -> 14 | E44: ='Priority Site #1'!AM45+'Priority Site #2'!W45+'Priority Site #3'!AA45 -> 18
A45: 40 | B45: Tree Swallow (Tachycineta bicolor) | C45: TRSW | D45: ='Priority Site #1'!AL46+'Priority Site #2'!V46+'Priority Site #3'!Z46 -> 5 | E45: ='Priority Site #1'!AM46+'Priority Site #2'!W46+'Priority Site #3'!AA46 -> 6
A46: 41 | B46: Northern Rough-winged Swallow (Stelgidopteryx serripennis) | C46: NRWS | D46: ='Priority Site #1'!AL47+'Priority Site #2'!V47+'Priority Site #3'!Z47 -> 2 | E46: ='Priority Site #1'!AM47+'Priority Site #2'!W47+'Priority Site #3'!AA47 -> 4
A47: 42 | B47: Bank Swallow (Riparia riparia) | C47: BANS | D47: ='Priority Site #1'!AL48+'Priority Site #2'!V48+'Priority Site #3'!Z48 -> 0 | E47: ='Priority Site #1'!AM48+'Priority Site #2'!W48+'Priority Site #3'!AA48 -> 0 | F47: X
A48: 43 | B48: Cliff Swallow (Petrochelidon pyrrhonota) | C48: CLSW | D48: ='Priority Site #1'!AL49+'Priority Site #2'!V49+'Priority Site #3'!Z49 -> 1 | E48: ='Priority Site #1'!AM49+'Priority Site #2'!W49+'Priority Site #3'!AA49 -> 1
A49: 44 | B49: Barn Swallow (Hirundo rustica) | C49: BARS | D49: ='Priority Site #1'!AL50+'Priority Site #2'!V50+'Priority Site #3'!Z50 -> 5 | E49: ='Priority Site #1'!AM50+'Priority Site #2'!W50+'Priority Site #3'!AA50 -> 8
A50: 45 | B50: Black-capped Chickadee (Poecile atricapillus) | C50: BCCH | D50: ='Priority Site #1'!AL51+'Priority Site #2'!V51+'Priority Site #3'!Z51 -> 9 | E50: ='Priority Site #1'!AM51+'Priority Site #2'!W51+'Priority Site #3'!AA51 -> 9
A51: 46 | B51: White-breasted Nuthatch (Sitta carolinensis) | C51: WBNU | D51: ='Priority Site #1'!AL52+'Priority Site #2'!V52+'Priority Site #3'!Z52 -> 8 | E51: ='Priority Site #1'!AM52+'Priority Site #2'!W52+'Priority Site #3'!AA52 -> 8
A52: 47 | B52: House Wren (Troglodytes aedon) | C52: HOWR | D52: ='Priority Site #1'!AL53+'Priority Site #2'!V53+'Priority Site #3'!Z53 -> 29 | E52: ='Priority Site #1'!AM53+'Priority Site #2'!W53+'Priority Site #3'!AA53 -> 55
A53: 48 | B53: Blue-gray Gnatcatcher (Polioptila caerulea) | C53: BGGN | D53: ='Priority Site #1'!AL54+'Priority Site #2'!V54+'Priority Site #3'!Z54 -> 5 | E53: ='Priority Site #1'!AM54+'Priority Site #2'!W54+'Priority Site #3'!AA54 -> 7
A54: 49 | B54: Eastern Bluebird (Sialia sialis) | C54: EABL | D54: ='Priority Site #1'!AL55+'Priority Site #2'!V55+'Priority Site #3'!Z55 -> 1 | E54: ='Priority Site #1'!AM55+'Priority Site #2'!W55+'Priority Site #3'!AA55 -> 1
A55: 50 | B55: Veery (Catharus fuscescens) | C55: VEER | D55: ='Priority Site #1'!AL56+'Priority Site #2'!V56+'Priority Site #3'!Z56 -> 0 | E55: ='Priority Site #1'!AM56+'Priority Site #2'!W56+'Priority Site #3'!AA56 -> 0
A56: 51 | B56: Wood Thrush (Hylocichla mustelina) | C56: WOTH | D56: ='Priority Site #1'!AL57+'Priority Site #2'!V57+'Priority Site #3'!Z57 -> 1 | E56: ='Priority Site #1'!AM57+'Priority Site #2'!W57+'Priority Site #3'!AA57 -> 2 | G56: SGCN
A57: 52 | B57: American Robin (Turdus migratorius) | C57: AMRO | D57: ='Priority Site #1'!AL58+'Priority Site #2'!V58+'Priority Site #3'!Z58 -> 31 | E57: ='Priority Site #1'!AM58+'Priority Site #2'!W58+'Priority Site #3'!AA58 -> 50 | H57: CF
A58: 53 | B58: Gray Catbird (Dumetella carolinensis) | C58: GRCA | D58: ='Priority Site #1'!AL59+'Priority Site #2'!V59+'Priority Site #3'!Z59 -> 11 | E58: ='Priority Site #1'!AM59+'Priority Site #2'!W59+'Priority Site #3'!AA59 -> 12
A59: 54 | B59: Brown Thrasher (Toxostoma rufum) | C59: BRTH | D59: ='Priority Site #1'!AL60+'Priority Site #2'!V60+'Priority Site #3'!Z60 -> 2 | E59: ='Priority Site #1'!AM60+'Priority Site #2'!W60+'Priority Site #3'!AA60 -> 2 | G59: SGCN
A60: 55 | B60: European Starling (Sturnus vulgaris) | C60: EUST | D60: ='Priority Site #1'!AL61+'Priority Site #2'!V61+'Priority Site #3'!Z61 -> 6 | E60: ='Priority Site #1'!AM61+'Priority Site #2'!W61+'Priority Site #3'!AA61 -> 10
A61: 56 | B61: Cedar Waxwing (Bombycilla cedrorum) | C61: CEDW | D61: ='Priority Site #1'!AL62+'Priority Site #2'!V62+'Priority Site #3'!Z62 -> 6 | E61: ='Priority Site #1'!AM62+'Priority Site #2'!W62+'Priority Site #3'!AA62 -> 10
A62: 57 | B62: Blue-winged Warbler (Vermivora pinus) | C62: BWWA | D62: ='Priority Site #1'!AL63+'Priority Site #2'!V63+'Priority Site #3'!Z63 -> 0 | E62: ='Priority Site #1'!AM63+'Priority Site #2'!W63+'Priority Site #3'!AA63 -> 0
A63: 58 | B63: Golden-winged Warbler (Vermivora chrysoptera) | C63: GWWA | D63: ='Priority Site #1'!AL64+'Priority Site #2'!V64+'Priority Site #3'!Z64 -> 0 | E63: ='Priority Site #1'!AM64+'Priority Site #2'!W64+'Priority Site #3'!AA64 -> 0
A64: 59 | B64: Yellow Warbler (Dendroica petechia) | C64: YEWA | D64: ='Priority Site #1'!AL65+'Priority Site #2'!V65+'Priority Site #3'!Z65 -> 8 | E64: ='Priority Site #1'!AM65+'Priority Site #2'!W65+'Priority Site #3'!AA65 -> 10
A65: 60 | B65: Chestnut-sided Warbler (Dendroica pensylvanica) | C65: CSWA | D65: ='Priority Site #1'!AL66+'Priority Site #2'!V66+'Priority Site #3'!Z66 -> 1 | E65: ='Priority Site #1'!AM66+'Priority Site #2'!W66+'Priority Site #3'!AA66 -> 1
A66: 61 | B66: American Redstart (Setophaga ruticilla) | C66: AMRE | D66: ='Priority Site #1'!AL67+'Priority Site #2'!V67+'Priority Site #3'!Z67 -> 0 | E66: ='Priority Site #1'!AM67+'Priority Site #2'!W67+'Priority Site #3'!AA67 -> 0 | F66: X
A67: 62 | B67: Ovenbird (Seiurus aurocapilla) | C67: OVEN | D67: ='Priority Site #1'!AL68+'Priority Site #2'!V68+'Priority Site #3'!Z68 -> 1 | E67: ='Priority Site #1'!AM68+'Priority Site #2'!W68+'Priority Site #3'!AA68 -> 1
A68: 63 | B68: Mourning Warbler (Oporornis philadelphia) | C68: MOWA | D68: ='Priority Site #1'!AL69+'Priority Site #2'!V69+'Priority Site #3'!Z69 -> 7 | E68: ='Priority Site #1'!AM69+'Priority Site #2'!W69+'Priority Site #3'!AA69 -> 8
A69: 64 | B69: Common Yellowthroat (Geothlypis trichas) | C69: COYE | D69: ='Priority Site #1'!AL70+'Priority Site #2'!V70+'Priority Site #3'!Z70 -> 13 | E69: ='Priority Site #1'!AM70+'Priority Site #2'!W70+'Priority Site #3'!AA70 -> 19
A70: 65 | B70: Scarlet Tanager (Piranga olivacea) | C70: SCTA | D70: ='Priority Site #1'!AL71+'Priority Site #2'!V71+'Priority Site #3'!Z71 -> 4 | E70: ='Priority Site #1'!AM71+'Priority Site #2'!W71+'Priority Site #3'!AA71 -> 5
A71: 66 | B71: Eastern Towhee (Pipilo erythrophthalmus) | C71: EATO | D71: ='Priority Site #1'!AL72+'Priority Site #2'!V72+'Priority Site #3'!Z72 -> 0 | E71: ='Priority Site #1'!AM72+'Priority Site #2'!W72+'Priority Site #3'!AA72 -> 0
A72: 67 | B72: Chipping Sparrow (Spizella passerina) | C72: CHSP | D72: ='Priority Site #1'!AL73+'Priority Site #2'!V73+'Priority Site #3'!Z73 -> 2 | E72: ='Priority Site #1'!AM73+'Priority Site #2'!W73+'Priority Site #3'!AA73 -> 2
A73: 68 | B73: Clay-colored Sparrow (Spizella pallida) | C73: CCSP | D73: ='Priority Site #1'!AL74+'Priority Site #2'!V74+'Priority Site #3'!Z74 -> 2 | E73: ='Priority Site #1'!AM74+'Priority Site #2'!W74+'Priority Site #3'!AA74 -> 6 | H73: CF
A74: 69 | B74: Field Sparrow (Spizella pusilla) | C74: FISP | D74: ='Priority Site #1'!AL75+'Priority Site #2'!V75+'Priority Site #3'!Z75 -> 1 | E74: ='Priority Site #1'!AM75+'Priority Site #2'!W75+'Priority Site #3'!AA75 -> 1 | G74: SGCN
A75: 70 | B75: Savannah Sparrow (Passerculus sandwichensis) | C75: SASP | D75: ='Priority Site #1'!AL76+'Priority Site #2'!V76+'Priority Site #3'!Z76 -> 3 | E75: ='Priority Site #1'!AM76+'Priority Site #2'!W76+'Priority Site #3'!AA76 -> 6
A76: 71 | B76: Song Sparrow (Melospiza melodia) | C76: SOSP | D76: ='Priority Site #1'!AL77+'Priority Site #2'!V77+'Priority Site #3'!Z77 -> 31 | E76: ='Priority Site #1'!AM77+'Priority Site #2'!W77+'Priority Site #3'!AA77 -> 50 | H76: CF, FY
A77: 72 | B77: Swamp Sparrow (Melospiza georgiana) | C77: SWSP | D77: ='Priority Site #1'!AL78+'Priority Site #2'!V78+'Priority Site #3'!Z78 -> 0 | E77: ='Priority Site #1'!AM78+'Priority Site #2'!W78+'Priority Site #3'!AA78 -> 0
A78: 73 | B78: Northern Cardinal (Cardinalis cardinalis) | C78: NOCA | D78: ='Priority Site #1'!AL79+'Priority Site #2'!V79+'Priority Site #3'!Z79 -> 19 | E78: ='Priority Site #1'!AM79+'Priority Site #2'!W79+'Priority Site #3'!AA79 -> 27 | H78: FL, CF
A79: 74 | B79: Rose-breasted Grosbeak (Pheucticus ludovicianus) | C79: RBGR | D79: ='Priority Site #1'!AL80+'Priority Site #2'!V80+'Priority Site #3'!Z80 -> 12 | E79: ='Priority Site #1'!AM80+'Priority Site #2'!W80+'Priority Site #3'!AA80 -> 13
A80: 75 | B80: Indigo Bunting (Passerina cyanea) | C80: INBU | D80: ='Priority Site #1'!AL81+'Priority Site #2'!V81+'Priority Site #3'!Z82 -> 17 | E80: ='Priority Site #1'!AM81+'Priority Site #2'!W81+'Priority Site #3'!AA82 -> 20
A81: 76 | B81: Dickcissel (Spiza americana) | C81: DICK | D81: ='Priority Site #1'!AL82+'Priority Site #2'!V82+'Priority Site #3'!Z83 -> 4 | E81: ='Priority Site #1'!AM82+'Priority Site #2'!W82+'Priority Site #3'!AA83 -> 4 | G81: SGCN
A82: 77 | B82: Bobolink (Dolichonyx oryzivorus) | C82: BOBO | D82: ='Priority Site #1'!AL83+'Priority Site #2'!V83+'Priority Site #3'!Z83 -> 5 | E82: ='Priority Site #1'!AM83+'Priority Site #2'!W83+'Priority Site #3'!AA83 -> 7 | G82: SGCN
A83: 78 | B83: Red-winged Blackbird (Agelaius phoeniceus) | C83: RWBB | D83: ='Priority Site #1'!AL84+'Priority Site #2'!V84+'Priority Site #3'!Z84 -> 25 | E83: ='Priority Site #1'!AM84+'Priority Site #2'!W84+'Priority Site #3'!AA84 -> 77 | H83: FL
A84: 79 | B84: Eastern Meadowlark (Sturnella magna) | C84: EAME | D84: ='Priority Site #1'!AL85+'Priority Site #2'!V85+'Priority Site #3'!Z85 -> 9 | E84: ='Priority Site #1'!AM85+'Priority Site #2'!W85+'Priority Site #3'!AA85 -> 14 | G84: SGCN
A85: 80 | B85: Common Grackle (Quiscalus quiscula) | C85: COGR | D85: ='Priority Site #1'!AL86+'Priority Site #2'!V86+'Priority Site #3'!Z86 -> 16 | E85: ='Priority Site #1'!AM86+'Priority Site #2'!W86+'Priority Site #3'!AA86 -> 29 | H85: CF
A86: 81 | B86: Brown-headed Cowbird (Molothrus ater) | C86: BHCO | D86: ='Priority Site #1'!AL87+'Priority Site #2'!V87+'Priority Site #3'!Z87 -> 17 | E86: ='Priority Site #1'!AM87+'Priority Site #2'!W87+'Priority Site #3'!AA87 -> 22 | H86: FL
A87: 82 | B87: Orchard Oriole ((Icterus spurius) | C87: OROR | D87: ='Priority Site #1'!AL88+'Priority Site #2'!V88+'Priority Site #3'!Z88 -> 3 | E87: ='Priority Site #1'!AM88+'Priority Site #2'!W88+'Priority Site #3'!AA88 -> 3
A88: 83 | B88: Baltimore Oriole (Icterus galbula) | C88: BAOR | D88: ='Priority Site #1'!AL89+'Priority Site #2'!V89+'Priority Site #3'!Z89 -> 22 | E88: ='Priority Site #1'!AM89+'Priority Site #2'!W89+'Priority Site #3'!AA89 -> 29
A89: 84 | B89: House Finch (Carpodacus mexicanus) | C89: HOFI | D89: ='Priority Site #1'!AL90+'Priority Site #2'!V90+'Priority Site #3'!Z90 -> 4 | E89: ='Priority Site #1'!AM90+'Priority Site #2'!W90+'Priority Site #3'!AA90 -> 5
A90: 85 | B90: American Goldfinch (Carduelis tristis) | C90: AMGO | D90: ='Priority Site #1'!AL91+'Priority Site #2'!V91+'Priority Site #3'!Z91 -> 24 | E90: ='Priority Site #1'!AM91+'Priority Site #2'!W91+'Priority Site #3'!AA91 -> 35
A91: 86 | B91: House Sparrow (Passer domesticus) | C91: HOSP | D91: ='Priority Site #1'!AL92+'Priority Site #2'!V92+'Priority Site #3'!Z92 -> 2 | E91: ='Priority Site #1'!AM92+'Priority Site #2'!W92+'Priority Site #3'!AA92 -> 3
B92: Individuals | E92: =SUM(E6:E91) -> 808
B93: Species | E93: =COUNTIF(E6:E91,">0") -> 70 | F93: =COUNTIF(F6:F91,"=X") -> 8 | G93: =COUNTIF(G6:G92,"=SGCN") -> 10 | H93: =COUNTIF(H6:H92,"*") -> 11

Sheet Priority Site #1
B1: Priority Site #1 | C1: Waypoint: | D1: BWR-01 | F1: BWR-02 | H1: BWR-03 | J1: BWR-04 | L1: BWR-05 | N1: BWR-06 | P1: BWR-07 | R1: BWR-08 | T1: BWR-09 | V1: BWR-10 | X1: BWR-11 | Z1: BWR-12 | AB1: BWR-13 | AD1: BWR-14 | AF1: BWR-15 | AH1: BWR-36 | AJ1: BWR-37 | AL1: Hours | AP1: 40705 | AQ1: 40706 | AR1: 40707 | AS1: 40719
C2: Date: | D2: 40705 | F2: 40705 | H2: 40706 | J2: 40706 | L2: 40706 | N2: 40706 | P2: 40706 | R2: 40706 | T2: 40706 | V2: 40706 | X2: 40707 | Z2: 40707 | AB2: 40707 | AD2: 40707 | AF2: 40707 | AH2: 40719 | AJ2: 40719 | AL2: 0.21388889 | AP2: 44 | AQ2: 0.11736111 | AR2: 0.065972222
B3: 2010 Interior Forest BBS | C3: Time: | D3: 0.24583333 | F3: 0.26944444 | H3: 0.25069444 | J3: 0.26666667 | L3: 0.28194444 | N3: 0.3 | P3: 0.3125 | R3: 0.33055556 | T3: 0.34513889 | V3: 0.36111111 | X3: 0.22569444 | Z3: 0.23958333 | AB3: 0.25486111 | AD3: 0.27083333 | AF3: 0.28472222 | AH3: 0.27847222 | AJ3: 0.29166667 | AL3: Total Points
B4: Sheboygan AOC | C4: GPS: DM | D4: ='Convert GPS'!L3 -> N 43 | E4: ='Convert GPS'!M3 -> 43.293333 | F4: ='Convert GPS'!L4 -> N 43 | G4: ='Convert GPS'!M4 -> 43.491667 | H4: ='Convert GPS'!L5 -> N 43 | I4: ='Convert GPS'!M5 -> 43.476667 | J4: ='Convert GPS'!L6 -> N 43 | K4: ='Convert GPS'!M6 -> 43.636667 | L4: ='Convert GPS'!L7 -> N 43 | M4: ='Convert GPS'!M7 -> 43.658333 | N4: ='Convert GPS'!L8 -> N 43 | O4: ='Convert GPS'!M8 -> 43.52 | P4: ='Convert GPS'!L9 -> N 43 | Q4: ='Convert GPS'!M9 -> 43.493333 | R4: ='Convert GPS'!L10 -> N 43 | S4: ='Convert GPS'!M10 -> 43.648333 | T4: ='Convert GPS'!L11 -> N 43 | U4: ='Convert GPS'!M11 -> 43.743333 | V4: ='Convert GPS'!L12 -> N 43 | W4: ='Convert GPS'!M12 -> 43.843333 | X4: ='Convert GPS'!L13 -> N 43 | Y4: ='Convert GPS'!M13 -> 43.583333 | Z4: ='Convert GPS'!L14 -> N 43 | AA4: ='Convert GPS'!M14 -> 43.633333 | AB4: ='Convert GPS'!L15 -> N 43 | AC4: ='Convert GPS'!M15 -> 43.74 | AD4: ='Convert GPS'!L16 -> N 43 | AE4: ='Convert GPS'!M16 -> 43.878333 | AF4: ='Convert GPS'!L17 -> N 43 | AG4: ='Convert GPS'!M17 -> 44.046667 | AH4: ='Convert GPS'!L38 -> N 44 | AI4: ='Convert GPS'!M38 -> 43.283333 | AJ4: ='Convert GPS'!L39 -> N 44 | AK4: ='Convert GPS'!M39 -> 44.381667
D5: ='Convert GPS'!O3 -> N87 | E5: ='Convert GPS'!P3 -> 47.765 | F5: ='Convert GPS'!O4 -> N87 | G5: ='Convert GPS'!P4 -> 47.9 | H5: ='Convert GPS'!O5 -> N87 | I5: ='Convert GPS'!P5 -> 47.673333 | J5: ='Convert GPS'!O6 -> N87 | K5: ='Convert GPS'!P6 -> 47.746667 | L5: ='Convert GPS'!O7 -> N87 | M5: ='Convert GPS'!P7 -> 47.526667 | N5: ='Convert GPS'!O8 -> N87 | O5: ='Convert GPS'!P8 -> 47.425 | P5: ='Convert GPS'!O9 -> N87 | Q5: ='Convert GPS'!P9 -> 47.196667 | R5: ='Convert GPS'!O10 -> N87 | S5: ='Convert GPS'!P10 -> 47.108333 | T5: ='Convert GPS'!O11 -> N87 | U5: ='Convert GPS'!P11 -> 47.291667 | V5: ='Convert GPS'!O12 -> N87 | W5: ='Convert GPS'!P12 -> 47.37 | X5: ='Convert GPS'!O13 -> N87 | Y5: ='Convert GPS'!P13 -> 46.886667 | Z5: ='Convert GPS'!O14 -> N87 | AA5: ='Convert GPS'!P14 -> 46.67 | AB5: ='Convert GPS'!O15 -> N87 | AC5: ='Convert GPS'!P15 -> 46.858333 | AD5: ='Convert GPS'!O16 -> N87 | AE5: ='Convert GPS'!P16 -> 47 | AF5: ='Convert GPS'!O17 -> N87 | AG5: ='Convert GPS'!P17 -> 45.878333 | AH5: ='Convert GPS'!O38 -> N87 | AI5: ='Convert GPS'!P38 -> 47.536667 | AJ5: ='Convert GPS'!O39 -> N87 | AK5: ='Convert GPS'!P39 -> 47.415 | AL5: =COUNT(D6:AK6) -> 17
B6: Species | C6: Point #: | D6: 1 | F6: 2 | H6: 3 | J6: 4 | L6: 5 | N6: 6 | P6: 7 | R6: 8 | T6: 9 | V6: 10 | X6: 11 | Z6: 12 | AB6: 13 | AD6: 14 | AF6: 15 | AH6: 36 | AJ6: 37 | AL6: # Pts | AM6: Ind.
A7: 1 | B7: Canada Goose (Branta canadensis) | C7: CAGO | L7: 1 | AL7: =COUNT(D7:AK7) -> 1 | AM7: =SUM(D7:AK7) -> 1
A8: 2 | B8: Wood Duck (Aix sponsa) | C8: WOOD | AL8: =COUNT(D8:AK8) -> 0 | AM8: =SUM(D8:AK8) -> 0
A9: 3 | B9: Mallard (Anas platyrhynchos) | C9: MALL | AL9: =COUNT(D9:AK9) -> 0 | AM9: =SUM(D9:AK9) -> 0
A10: 4 | B10: Wild Turkey (Meleagris gallopavo) | C10: WITU | AL10: =COUNT(D10:AK10) -> 0 | AM10: =SUM(D10:AK10) -> 0
A11: 5 | B11: Great Blue Heron (Ardea herodias) | C11: GBHE | AL11: =COUNT(D11:AK11) -> 0 | AM11: =SUM(D11:AK11) -> 0
A12: 6 | B12: Great Egret (Ardea alba) | C12: GREG | AL12: =COUNT(D12:AK12) -> 0 | AM12: =SUM(D12:AK12) -> 0
A13: 7 | B13: Green Heron (Butorides virescens) | C13: GRHE | AL13: =COUNT(D13:AK13) -> 0 | AM13: =SUM(D13:AK13) -> 0
B14: Bald Eagle (Haliaeetus leucocephalus) | C14: BAEA | AL14: =COUNT(D14:AK14) -> 0 | AM14: =SUM(D14:AK14) -> 0
A15: 8 | B15: Red-tailed Hawk (Buteo jamaicensis) | C15: RTHA | AL15: =COUNT(D15:AK15) -> 0 | AM15: =SUM(D15:AK15) -> 0
A16: 9 | B16: American Kestrel (Falco sparverius) | C16: MAKE | AL16: =COUNT(D16:AK16) -> 0 | AM16: =SUM(D16:AK16) -> 0
A17: 10 | B17: Sandhill Crane (Grus canadensis) | C17: SACR | AL17: =COUNT(D17:AK17) -> 0 | AM17: =SUM(D17:AK17) -> 0
A18: 11 | B18: Killdeer (Charadrius vociferus) | C18: KILL | AJ18: 1 | AL18: =COUNT(D18:AK18) -> 1 | AM18: =SUM(D18:AK18) -> 1
A19: 12 | B19: Spotted Sandpiper (Actitis macularia) | C19: SPSA | AL19: =COUNT(D19:AK19) -> 0 | AM19: =SUM(D19:AK19) -> 0
B20: American Woodcock (Scolopax minor) | C20: AMWO | AL20: =COUNT(D20:AK20) -> 0 | AM20: =SUM(D20:AK20) -> 0
A21: 13 | B21: Ring-billed Gull (Larus delawarensis) | C21: RBGU | AL21: =COUNT(D21:AK21) -> 0 | AM21: =SUM(D21:AK21) -> 0
A22: 14 | B22: Rock Pigeon (Columba livia) | C22: ROPI | AL22: =COUNT(D22:AK22) -> 0 | AM22: =SUM(D22:AK22) -> 0
A23: 15 | B23: Mourning Dove (Zenaida macroura) | C23: MODO | J23: 1 | L23: 1 | N23: 1 | AL23: =COUNT(D23:AK23) -> 3 | AM23: =SUM(D23:AK23) -> 3
A24: 16 | B24: Black-billed Cuckoo (Coccyzus erythropthalmus) | C24: BBCU | AL24: =COUNT(D24:AK24) -> 0 | AM24: =SUM(D24:AK24) -> 0
A25: 17 | B25: Yellow-billed Cuckoo (Coccyzus americanus) | C25: YBCU | V25: 1 | AH25: 1 | AL25: =COUNT(D25:AK25) -> 2 | AM25: =SUM(D25:AK25) -> 2
A26: 18 | B26: Great Horned Owl (Bubo virginianus) | C26: GHOW | AL26: =COUNT(D26:AK26) -> 0 | AM26: =SUM(D26:AK26) -> 0
A27: 19 | B27: Chimney Swift (Chaetura pelagica) | C27: CHSW | F27: 1 | H27: 1 | N27: 1 | T27: 1 | AL27: =COUNT(D27:AK27) -> 4 | AM27: =SUM(D27:AK27) -> 4
A28: 20 | B28: Ruby-throated Hummingbird (Archilochus colubris) | C28: RTHU | F28: 1 | AL28: =COUNT(D28:AK28) -> 1 | AM28: =SUM(D28:AK28) -> 1
A29: 21 | B29: Belted Kingfisher (Ceryle alcyon) | C29: BEKI | AL29: =COUNT(D29:AK29) -> 0 | AM29: =SUM(D29:AK29) -> 0
A30: 22 | B30: Red-bellied Woodpecker (Melanerpes carolinus) | C30: RBWO | F30: 1 | J30: 2 | L30: 2 | P30: 2 | V30: 1 | AB30: 1 | AD30: 1 | AF30: 2 | AL30: =COUNT(D30:AK30) -> 8 | AM30: =SUM(D30:AK30) -> 12
A31: 23 | B31: Downy Woodpecker (Picoides pubescens) | C31: DOWO | V31: 1 | AD31: 1 | AL31: =COUNT(D31:AK31) -> 2 | AM31: =SUM(D31:AK31) -> 2
A32: 24 | B32: Hairy Woodpecker (Picoides villosus) | C32: HAWO | D32: 1 | L32: 2 | P32: 1 | X32: 1 | AD32: 1 | AL32: =COUNT(D32:AK32) -> 5 | AM32: =SUM(D32:AK32) -> 6
A33: 25 | B33: Northern Flicker (Colaptes auratus) | C33: NOFL | H33: 1 | AB33: 1 | AF33: 1 | AL33: =COUNT(D33:AK33) -> 3 | AM33: =SUM(D33:AK33) -> 3
A34: 26 | B34: Eastern Wood-Pewee (Contopus virens) | C34: EAWP | F34: 2 | J34: 1 | L34: 2 | N34: 2 | P34: 1 | AL34: =COUNT(D34:AK34) -> 5 | AM34: =SUM(D34:AK34) -> 8
A35: 27 | B35: Alder Flycatcher (Empidonax alnorum) | C35: ALFL | D35: 1 | AL35: =COUNT(D35:AK35) -> 1 | AM35: =SUM(D35:AK35) -> 1
A36: 28 | B36: Willow Flycatcher (Empidonax traillii) | C36: WIFL | AH36: 1 | AJ36: 2 | AL36: =COUNT(D36:AK36) -> 2 | AM36: =SUM(D36:AK36) -> 3
A37: 29 | B37: Least Flycatcher (Empidonax minimus) | C37: LEFL | AL37: =COUNT(D37:AK37) -> 0 | AM37: =SUM(D37:AK37) -> 0
A38: 30 | B38: Eastern Phoebe (Sayornis phoebe) | C38: EAPH | AL38: =COUNT(D38:AK38) -> 0 | AM38: =SUM(D38:AK38) -> 0
A39: 31 | B39: Great Crested Flycatcher (Myiarchus crinitus) | C39: GCFL | H39: 1 | J39: 1 | L39: 2 | N39: 1 | T39: 1 | V39: 3 | X39: 1 | Z39: 1 | AL39: =COUNT(D39:AK39) -> 8 | AM39: =SUM(D39:AK39) -> 11
A40: 32 | B40: Eastern Kingbird (Tyrannus tyrannus) | C40: EAKI | D40: 1 | AL40: =COUNT(D40:AK40) -> 1 | AM40: =SUM(D40:AK40) -> 1
A41: 33 | B41: Yellow-throated Vireo (Vireo flavifrons) | C41: YTVI | Z41: 1 | AL41: =COUNT(D41:AK41) -> 1 | AM41: =SUM(D41:AK41) -> 1
A42: 34 | B42: Warbling Vireo (Vireo gilvus) | C42: WAVI | AL42: =COUNT(D42:AK42) -> 0 | AM42: =SUM(D42:AK42) -> 0
A43: 35 | B43: Red-eyed Vireo (Vireo olivaceus) | C43: REVI | T43: 2 | V43: 1 | X43: 2 | Z43: 1 | AB43: 1 | AF43: 2 | AJ43: 1 | AL43: =COUNT(D43:AK43) -> 7 | AM43: =SUM(D43:AK43) -> 10
A44: 36 | B44: Blue Jay (Cyanocitta cristata) | C44: BLJA | F44: 2 | J44: 1 | L44: 1 | N44: 1 | R44: 1 | X44: 1 | Z44: 1 | AD44: 2 | AF44: 1 | AJ44: 1 | AL44: =COUNT(D44:AK44) -> 10 | AM44: =SUM(D44:AK44) -> 12
A45: 37 | B45: American Crow (Corvus brachyrhynchos) | C45: AMCR | D45: 2 | H45: 1 | J45: 1 | L45: 1 | P45: 1 | R45: 2 | AB45: 1 | AD45: 2 | AF45: 1 | AJ45: 1 | AL45: =COUNT(D45:AK45) -> 10 | AM45: =SUM(D45:AK45) -> 13
A46: 38 | B46: Tree Swallow (Tachycineta bicolor) | C46: TRSW | AH46: 1 | AJ46: 1 | AL46: =COUNT(D46:AK46) -> 2 | AM46: =SUM(D46:AK46) -> 2
A47: 39 | B47: Northern Rough-winged Swallow (Stelgidopteryx serripennis) | C47: NRWS | AL47: =COUNT(D47:AK47) -> 0 | AM47: =SUM(D47:AK47) -> 0
A48: 40 | B48: Bank Swallow (Riparia riparia) | C48: BANS | AL48: =COUNT(D48:AK48) -> 0 | AM48: =SUM(D48:AK48) -> 0
A49: 41 | B49: Cliff Swallow (Petrochelidon pyrrhonota) | C49: CLSW | AL49: =COUNT(D49:AK49) -> 0 | AM49: =SUM(D49:AK49) -> 0
A50: 42 | B50: Barn Swallow (Hirundo rustica) | C50: BARS | V50: 2 | AL50: =COUNT(D50:AK50) -> 1 | AM50: =SUM(D50:AK50) -> 2
A51: 43 | B51: Black-capped Chickadee (Poecile atricapillus) | C51: BCCH | F51: 1 | Z51: 1 | AF51: 1 | AL51: =COUNT(D51:AK51) -> 3 | AM51: =SUM(D51:AK51) -> 3
A52: 44 | B52: White-breasted Nuthatch (Sitta carolinensis) | C52: WBNU | H52: 1 | R52: 1 | X52: 1 | AL52: =COUNT(D52:AK52) -> 3 | AM52: =SUM(D52:AK52) -> 3
A53: 45 | B53: House Wren (Troglodytes aedon) | C53: HOWR | D53: 3 | F53: 1 | H53: 2 | J53: 4 | L53: 3 | N53: 1 | P53: 2 | T53: 1 | V53: 1 | X53: 2 | Z53: 2 | AB53: 2 | AD53: 2 | AF53: 2 | AL53: =COUNT(D53:AK53) -> 14 | AM53: =SUM(D53:AK53) -> 28
A54: 46 | B54: Blue-gray Gnatcatcher (Polioptila caerulea) | C54: BGGN | AF54: 2 | AL54: =COUNT(D54:AK54) -> 1 | AM54: =SUM(D54:AK54) -> 2
A55: 47 | B55: Eastern Bluebird (Sialia sialis) | C55: EABL | AL55: =COUNT(D55:AK55) -> 0 | AM55: =SUM(D55:AK55) -> 0
A56: 48 | B56: Veery (Catharus fuscescens) | C56: VEER | AL56: =COUNT(D56:AK56) -> 0 | AM56: =SUM(D56:AK56) -> 0
A57: 49 | B57: Wood Thrush (Hylocichla mustelina) | C57: WOTH | L57: 2 | AL57: =COUNT(D57:AK57) -> 1 | AM57: =SUM(D57:AK57) -> 2
A58: 50 | B58: American Robin (Turdus migratorius) | C58: AMRO | D58: 1 | F58: 1 | H58: 2 | J58: 3 | L58: 1 | N58: 1 | P58: 2 | R58: 1 | X58: 1 | Z58: 2 | AB58: 1 | AD58: 1 | AF58: 1 | AH58: 1 | AJ58: 1 | AL58: =COUNT(D58:AK58) -> 15 | AM58: =SUM(D58:AK58) -> 20
A59: 51 | B59: Gray Catbird (Dumetella carolinensis) | C59: GRCA | H59: 1 | J59: 1 | L59: 1 | V59: 1 | X59: 1 | AL59: =COUNT(D59:AK59) -> 5 | AM59: =SUM(D59:AK59) -> 5
A60: 52 | B60: Brown Thrasher (Toxostoma rufum) | C60: BRTH | AL60: =COUNT(D60:AK60) -> 0 | AM60: =SUM(D60:AK60) -> 0
A61: 53 | B61: European Starling (Sturnus vulgaris) | C61: EUST | J61: 1 | AL61: =COUNT(D61:AK61) -> 1 | AM61: =SUM(D61:AK61) -> 1
A62: 54 | B62: Cedar Waxwing (Bombycilla cedrorum) | C62: CEDW | T62: 1 | AH62: 3 | AL62: =COUNT(D62:AK62) -> 2 | AM62: =SUM(D62:AK62) -> 4
A63: 55 | B63: Blue-winged Warbler (Vermivora pinus) | C63: BWWA | AL63: =COUNT(D63:AK63) -> 0 | AM63: =SUM(D63:AK63) -> 0
A64: 56 | B64: Golden-winged Warbler (Vermivora chrysoptera) | C64: GWWA | AL64: =COUNT(D64:AK64) -> 0 | AM64: =SUM(D64:AK64) -> 0
A65: 57 | B65: Yellow Warbler (Dendroica petechia) | C65: YEWA | D65: 1 | AH65: 2 | AJ65: 2 | AL65: =COUNT(D65:AK65) -> 3 | AM65: =SUM(D65:AK65) -> 5
A66: 58 | B66: Chestnut-sided Warbler (Dendroica pensylvanica) | C66: CSWA | AL66: =COUNT(D66:AK66) -> 0 | AM66: =SUM(D66:AK66) -> 0
A67: 59 | B67: American Redstart (Setophaga ruticilla) | C67: AMRE | AL67: =COUNT(D67:AK67) -> 0 | AM67: =SUM(D67:AK67) -> 0
A68: 60 | B68: Ovenbird (Seiurus aurocapilla) | C68: OVEN | T68: 1 | AL68: =COUNT(D68:AK68) -> 1 | AM68: =SUM(D68:AK68) -> 1
A69: 61 | B69: Mourning Warbler (Oporornis philadelphia) | C69: MOWA | F69: 2 | H69: 1 | Z69: 1 | AL69: =COUNT(D69:AK69) -> 3 | AM69: =SUM(D69:AK69) -> 4
A70: 62 | B70: Common Yellowthroat (Geothlypis trichas) | C70: COYE | Z70: 2 | AH70: 2 | AJ70: 2 | AL70: =COUNT(D70:AK70) -> 3 | AM70: =SUM(D70:AK70) -> 6
A71: 63 | B71: Scarlet Tanager (Piranga olivacea) | C71: SCTA | D71: 1 | J71: 1 | L71: 2 | AL71: =COUNT(D71:AK71) -> 3 | AM71: =SUM(D71:AK71) -> 4
A72: 64 | B72: Eastern Towhee (Pipilo erythrophthalmus) | C72: EATO | AL72: =COUNT(D72:AK72) -> 0 | AM72: =SUM(D72:AK72) -> 0
A73: 65 | B73: Chipping Sparrow (Spizella passerina) | C73: CHSP | AL73: =COUNT(D73:AK73) -> 0 | AM73: =SUM(D73:AK73) -> 0
A74: 66 | B74: Clay-colored Sparrow (Spizella pallida) | C74: CCSP | AH74: 3 | AJ74: 3 | AL74: =COUNT(D74:AK74) -> 2 | AM74: =SUM(D74:AK74) -> 6
A75: 67 | B75: Field Sparrow (Spizella pusilla) | C75: FISP | P75: 1 | AL75: =COUNT(D75:AK75) -> 1 | AM75: =SUM(D75:AK75) -> 1
B76: Savannah Sparrow (Passerculus sandwichensis) | C76: SASP | AL76: =COUNT(D76:AK76) -> 0 | AM76: =SUM(D76:AK76) -> 0
A77: 68 | B77: Song Sparrow (Melospiza melodia) | C77: SOSP | D77: 2 | F77: 1 | H77: 3 | J77: 2 | N77: 1 | P77: 1 | V77: 2 | Z77: 1 | AB77: 2 | AD77: 1 | AF77: 3 | AH77: 1 | AJ77: 1 | AL77: =COUNT(D77:AK77) -> 13 | AM77: =SUM(D77:AK77) -> 21
A78: 69 | B78: Swamp Sparrow (Melospiza georgiana) | C78: SWSP | AL78: =COUNT(D78:AK78) -> 0 | AM78: =SUM(D78:AK78) -> 0
A79: 70 | B79: Northern Cardinal (Cardinalis cardinalis) | C79: NOCA | D79: 1 | H79: 2 | J79: 1 | L79: 3 | N79: 2 | P79: 2 | T79: 1 | V79: 2 | Z79: 2 | AD79: 1 | AL79: =COUNT(D79:AK79) -> 10 | AM79: =SUM(D79:AK79) -> 17
A80: 71 | B80: Rose-breasted Grosbeak (Pheucticus ludovicianus) | C80: RBGR | F80: 2 | J80: 1 | AF80: 1 | AL80: =COUNT(D80:AK80) -> 3 | AM80: =SUM(D80:AK80) -> 4
A81: 72 | B81: Indigo Bunting (Passerina cyanea) | C81: INBU | F81: 2 | H81: 1 | J81: 1 | N81: 2 | P81: 1 | T81: 1 | V81: 2 | X81: 1 | AL81: =COUNT(D81:AK81) -> 8 | AM81: =SUM(D81:AK81) -> 11
B82: Dickcissel (Spiza americana) | C82: DICK | AH82: 1 | AJ82: 1 | AL82: =COUNT(D82:AK82) -> 2 | AM82: =SUM(D82:AK82) -> 2
A83: 73 | B83: Bobolink (Dolichonyx oryzivorus) | C83: BOBO | D83: 1 | AH83: 2 | AL83: =COUNT(D83:AK83) -> 2 | AM83: =SUM(D83:AK83) -> 3
A84: 74 | B84: Red-winged Blackbird (Agelaius phoeniceus) | C84: RWBB | D84: 2 | P84: 1 | V84: 1 | Z84: 2 | AD84: 1 | AF84: 2 | AH84: 6 | AJ84: 4 | AL84: =COUNT(D84:AK84) -> 8 | AM84: =SUM(D84:AK84) -> 19
A85: 75 | B85: Eastern Meadowlark (Sturnella magna) | C85: EAME | D85: 1 | P85: 1 | AH85: 2 | AJ85: 1 | AL85: =COUNT(D85:AK85) -> 4 | AM85: =SUM(D85:AK85) -> 5
A86: 76 | B86: Common Grackle (Quiscalus quiscula) | C86: COGR | D86: 2 | H86: 1 | J86: 1 | N86: 2 | P86: 1 | R86: 2 | T86: 8 | AF86: 1 | AL86: =COUNT(D86:AK86) -> 8 | AM86: =SUM(D86:AK86) -> 18
A87: 77 | B87: Brown-headed Cowbird (Molothrus ater) | C87: BHCO | F87: 1 | H87: 1 | J87: 1 | N87: 1 | P87: 1 | X87: 1 | AB87: 1 | AF87: 2 | AH87: 3 | AJ87: 1 | AL87: =COUNT(D87:AK87) -> 10 | AM87: =SUM(D87:AK87) -> 13
A88: 78 | B88: Orchard Oriole ((Icterus spurius) | C88: OROR | AH88: 1 | AJ88: 1 | AL88: =COUNT(D88:AK88) -> 2 | AM88: =SUM(D88:AK88) -> 2
A89: 79 | B89: Baltimore Oriole (Icterus galbula) | C89: BAOR | D89: 2 | H89: 1 | J89: 1 | R89: 2 | T89: 2 | V89: 1 | Z89: 1 | AD89: 1 | AL89: =COUNT(D89:AK89) -> 8 | AM89: =SUM(D89:AK89) -> 11
A90: 80 | B90: House Finch (Carpodacus mexicanus) | C90: HOFI | V90: 1 | AL90: =COUNT(D90:AK90) -> 1 | AM90: =SUM(D90:AK90) -> 1
A91: 81 | B91: American Goldfinch (Carduelis tristis) | C91: AMGO | D91: 2 | F91: 1 | J91: 1 | P91: 1 | R91: 1 | T91: 1 | Z91: 1 | AB91: 1 | AF91: 5 | AH91: 2 | AJ91: 3 | AL91: =COUNT(D91:AK91) -> 11 | AM91: =SUM(D91:AK91) -> 19
A92: 82 | B92: House Sparrow (Passer domesticus) | C92: HOSP | AL92: =COUNT(D92:AK92) -> 0 | AM92: =SUM(D92:AK92) -> 0
B93: Individuals | D93: =SUM(D7:D92) -> 24 | F93: =SUM(F7:F92) -> 19 | H93: =SUM(H7:H92) -> 20 | J93: =SUM(J7:J92) -> 26 | L93: =SUM(L7:L92) -> 24 | N93: =SUM(N7:N92) -> 16 | P93: =SUM(P7:P92) -> 19 | R93: =SUM(R7:R92) -> 10 | T93: =SUM(T7:T92) -> 20 | V93: =SUM(V7:V92) -> 20 | X93: =SUM(X7:X92) -> 12 | Z93: =SUM(Z7:Z92) -> 19 | AB93: =SUM(AB7:AB92) -> 11 | AD93: =SUM(AD7:AD92) -> 14 | AF93: =SUM(AF7:AF92) -> 27 | AH93: =SUM(AH7:AH92) -> 32 | AJ93: =SUM(AJ7:AJ92) -> 27 | AM93: =SUM(AM7:AM92) -> 340
B94: Species | D94: =COUNT(D7:D92) -> 16 | F94: =COUNT(F7:F92) -> 14 | H94: =COUNT(H7:H92) -> 15 | J94: =COUNT(J7:J92) -> 19 | L94: =COUNT(L7:L92) -> 14 | N94: =COUNT(N7:N92) -> 12 | P94: =COUNT(P7:P92) -> 15 | R94: =COUNT(R7:R92) -> 7 | T94: =COUNT(T7:T92) -> 11 | V94: =COUNT(V7:V92) -> 14 | X94: =COUNT(X7:X92) -> 10 | Z94: =COUNT(Z7:Z92) -> 14 | AB94: =COUNT(AB7:AB92) -> 9 | AD94: =COUNT(AD7:AD92) -> 11 | AF94: =COUNT(AF7:AF92) -> 15 | AH94: =COUNT(AH7:AH92) -> 16 | AJ94: =COUNT(AJ7:AJ92) -> 17 | AM94: =COUNTIF(AM7:AM92,">0") -> 51

Sheet Priority Site #2
C1: Waypoint: | D1: AOC-16 | F1: AOC-17 | H1: AOC-18 | J1: AOC-19 | L1: AOC-20 | N1: AOC-32 | P1: AOC-33 | R1: AOC-34 | T1: AOC-35 | V1: Hours
B2: Priority Site #2 | C2: Date: | D2: 40708 | F2: 40708 | H2: 40708 | J2: 40708 | L2: 40708 | N2: 40719 | P2: 40719 | R2: 40719 | T2: 40719 | V2: 0.11944444
B3: ='Priority Site #1'!B3 -> 2010 Interior Forest BBS | C3: Time: | D3: 0.22430556 | F3: 0.23888889 | H3: 0.24930556 | J3: 0.27291667 | L3: 0.28680556 | N3: 0.21319444 | P3: 0.22638889 | R3: 0.24097222 | T3: 0.25625 | V3: Total Points
B4: ='Priority Site #1'!B4 -> Sheboygan AOC | C4: GPS: DM | D4: ='Convert GPS'!L18 -> N 43 | E4: ='Convert GPS'!M18 -> 44.03 | F4: ='Convert GPS'!L19 -> N 43 | G4: ='Convert GPS'!M19 -> 43.981667 | H4: ='Convert GPS'!L20 -> N 43 | I4: ='Convert GPS'!M20 -> 44.13 | J4: ='Convert GPS'!L21 -> N 43 | K4: ='Convert GPS'!M21 -> 44.465 | L4: ='Convert GPS'!L22 -> N 43 | M4: ='Convert GPS'!M22 -> 44.463333 | N4: ='Convert GPS'!L34 -> N 44 | O4: ='Convert GPS'!M34 -> 45.213333 | P4: ='Convert GPS'!L35 -> N 44 | Q4: ='Convert GPS'!M35 -> 46.376667 | R4: ='Convert GPS'!L36 -> N 44 | S4: ='Convert GPS'!M36 -> 47.336667 | T4: ='Convert GPS'!L37 -> N 44 | U4: ='Convert GPS'!M37 -> 48.24
D5: ='Convert GPS'!O18 -> N87 | E5: ='Convert GPS'!P18 -> 45.93 | F5: ='Convert GPS'!O19 -> N87 | G5: ='Convert GPS'!P19 -> 46.148333 | H5: ='Convert GPS'!O20 -> N87 | I5: ='Convert GPS'!P20 -> 46.206667 | J5: ='Convert GPS'!O21 -> N87 | K5: ='Convert GPS'!P21 -> 45.168333 | L5: ='Convert GPS'!O22 -> N87 | M5: ='Convert GPS'!P22 -> 45.388333 | N5: ='Convert GPS'!O34 -> N87 | O5: ='Convert GPS'!P34 -> 45.626667 | P5: ='Convert GPS'!O35 -> N87 | Q5: ='Convert GPS'!P35 -> 45.646667 | R5: ='Convert GPS'!O36 -> N87 | S5: ='Convert GPS'!P36 -> 45.845 | T5: ='Convert GPS'!O37 -> N87 | U5: ='Convert GPS'!P37 -> 46.045 | V5: =COUNT(D6:U6) -> 9
B6: Species | C6: Point #: | D6: 16 | F6: 17 | H6: 18 | J6: 19 | L6: 20 | N6: 32 | P6: 33 | R6: 34 | T6: 35 | V6: # Pts | W6: Ind.
A7: 1 | B7: Canada Goose (Branta canadensis) | C7: CAGO | V7: =COUNT(D7:U7) -> 0 | W7: =SUM(D7:U7) -> 0
A8: 2 | B8: Wood Duck (Aix sponsa) | C8: WOOD | V8: =COUNT(D8:U8) -> 0 | W8: =SUM(D8:U8) -> 0
A9: 3 | B9: Mallard (Anas platyrhynchos) | C9: MALL | H9: 2 | N9: 3 | R9: 2 | V9: =COUNT(D9:U9) -> 3 | W9: =SUM(D9:U9) -> 7
A10: 4 | B10: Wild Turkey (Meleagris gallopavo) | C10: WITU | V10: =COUNT(D10:U10) -> 0 | W10: =SUM(D10:U10) -> 0
A11: 5 | B11: Great Blue Heron (Ardea herodias) | C11: GBHE | V11: =COUNT(D11:U11) -> 0 | W11: =SUM(D11:U11) -> 0
A12: 6 | B12: Great Egret (Ardea alba) | C12: GREG | V12: =COUNT(D12:U12) -> 0 | W12: =SUM(D12:U12) -> 0
A13: 7 | B13: Green Heron (Butorides virescens) | C13: GRHE | F13: 1 | N13: 1 | V13: =COUNT(D13:U13) -> 2 | W13: =SUM(D13:U13) -> 2
B14: Bald Eagle (Haliaeetus leucocephalus) | C14: BAEA | N14: 1 | V14: =COUNT(D14:U14) -> 1 | W14: =SUM(D14:U14) -> 1
A15: 8 | B15: Red-tailed Hawk (Buteo jamaicensis) | C15: RTHA | P15: 1 | V15: =COUNT(D15:U15) -> 1 | W15: =SUM(D15:U15) -> 1
A16: 9 | B16: American Kestrel (Falco sparverius) | C16: MAKE | R16: 1 | V16: =COUNT(D16:U16) -> 1 | W16: =SUM(D16:U16) -> 1
A17: 10 | B17: Sandhill Crane (Grus canadensis) | C17: SACR | V17: =COUNT(D17:U17) -> 0 | W17: =SUM(D17:U17) -> 0
A18: 11 | B18: Killdeer (Charadrius vociferus) | C18: KILL | R18: 1 | T18: 1 | V18: =COUNT(D18:U18) -> 2 | W18: =SUM(D18:U18) -> 2
A19: 12 | B19: Spotted Sandpiper (Actitis macularia) | C19: SPSA | L19: 1 | V19: =COUNT(D19:U19) -> 1 | W19: =SUM(D19:U19) -> 1
B20: American Woodcock (Scolopax minor) | C20: AMWO | V20: =COUNT(D20:U20) -> 0 | W20: =SUM(D20:U20) -> 0
A21: 13 | B21: Ring-billed Gull (Larus delawarensis) | C21: RBGU | N21: 3 | V21: =COUNT(D21:U21) -> 1 | W21: =SUM(D21:U21) -> 3
A22: 14 | B22: Rock Pigeon (Columba livia) | C22: ROPI | V22: =COUNT(D22:U22) -> 0 | W22: =SUM(D22:U22) -> 0
A23: 15 | B23: Mourning Dove (Zenaida macroura) | C23: MODO | D23: 1 | H23: 1 | R23: 4 | V23: =COUNT(D23:U23) -> 3 | W23: =SUM(D23:U23) -> 6
A24: 16 | B24: Black-billed Cuckoo (Coccyzus erythropthalmus) | C24: BBCU | V24: =COUNT(D24:U24) -> 0 | W24: =SUM(D24:U24) -> 0
A25: 17 | B25: Yellow-billed Cuckoo (Coccyzus americanus) | C25: YBCU | V25: =COUNT(D25:U25) -> 0 | W25: =SUM(D25:U25) -> 0
A26: 18 | B26: Great Horned Owl (Bubo virginianus) | C26: GHOW | V26: =COUNT(D26:U26) -> 0 | W26: =SUM(D26:U26) -> 0
A27: 19 | B27: Chimney Swift (Chaetura pelagica) | C27: CHSW | V27: =COUNT(D27:U27) -> 0 | W27: =SUM(D27:U27) -> 0
A28: 20 | B28: Ruby-throated Hummingbird (Archilochus colubris) | C28: RTHU | V28: =COUNT(D28:U28) -> 0 | W28: =SUM(D28:U28) -> 0
A29: 21 | B29: Belted Kingfisher (Ceryle alcyon) | C29: BEKI | P29: 1 | T29: 1 | V29: =COUNT(D29:U29) -> 2 | W29: =SUM(D29:U29) -> 2
A30: 22 | B30: Red-bellied Woodpecker (Melanerpes carolinus) | C30: RBWO | V30: =COUNT(D30:U30) -> 0 | W30: =SUM(D30:U30) -> 0
A31: 23 | B31: Downy Woodpecker (Picoides pubescens) | C31: DOWO | J31: 1 | V31: =COUNT(D31:U31) -> 1 | W31: =SUM(D31:U31) -> 1
A32: 24 | B32: Hairy Woodpecker (Picoides villosus) | C32: HAWO | V32: =COUNT(D32:U32) -> 0 | W32: =SUM(D32:U32) -> 0
A33: 25 | B33: Northern Flicker (Colaptes auratus) | C33: NOFL | V33: =COUNT(D33:U33) -> 0 | W33: =SUM(D33:U33) -> 0
A34: 26 | B34: Eastern Wood-Pewee (Contopus virens) | C34: EAWP | D34: 1 | H34: 1 | V34: =COUNT(D34:U34) -> 2 | W34: =SUM(D34:U34) -> 2
A35: 27 | B35: Alder Flycatcher (Empidonax alnorum) | C35: ALFL | D35: 1 | V35: =COUNT(D35:U35) -> 1 | W35: =SUM(D35:U35) -> 1
A36: 28 | B36: Willow Flycatcher (Empidonax traillii) | C36: WIFL | V36: =COUNT(D36:U36) -> 0 | W36: =SUM(D36:U36) -> 0
A37: 29 | B37: Least Flycatcher (Empidonax minimus) | C37: LEFL | V37: =COUNT(D37:U37) -> 0 | W37: =SUM(D37:U37) -> 0
A38: 30 | B38: Eastern Phoebe (Sayornis phoebe) | C38: EAPH | L38: 1 | V38: =COUNT(D38:U38) -> 1 | W38: =SUM(D38:U38) -> 1
A39: 31 | B39: Great Crested Flycatcher (Myiarchus crinitus) | C39: GCFL | N39: 2 | P39: 1 | R39: 1 | V39: =COUNT(D39:U39) -> 3 | W39: =SUM(D39:U39) -> 4
A40: 32 | B40: Eastern Kingbird (Tyrannus tyrannus) | C40: EAKI | V40: =COUNT(D40:U40) -> 0 | W40: =SUM(D40:U40) -> 0
A41: 33 | B41: Yellow-throated Vireo (Vireo flavifrons) | C41: YTVI | V41: =COUNT(D41:U41) -> 0 | W41: =SUM(D41:U41) -> 0
A42: 34 | B42: Warbling Vireo (Vireo gilvus) | C42: WAVI | D42: 1 | F42: 2 | H42: 3 | L42: 1 | P42: 1 | T42: 1 | V42: =COUNT(D42:U42) -> 6 | W42: =SUM(D42:U42) -> 9
A43: 35 | B43: Red-eyed Vireo (Vireo olivaceus) | C43: REVI | D43: 2 | J43: 1 | L43: 1 | N43: 2 | P43: 1 | V43: =COUNT(D43:U43) -> 5 | W43: =SUM(D43:U43) -> 7
A44: 36 | B44: Blue Jay (Cyanocitta cristata) | C44: BLJA | H44: 1 | J44: 1 | V44: =COUNT(D44:U44) -> 2 | W44: =SUM(D44:U44) -> 2
A45: 37 | B45: American Crow (Corvus brachyrhynchos) | C45: AMCR | T45: 1 | V45: =COUNT(D45:U45) -> 1 | W45: =SUM(D45:U45) -> 1
A46: 38 | B46: Tree Swallow (Tachycineta bicolor) | C46: TRSW | N46: 1 | P46: 1 | T46: 2 | V46: =COUNT(D46:U46) -> 3 | W46: =SUM(D46:U46) -> 4
A47: 39 | B47: Northern Rough-winged Swallow (Stelgidopteryx serripennis) | C47: NRWS | R47: 3 | V47: =COUNT(D47:U47) -> 1 | W47: =SUM(D47:U47) -> 3
A48: 40 | B48: Bank Swallow (Riparia riparia) | C48: BANS | V48: =COUNT(D48:U48) -> 0 | W48: =SUM(D48:U48) -> 0
A49: 41 | B49: Cliff Swallow (Petrochelidon pyrrhonota) | C49: CLSW | P49: 1 | V49: =COUNT(D49:U49) -> 1 | W49: =SUM(D49:U49) -> 1
A50: 42 | B50: Barn Swallow (Hirundo rustica) | C50: BARS | P50: 2 | V50: =COUNT(D50:U50) -> 1 | W50: =SUM(D50:U50) -> 2
A51: 43 | B51: Black-capped Chickadee (Poecile atricapillus) | C51: BCCH | D51: 1 | F51: 1 | J51: 1 | L51: 1 | V51: =COUNT(D51:U51) -> 4 | W51: =SUM(D51:U51) -> 4
A52: 44 | B52: White-breasted Nuthatch (Sitta carolinensis) | C52: WBNU | D52: 1 | F52: 1 | L52: 1 | V52: =COUNT(D52:U52) -> 3 | W52: =SUM(D52:U52) -> 3
A53: 45 | B53: House Wren (Troglodytes aedon) | C53: HOWR | D53: 1 | F53: 2 | H53: 2 | L53: 2 | N53: 1 | P53: 3 | T53: 3 | V53: =COUNT(D53:U53) -> 7 | W53: =SUM(D53:U53) -> 14
A54: 46 | B54: Blue-gray Gnatcatcher (Polioptila caerulea) | C54: BGGN | D54: 2 | H54: 1 | V54: =COUNT(D54:U54) -> 2 | W54: =SUM(D54:U54) -> 3
A55: 47 | B55: Eastern Bluebird (Sialia sialis) | C55: EABL | N55: 1 | V55: =COUNT(D55:U55) -> 1 | W55: =SUM(D55:U55) -> 1
A56: 48 | B56: Veery (Catharus fuscescens) | C56: VEER | V56: =COUNT(D56:U56) -> 0 | W56: =SUM(D56:U56) -> 0
A57: 49 | B57: Wood Thrush (Hylocichla mustelina) | C57: WOTH | V57: =COUNT(D57:U57) -> 0 | W57: =SUM(D57:U57) -> 0
A58: 50 | B58: American Robin (Turdus migratorius) | C58: AMRO | D58: 1 | F58: 2 | H58: 2 | N58: 2 | R58: 2 | T58: 2 | V58: =COUNT(D58:U58) -> 6 | W58: =SUM(D58:U58) -> 11
A59: 51 | B59: Gray Catbird (Dumetella carolinensis) | C59: GRCA | D59: 2 | F59: 1 | H59: 1 | T59: 1 | V59: =COUNT(D59:U59) -> 4 | W59: =SUM(D59:U59) -> 5
A60: 52 | B60: Brown Thrasher (Toxostoma rufum) | C60: BRTH | F60: 1 | T60: 1 | V60: =COUNT(D60:U60) -> 2 | W60: =SUM(D60:U60) -> 2
A61: 53 | B61: European Starling (Sturnus vulgaris) | C61: EUST | P61: 1 | R61: 5 | T61: 1 | V61: =COUNT(D61:U61) -> 3 | W61: =SUM(D61:U61) -> 7
A62: 54 | B62: Cedar Waxwing (Bombycilla cedrorum) | C62: CEDW | D62: 1 | N62: 1 | V62: =COUNT(D62:U62) -> 2 | W62: =SUM(D62:U62) -> 2
A63: 55 | B63: Blue-winged Warbler (Vermivora pinus) | C63: BWWA | V63: =COUNT(D63:U63) -> 0 | W63: =SUM(D63:U63) -> 0
A64: 56 | B64: Golden-winged Warbler (Vermivora chrysoptera) | C64: GWWA | V64: =COUNT(D64:U64) -> 0 | W64: =SUM(D64:U64) -> 0
A65: 57 | B65: Yellow Warbler (Dendroica petechia) | C65: YEWA | H65: 1 | P65: 1 | R65: 1 | T65: 1 | V65: =COUNT(D65:U65) -> 4 | W65: =SUM(D65:U65) -> 4
A66: 58 | B66: Chestnut-sided Warbler (Dendroica pensylvanica) | C66: CSWA | V66: =COUNT(D66:U66) -> 0 | W66: =SUM(D66:U66) -> 0
A67: 59 | B67: American Redstart (Setophaga ruticilla) | C67: AMRE | V67: =COUNT(D67:U67) -> 0 | W67: =SUM(D67:U67) -> 0
A68: 60 | B68: Ovenbird (Seiurus aurocapilla) | C68: OVEN | V68: =COUNT(D68:U68) -> 0 | W68: =SUM(D68:U68) -> 0
A69: 61 | B69: Mourning Warbler (Oporornis philadelphia) | C69: MOWA | D69: 1 | J69: 1 | V69: =COUNT(D69:U69) -> 2 | W69: =SUM(D69:U69) -> 2
A70: 62 | B70: Common Yellowthroat (Geothlypis trichas) | C70: COYE | D70: 2 | N70: 2 | P70: 1 | R70: 1 | T70: 1 | V70: =COUNT(D70:U70) -> 5 | W70: =SUM(D70:U70) -> 7
A71: 63 | B71: Scarlet Tanager (Piranga olivacea) | C71: SCTA | V71: =COUNT(D71:U71) -> 0 | W71: =SUM(D71:U71) -> 0
A72: 64 | B72: Eastern Towhee (Pipilo erythrophthalmus) | C72: EATO | V72: =COUNT(D72:U72) -> 0 | W72: =SUM(D72:U72) -> 0
A73: 65 | B73: Chipping Sparrow (Spizella passerina) | C73: CHSP | N73: 1 | R73: 1 | V73: =COUNT(D73:U73) -> 2 | W73: =SUM(D73:U73) -> 2
A74: 66 | B74: Clay-colored Sparrow (Spizella pallida) | C74: CCSP | V74: =COUNT(D74:U74) -> 0 | W74: =SUM(D74:U74) -> 0
A75: 67 | B75: Field Sparrow (Spizella pusilla) | C75: FISP | V75: =COUNT(D75:U75) -> 0 | W75: =SUM(D75:U75) -> 0
B76: Savannah Sparrow (Passerculus sandwichensis) | C76: SASP | N76: 2 | P76: 1 | R76: 3 | V76: =COUNT(D76:U76) -> 3 | W76: =SUM(D76:U76) -> 6
A77: 68 | B77: Song Sparrow (Melospiza melodia) | C77: SOSP | F77: 2 | H77: 1 | J77: 2 | L77: 2 | N77: 3 | P77: 2 | R77: 1 | T77: 2 | V77: =COUNT(D77:U77) -> 8 | W77: =SUM(D77:U77) -> 15
A78: 69 | B78: Swamp Sparrow (Melospiza georgiana) | C78: SWSP | V78: =COUNT(D78:U78) -> 0 | W78: =SUM(D78:U78) -> 0
A79: 70 | B79: Northern Cardinal (Cardinalis cardinalis) | C79: NOCA | D79: 1 | H79: 1 | J79: 1 | L79: 1 | V79: =COUNT(D79:U79) -> 4 | W79: =SUM(D79:U79) -> 4
A80: 71 | B80: Rose-breasted Grosbeak (Pheucticus ludovicianus) | C80: RBGR | D80: 1 | H80: 1 | V80: =COUNT(D80:U80) -> 2 | W80: =SUM(D80:U80) -> 2
A81: 72 | B81: Indigo Bunting (Passerina cyanea) | C81: INBU | F81: 1 | L81: 1 | N81: 1 | P81: 1 | T81: 1 | V81: =COUNT(D81:U81) -> 5 | W81: =SUM(D81:U81) -> 5
B82: Dickcissel (Spiza americana) | C82: DICK | P82: 1 | R82: 1 | V82: =COUNT(D82:U82) -> 2 | W82: =SUM(D82:U82) -> 2
A83: 73 | B83: Bobolink (Dolichonyx oryzivorus) | C83: BOBO | P83: 1 | R83: 2 | T83: 1 | V83: =COUNT(D83:U83) -> 3 | W83: =SUM(D83:U83) -> 4
A84: 74 | B84: Red-winged Blackbird (Agelaius phoeniceus) | C84: RWBB | D84: 2 | F84: 1 | H84: 2 | N84: 7 | P84: 3 | R84: 5 | T84: 12 | V84: =COUNT(D84:U84) -> 7 | W84: =SUM(D84:U84) -> 32
A85: 75 | B85: Eastern Meadowlark (Sturnella magna) | C85: EAME | N85: 1 | P85: 1 | R85: 3 | T85: 3 | V85: =COUNT(D85:U85) -> 4 | W85: =SUM(D85:U85) -> 8
A86: 76 | B86: Common Grackle (Quiscalus quiscula) | C86: COGR | D86: 1 | F86: 2 | H86: 1 | J86: 2 | V86: =COUNT(D86:U86) -> 4 | W86: =SUM(D86:U86) -> 6
A87: 77 | B87: Brown-headed Cowbird (Molothrus ater) | C87: BHCO | F87: 2 | J87: 2 | N87: 1 | T87: 1 | V87: =COUNT(D87:U87) -> 4 | W87: =SUM(D87:U87) -> 6
A88: 78 | B88: Orchard Oriole ((Icterus spurius) | C88: OROR | P88: 1 | V88: =COUNT(D88:U88) -> 1 | W88: =SUM(D88:U88) -> 1
A89: 79 | B89: Baltimore Oriole (Icterus galbula) | C89: BAOR | D89: 1 | F89: 2 | H89: 1 | J89: 1 | P89: 1 | R89: 1 | V89: =COUNT(D89:U89) -> 6 | W89: =SUM(D89:U89) -> 7
A90: 80 | B90: House Finch (Carpodacus mexicanus) | C90: HOFI | J90: 2 | R90: 1 | V90: =COUNT(D90:U90) -> 2 | W90: =SUM(D90:U90) -> 3
A91: 81 | B91: American Goldfinch (Carduelis tristis) | C91: AMGO | D91: 1 | F91: 1 | J91: 1 | L91: 1 | P91: 1 | R91: 3 | T91: 1 | V91: =COUNT(D91:U91) -> 7 | W91: =SUM(D91:U91) -> 9
A92: 82 | B92: House Sparrow (Passer domesticus) | C92: HOSP | V92: =COUNT(D92:U92) -> 0 | W92: =SUM(D92:U92) -> 0
B93: Individuals | D93: =SUM(D7:D92) -> 25 | F93: =SUM(F7:F92) -> 22 | H93: =SUM(H7:H92) -> 22 | J93: =SUM(J7:J92) -> 16 | L93: =SUM(L7:L92) -> 13 | N93: =SUM(N7:N92) -> 36 | P93: =SUM(P7:P92) -> 28 | R93: =SUM(R7:R92) -> 42 | T93: =SUM(T7:T92) -> 37 | W93: =SUM(W7:W92) -> 241
B94: Species | D94: =COUNT(D7:D92) -> 20 | F94: =COUNT(F7:F92) -> 15 | H94: =COUNT(H7:H92) -> 16 | J94: =COUNT(J7:J92) -> 12 | L94: =COUNT(L7:L92) -> 11 | N94: =COUNT(N7:N92) -> 19 | P94: =COUNT(P7:P92) -> 22 | R94: =COUNT(R7:R92) -> 20 | T94: =COUNT(T7:T92) -> 19 | W94: =COUNTIF(W7:W92,">0") -> 52

Sheet Priority Site #3
C1: Waypoint: | D1: AOC-21 | F1: AOC-22 | H1: AOC-23 | J1: AOC-24 | L1: AOC-25 | N1: AOC-26 | P1: AOC-27 | R1: AOC-28 | T1: AOC-29 | V1: AOC-30 | X1: AOC-31 | Z1: Hours
B2: Priority Site #3 | C2: Date: | D2: 40710 | F2: 40710 | H2: 40710 | J2: 40710 | L2: 40710 | N2: 40712 | P2: 40712 | R2: 40712 | T2: 40712 | V2: 40712 | X2: 40712 | Z2: 0.14444444
B3: ='Priority Site #1'!B3 -> 2010 Interior Forest BBS | C3: Time: | D3: 0.21666667 | F3: 0.23263889 | H3: 0.25138889 | J3: 0.26875 | L3: 0.28125 | N3: 0.22430556 | P3: 0.23611111 | R3: 0.24791667 | T3: 0.26111111 | V3: 0.275 | X3: 0.29027778 | Z3: Total Points
B4: ='Priority Site #1'!B4 -> Sheboygan AOC | C4: GPS: DM | D4: ='Convert GPS'!L23 -> N 43 | E4: ='Convert GPS'!M23 -> 43.18 | F4: ='Convert GPS'!L24 -> N 43 | G4: ='Convert GPS'!M24 -> 43.326667 | H4: ='Convert GPS'!L25 -> N 43 | I4: ='Convert GPS'!M25 -> 43.405 | J4: ='Convert GPS'!L26 -> N 43 | K4: ='Convert GPS'!M26 -> 43.57 | L4: ='Convert GPS'!L27 -> N 43 | M4: ='Convert GPS'!M27 -> 43.673333 | N4: ='Convert GPS'!L28 -> N 43 | O4: ='Convert GPS'!M28 -> 43.716667 | P4: ='Convert GPS'!L29 -> N 43 | Q4: ='Convert GPS'!M29 -> 43.865 | R4: ='Convert GPS'!L30 -> N 43 | S4: ='Convert GPS'!M30 -> 43.803333 | T4: ='Convert GPS'!L31 -> N 43 | U4: ='Convert GPS'!M31 -> 43.921667 | V4: ='Convert GPS'!L32 -> N 43 | W4: ='Convert GPS'!M32 -> 44.058333 | X4: ='Convert GPS'!L33 -> N 43 | Y4: ='Convert GPS'!M33 -> 44.221667
D5: ='Convert GPS'!O23 -> N87 | E5: ='Convert GPS'!P23 -> 46.011667 | F5: ='Convert GPS'!O24 -> N87 | G5: ='Convert GPS'!P24 -> 46.946667 | H5: ='Convert GPS'!O25 -> N87 | I5: ='Convert GPS'!P25 -> 45.741667 | J5: ='Convert GPS'!O26 -> N87 | K5: ='Convert GPS'!P26 -> 45.701667 | L5: ='Convert GPS'!O27 -> N87 | M5: ='Convert GPS'!P27 -> 45.868333 | N5: ='Convert GPS'!O28 -> N87 | O5: ='Convert GPS'!P28 -> 46.088333 | P5: ='Convert GPS'!O29 -> N87 | Q5: ='Convert GPS'!P29 -> 46.196667 | R5: ='Convert GPS'!O30 -> N87 | S5: ='Convert GPS'!P30 -> 46.403333 | T5: ='Convert GPS'!O31 -> N87 | U5: ='Convert GPS'!P31 -> 46.571667 | V5: ='Convert GPS'!O32 -> N87 | W5: ='Convert GPS'!P32 -> 46.533333 | X5: ='Convert GPS'!O33 -> N87 | Y5: ='Convert GPS'!P33 -> 46.461667 | Z5: =COUNT(D6:Y6) -> 11
B6: Species | C6: Point #: | D6: 21 | F6: 22 | H6: 23 | J6: 24 | L6: 25 | N6: 26 | P6: 27 | R6: 28 | T6: 29 | V6: 30 | X6: 31 | Z6: # Pts | AA6: Ind.
A7: 1 | B7: Canada Goose (Branta canadensis) | C7: CAGO | Z7: =COUNT(D7:Y7) -> 0 | AA7: =SUM(D7:Y7) -> 0
A8: 2 | B8: Wood Duck (Aix sponsa) | C8: WOOD | Z8: =COUNT(D8:Y8) -> 0 | AA8: =SUM(D8:Y8) -> 0
A9: 3 | B9: Mallard (Anas platyrhynchos) | C9: MALL | R9: 1 | Z9: =COUNT(D9:Y9) -> 1 | AA9: =SUM(D9:Y9) -> 1
A10: 4 | B10: Wild Turkey (Meleagris gallopavo) | C10: WITU | Z10: =COUNT(D10:Y10) -> 0 | AA10: =SUM(D10:Y10) -> 0
A11: 5 | B11: Great Blue Heron (Ardea herodias) | C11: GBHE | Z11: =COUNT(D11:Y11) -> 0 | AA11: =SUM(D11:Y11) -> 0
A12: 6 | B12: Great Egret (Ardea alba) | C12: GREG | Z12: =COUNT(D12:Y12) -> 0 | AA12: =SUM(D12:Y12) -> 0
A13: 7 | B13: Green Heron (Butorides virescens) | C13: GRHE | Z13: =COUNT(D13:Y13) -> 0 | AA13: =SUM(D13:Y13) -> 0
B14: Bald Eagle (Haliaeetus leucocephalus) | C14: BAEA | Z14: =COUNT(D14:Y14) -> 0 | AA14: =SUM(D14:Y14) -> 0
A15: 8 | B15: Red-tailed Hawk (Buteo jamaicensis) | C15: RTHA | D15: 1 | Z15: =COUNT(D15:Y15) -> 1 | AA15: =SUM(D15:Y15) -> 1
A16: 9 | B16: American Kestrel (Falco sparverius) | C16: MAKE | Z16: =COUNT(D16:Y16) -> 0 | AA16: =SUM(D16:Y16) -> 0
A17: 10 | B17: Sandhill Crane (Grus canadensis) | C17: SACR | Z17: =COUNT(D17:Y17) -> 0 | AA17: =SUM(D17:Y17) -> 0
A18: 11 | B18: Killdeer (Charadrius vociferus) | C18: KILL | D18: 1 | J18: 1 | L18: 1 | Z18: =COUNT(D18:Y18) -> 3 | AA18: =SUM(D18:Y18) -> 3
A19: 12 | B19: Spotted Sandpiper (Actitis macularia) | C19: SPSA | Z19: =COUNT(D19:Y19) -> 0 | AA19: =SUM(D19:Y19) -> 0
B20: American Woodcock (Scolopax minor) | C20: AMWO | Z20: =COUNT(D20:Y20) -> 0 | AA20: =SUM(D20:Y20) -> 0
A21: 13 | B21: Ring-billed Gull (Larus delawarensis) | C21: RBGU | H21: 1 | Z21: =COUNT(D21:Y21) -> 1 | AA21: =SUM(D21:Y21) -> 1
A22: 14 | B22: Rock Pigeon (Columba livia) | C22: ROPI | Z22: =COUNT(D22:Y22) -> 0 | AA22: =SUM(D22:Y22) -> 0
A23: 15 | B23: Mourning Dove (Zenaida macroura) | C23: MODO | L23: 1 | N23: 2 | P23: 1 | T23: 1 | X23: 1 | Z23: =COUNT(D23:Y23) -> 5 | AA23: =SUM(D23:Y23) -> 6
A24: 16 | B24: Black-billed Cuckoo (Coccyzus erythropthalmus) | C24: BBCU | Z24: =COUNT(D24:Y24) -> 0 | AA24: =SUM(D24:Y24) -> 0
A25: 17 | B25: Yellow-billed Cuckoo (Coccyzus americanus) | C25: YBCU | Z25: =COUNT(D25:Y25) -> 0 | AA25: =SUM(D25:Y25) -> 0
A26: 18 | B26: Great Horned Owl (Bubo virginianus) | C26: GHOW | V26: 1 | Z26: =COUNT(D26:Y26) -> 1 | AA26: =SUM(D26:Y26) -> 1 | AB26: !
A27: 19 | B27: Chimney Swift (Chaetura pelagica) | C27: CHSW | Z27: =COUNT(D27:Y27) -> 0 | AA27: =SUM(D27:Y27) -> 0 | AB27: !
A28: 20 | B28: Ruby-throated Hummingbird (Archilochus colubris) | C28: RTHU | Z28: =COUNT(D28:Y28) -> 0 | AA28: =SUM(D28:Y28) -> 0
A29: 21 | B29: Belted Kingfisher (Ceryle alcyon) | C29: BEKI | X29: 1 | Z29: =COUNT(D29:Y29) -> 1 | AA29: =SUM(D29:Y29) -> 1 | AB29: !
A30: 22 | B30: Red-bellied Woodpecker (Melanerpes carolinus) | C30: RBWO | L30: 2 | T30: 2 | V30: 2 | X30: 1 | Z30: =COUNT(D30:Y30) -> 4 | AA30: =SUM(D30:Y30) -> 7
A31: 23 | B31: Downy Woodpecker (Picoides pubescens) | C31: DOWO | D31: 1 | N31: 1 | R31: 2 | V31: 1 | Z31: =COUNT(D31:Y31) -> 4 | AA31: =SUM(D31:Y31) -> 5
A32: 24 | B32: Hairy Woodpecker (Picoides villosus) | C32: HAWO | F32: 1 | T32: 1 | Z32: =COUNT(D32:Y32) -> 2 | AA32: =SUM(D32:Y32) -> 2
A33: 25 | B33: Northern Flicker (Colaptes auratus) | C33: NOFL | P33: 1 | Z33: =COUNT(D33:Y33) -> 1 | AA33: =SUM(D33:Y33) -> 1
A34: 26 | B34: Eastern Wood-Pewee (Contopus virens) | C34: EAWP | D34: 1 | F34: 2 | H34: 1 | N34: 1 | P34: 3 | T34: 1 | V34: 1 | Z34: =COUNT(D34:Y34) -> 7 | AA34: =SUM(D34:Y34) -> 10
A35: 27 | B35: Alder Flycatcher (Empidonax alnorum) | C35: ALFL | Z35: =COUNT(D35:Y35) -> 0 | AA35: =SUM(D35:Y35) -> 0
A36: 28 | B36: Willow Flycatcher (Empidonax traillii) | C36: WIFL | Z36: =COUNT(D36:Y36) -> 0 | AA36: =SUM(D36:Y36) -> 0
A37: 29 | B37: Least Flycatcher (Empidonax minimus) | C37: LEFL | Z37: =COUNT(D37:Y37) -> 0 | AA37: =SUM(D37:Y37) -> 0
A38: 30 | B38: Eastern Phoebe (Sayornis phoebe) | C38: EAPH | N38: 1 | Z38: =COUNT(D38:Y38) -> 1 | AA38: =SUM(D38:Y38) -> 1
A39: 31 | B39: Great Crested Flycatcher (Myiarchus crinitus) | C39: GCFL | D39: 2 | F39: 2 | L39: 3 | T39: 2 | Z39: =COUNT(D39:Y39) -> 4 | AA39: =SUM(D39:Y39) -> 9 | AB39: !
A40: 32 | B40: Eastern Kingbird (Tyrannus tyrannus) | C40: EAKI | Z40: =COUNT(D40:Y40) -> 0 | AA40: =SUM(D40:Y40) -> 0
A41: 33 | B41: Yellow-throated Vireo (Vireo flavifrons) | C41: YTVI | Z41: =COUNT(D41:Y41) -> 0 | AA41: =SUM(D41:Y41) -> 0
A42: 34 | B42: Warbling Vireo (Vireo gilvus) | C42: WAVI | N42: 1 | P42: 2 | R42: 1 | X42: 3 | Z42: =COUNT(D42:Y42) -> 4 | AA42: =SUM(D42:Y42) -> 7
A43: 35 | B43: Red-eyed Vireo (Vireo olivaceus) | C43: REVI | D43: 1 | F43: 2 | N43: 1 | R43: 1 | T43: 2 | V43: 2 | Z43: =COUNT(D43:Y43) -> 6 | AA43: =SUM(D43:Y43) -> 9
A44: 36 | B44: Blue Jay (Cyanocitta cristata) | C44: BLJA | D44: 1 | F44: 1 | H44: 1 | L44: 2 | R44: 1 | T44: 1 | X44: 1 | Z44: =COUNT(D44:Y44) -> 7 | AA44: =SUM(D44:Y44) -> 8
A45: 37 | B45: American Crow (Corvus brachyrhynchos) | C45: AMCR | D45: 2 | F45: 1 | T45: 1 | Z45: =COUNT(D45:Y45) -> 3 | AA45: =SUM(D45:Y45) -> 4
A46: 38 | B46: Tree Swallow (Tachycineta bicolor) | C46: TRSW | Z46: =COUNT(D46:Y46) -> 0 | AA46: =SUM(D46:Y46) -> 0
A47: 39 | B47: Northern Rough-winged Swallow (Stelgidopteryx serripennis) | C47: NRWS | X47: 1 | Z47: =COUNT(D47:Y47) -> 1 | AA47: =SUM(D47:Y47) -> 1
A48: 40 | B48: Bank Swallow (Riparia riparia) | C48: BANS | Z48: =COUNT(D48:Y48) -> 0 | AA48: =SUM(D48:Y48) -> 0
A49: 41 | B49: Cliff Swallow (Petrochelidon pyrrhonota) | C49: CLSW | Z49: =COUNT(D49:Y49) -> 0 | AA49: =SUM(D49:Y49) -> 0
A50: 42 | B50: Barn Swallow (Hirundo rustica) | C50: BARS | P50: 1 | V50: 1 | X50: 2 | Z50: =COUNT(D50:Y50) -> 3 | AA50: =SUM(D50:Y50) -> 4
A51: 43 | B51: Black-capped Chickadee (Poecile atricapillus) | C51: BCCH | J51: 1 | V51: 1 | Z51: =COUNT(D51:Y51) -> 2 | AA51: =SUM(D51:Y51) -> 2
A52: 44 | B52: White-breasted Nuthatch (Sitta carolinensis) | C52: WBNU | P52: 1 | V52: 1 | Z52: =COUNT(D52:Y52) -> 2 | AA52: =SUM(D52:Y52) -> 2
A53: 45 | B53: House Wren (Troglodytes aedon) | C53: HOWR | F53: 2 | H53: 1 | J53: 1 | L53: 2 | P53: 3 | T53: 1 | V53: 2 | X53: 1 | Z53: =COUNT(D53:Y53) -> 8 | AA53: =SUM(D53:Y53) -> 13
A54: 46 | B54: Blue-gray Gnatcatcher (Polioptila caerulea) | C54: BGGN | N54: 1 | P54: 1 | Z54: =COUNT(D54:Y54) -> 2 | AA54: =SUM(D54:Y54) -> 2
A55: 47 | B55: Eastern Bluebird (Sialia sialis) | C55: EABL | Z55: =COUNT(D55:Y55) -> 0 | AA55: =SUM(D55:Y55) -> 0
A56: 48 | B56: Veery (Catharus fuscescens) | C56: VEER | Z56: =COUNT(D56:Y56) -> 0 | AA56: =SUM(D56:Y56) -> 0
A57: 49 | B57: Wood Thrush (Hylocichla mustelina) | C57: WOTH | Z57: =COUNT(D57:Y57) -> 0 | AA57: =SUM(D57:Y57) -> 0
A58: 50 | B58: American Robin (Turdus migratorius) | C58: AMRO | D58: 2 | F58: 2 | J58: 2 | L58: 1 | N58: 3 | P58: 3 | R58: 2 | T58: 1 | V58: 1 | X58: 2 | Z58: =COUNT(D58:Y58) -> 10 | AA58: =SUM(D58:Y58) -> 19
A59: 51 | B59: Gray Catbird (Dumetella carolinensis) | C59: GRCA | P59: 1 | V59: 1 | Z59: =COUNT(D59:Y59) -> 2 | AA59: =SUM(D59:Y59) -> 2
A60: 52 | B60: Brown Thrasher (Toxostoma rufum) | C60: BRTH | Z60: =COUNT(D60:Y60) -> 0 | AA60: =SUM(D60:Y60) -> 0
A61: 53 | B61: European Starling (Sturnus vulgaris) | C61: EUST | L61: 1 | P61: 1 | Z61: =COUNT(D61:Y61) -> 2 | AA61: =SUM(D61:Y61) -> 2
A62: 54 | B62: Cedar Waxwing (Bombycilla cedrorum) | C62: CEDW | H62: 2 | X62: 2 | Z62: =COUNT(D62:Y62) -> 2 | AA62: =SUM(D62:Y62) -> 4
A63: 55 | B63: Blue-winged Warbler (Vermivora pinus) | C63: BWWA | Z63: =COUNT(D63:Y63) -> 0 | AA63: =SUM(D63:Y63) -> 0
A64: 56 | B64: Golden-winged Warbler (Vermivora chrysoptera) | C64: GWWA | Z64: =COUNT(D64:Y64) -> 0 | AA64: =SUM(D64:Y64) -> 0
A65: 57 | B65: Yellow Warbler (Dendroica petechia) | C65: YEWA | X65: 1 | Z65: =COUNT(D65:Y65) -> 1 | AA65: =SUM(D65:Y65) -> 1
A66: 58 | B66: Chestnut-sided Warbler (Dendroica pensylvanica) | C66: CSWA | X66: 1 | Z66: =COUNT(D66:Y66) -> 1 | AA66: =SUM(D66:Y66) -> 1
A67: 59 | B67: American Redstart (Setophaga ruticilla) | C67: AMRE | Z67: =COUNT(D67:Y67) -> 0 | AA67: =SUM(D67:Y67) -> 0
A68: 60 | B68: Ovenbird (Seiurus aurocapilla) | C68: OVEN | Z68: =COUNT(D68:Y68) -> 0 | AA68: =SUM(D68:Y68) -> 0
A69: 61 | B69: Mourning Warbler (Oporornis philadelphia) | C69: MOWA | T69: 1 | X69: 1 | Z69: =COUNT(D69:Y69) -> 2 | AA69: =SUM(D69:Y69) -> 2
A70: 62 | B70: Common Yellowthroat (Geothlypis trichas) | C70: COYE | F70: 1 | J70: 1 | L70: 1 | R70: 1 | X70: 2 | Z70: =COUNT(D70:Y70) -> 5 | AA70: =SUM(D70:Y70) -> 6
A71: 63 | B71: Scarlet Tanager (Piranga olivacea) | C71: SCTA | P71: 1 | Z71: =COUNT(D71:Y71) -> 1 | AA71: =SUM(D71:Y71) -> 1
A72: 64 | B72: Eastern Towhee (Pipilo erythrophthalmus) | C72: EATO | Z72: =COUNT(D72:Y72) -> 0 | AA72: =SUM(D72:Y72) -> 0
A73: 65 | B73: Chipping Sparrow (Spizella passerina) | C73: CHSP | Z73: =COUNT(D73:Y73) -> 0 | AA73: =SUM(D73:Y73) -> 0
A74: 66 | B74: Clay-colored Sparrow (Spizella pallida) | C74: CCSP | Z74: =COUNT(D74:Y74) -> 0 | AA74: =SUM(D74:Y74) -> 0
A75: 67 | B75: Field Sparrow (Spizella pusilla) | C75: FISP | Z75: =COUNT(D75:Y75) -> 0 | AA75: =SUM(D75:Y75) -> 0
B76: Savannah Sparrow (Passerculus sandwichensis) | C76: SASP
A77: 68 | B77: Song Sparrow (Melospiza melodia) | C77: SOSP | D77: 1 | F77: 1 | H77: 3 | J77: 2 | L77: 1 | N77: 1 | P77: 1 | R77: 1 | T77: 2 | X77: 1 | Z77: =COUNT(D77:Y77) -> 10 | AA77: =SUM(D77:Y77) -> 14
A78: 69 | B78: Swamp Sparrow (Melospiza georgiana) | C78: SWSP | Z78: =COUNT(D78:Y78) -> 0 | AA78: =SUM(D78:Y78) -> 0
A79: 70 | B79: Northern Cardinal (Cardinalis cardinalis) | C79: NOCA | F79: 1 | J79: 1 | P79: 1 | V79: 2 | X79: 1 | Z79: =COUNT(D79:Y79) -> 5 | AA79: =SUM(D79:Y79) -> 6
A80: 71 | B80: Rose-breasted Grosbeak (Pheucticus ludovicianus) | C80: RBGR | D80: 1 | F80: 1 | J80: 1 | L80: 1 | N80: 1 | T80: 1 | V80: 1 | Z80: =COUNT(D80:Y80) -> 7 | AA80: =SUM(D80:Y80) -> 7
B81: Dickcissel (Spiza americana) | C81: DICK | Z81: =COUNT(D81:Y81) -> 0 | AA81: =SUM(D81:Y81) -> 0
A82: 72 | B82: Indigo Bunting (Passerina cyanea) | C82: INBU | D82: 1 | J82: 1 | L82: 1 | V82: 1 | Z82: =COUNT(D82:Y82) -> 4 | AA82: =SUM(D82:Y82) -> 4
A83: 73 | B83: Bobolink (Dolichonyx oryzivorus) | C83: BOBO | Z83: =COUNT(D83:Y83) -> 0 | AA83: =SUM(D83:Y83) -> 0
A84: 74 | B84: Red-winged Blackbird (Agelaius phoeniceus) | C84: RWBB | D84: 4 | F84: 1 | H84: 2 | J84: 1 | L84: 2 | N84: 3 | P84: 5 | R84: 3 | T84: 1 | X84: 4 | Z84: =COUNT(D84:Y84) -> 10 | AA84: =SUM(D84:Y84) -> 26
A85: 75 | B85: Eastern Meadowlark (Sturnella magna) | C85: EAME | D85: 1 | Z85: =COUNT(D85:Y85) -> 1 | AA85: =SUM(D85:Y85) -> 1
A86: 76 | B86: Common Grackle (Quiscalus quiscula) | C86: COGR | P86: 1 | R86: 1 | T86: 2 | X86: 1 | Z86: =COUNT(D86:Y86) -> 4 | AA86: =SUM(D86:Y86) -> 5
A87: 77 | B87: Brown-headed Cowbird (Molothrus ater) | C87: BHCO | N87: 1 | P87: 1 | V87: 1 | Z87: =COUNT(D87:Y87) -> 3 | AA87: =SUM(D87:Y87) -> 3
A88: 78 | B88: Orchard Oriole ((Icterus spurius) | C88: OROR | Z88: =COUNT(D88:Y88) -> 0 | AA88: =SUM(D88:Y88) -> 0
A89: 79 | B89: Baltimore Oriole (Icterus galbula) | C89: BAOR | D89: 1 | L89: 1 | N89: 2 | P89: 2 | R89: 2 | T89: 1 | V89: 1 | X89: 1 | Z89: =COUNT(D89:Y89) -> 8 | AA89: =SUM(D89:Y89) -> 11
A90: 80 | B90: House Finch (Carpodacus mexicanus) | C90: HOFI | T90: 1 | Z90: =COUNT(D90:Y90) -> 1 | AA90: =SUM(D90:Y90) -> 1
A91: 81 | B91: American Goldfinch (Carduelis tristis) | C91: AMGO | H91: 1 | J91: 1 | L91: 2 | R91: 1 | T91: 1 | X91: 1 | Z91: =COUNT(D91:Y91) -> 6 | AA91: =SUM(D91:Y91) -> 7
A92: 82 | B92: House Sparrow (Passer domesticus) | C92: HOSP | P92: 1 | X92: 2 | Z92: =COUNT(D92:Y92) -> 2 | AA92: =SUM(D92:Y92) -> 3
B93: Individuals | D93: =SUM(D7:D92) -> 21 | F93: =SUM(F7:F92) -> 18 | H93: =SUM(H7:H92) -> 12 | J93: =SUM(J7:J92) -> 13 | L93: =SUM(L7:L92) -> 22 | N93: =SUM(N7:N92) -> 19 | P93: =SUM(P7:P92) -> 31 | R93: =SUM(R7:R92) -> 17 | T93: =SUM(T7:T92) -> 23 | V93: =SUM(V7:V92) -> 20 | X93: =SUM(X7:X92) -> 31 | AA93: =SUM(AA7:AA92) -> 227
B94: Species | D94: =COUNT(D7:D92) -> 15 | F94: =COUNT(F7:F92) -> 13 | H94: =COUNT(H7:H92) -> 8 | J94: =COUNT(J7:J92) -> 11 | L94: =COUNT(L7:L92) -> 15 | N94: =COUNT(N7:N92) -> 13 | P94: =COUNT(P7:P92) -> 19 | R94: =COUNT(R7:R92) -> 12 | T94: =COUNT(T7:T92) -> 18 | V94: =COUNT(V7:V92) -> 16 | X94: =COUNT(X7:X92) -> 21 | AA94: =COUNTIF(AA7:AA92,">0") -> 45
AB131: !
AB132: !

Sheet Convert GPS
D1: My GPS Data in DMS | L1: Converted to DM
B2: Site | C2: Point | D2: ND | E2: M | F2: S | H2: WD | I2: M | J2: S | L2: ND | M2: M | O2: WD | P2: M
A3: 1 | B3: Priority #1 | C3: BWR-01 | D3: N 43 | E3: 43 | F3: 17.6 | H3: N87 | I3: 47 | J3: 45.9 | L3: =D3 -> N 43 | M3: =E3+F3/60 -> 43.293333 | O3: =H3 -> N87 | P3: =I3+J3/60 -> 47.765
A4: 2 | B4: Priority #1 | C4: BWR-02 | D4: N 43 | E4: 43 | F4: 29.5 | H4: N87 | I4: 47 | J4: 54 | L4: =D4 -> N 43 | M4: =E4+F4/60 -> 43.491667 | O4: =H4 -> N87 | P4: =I4+J4/60 -> 47.9
A5: 3 | B5: Priority #1 | C5: BWR-03 | D5: N 43 | E5: 43 | F5: 28.6 | H5: N87 | I5: 47 | J5: 40.4 | L5: =D5 -> N 43 | M5: =E5+F5/60 -> 43.476667 | O5: =H5 -> N87 | P5: =I5+J5/60 -> 47.673333
A6: 4 | B6: Priority #1 | C6: BWR-04 | D6: N 43 | E6: 43 | F6: 38.2 | H6: N87 | I6: 47 | J6: 44.8 | L6: =D6 -> N 43 | M6: =E6+F6/60 -> 43.636667 | O6: =H6 -> N87 | P6: =I6+J6/60 -> 47.746667
A7: 5 | B7: Priority #1 | C7: BWR-05 | D7: N 43 | E7: 43 | F7: 39.5 | H7: N87 | I7: 47 | J7: 31.6 | L7: =D7 -> N 43 | M7: =E7+F7/60 -> 43.658333 | O7: =H7 -> N87 | P7: =I7+J7/60 -> 47.526667
A8: 6 | B8: Priority #1 | C8: BWR-06 | D8: N 43 | E8: 43 | F8: 31.2 | H8: N87 | I8: 47 | J8: 25.5 | L8: =D8 -> N 43 | M8: =E8+F8/60 -> 43.52 | O8: =H8 -> N87 | P8: =I8+J8/60 -> 47.425
A9: 7 | B9: Priority #1 | C9: BWR-07 | D9: N 43 | E9: 43 | F9: 29.6 | H9: N87 | I9: 47 | J9: 11.8 | L9: =D9 -> N 43 | M9: =E9+F9/60 -> 43.493333 | O9: =H9 -> N87 | P9: =I9+J9/60 -> 47.196667
A10: 8 | B10: Priority #1 | C10: BWR-08 | D10: N 43 | E10: 43 | F10: 38.9 | H10: N87 | I10: 47 | J10: 6.5 | L10: =D10 -> N 43 | M10: =E10+F10/60 -> 43.648333 | O10: =H10 -> N87 | P10: =I10+J10/60 -> 47.108333
A11: 9 | B11: Priority #1 | C11: BWR-09 | D11: N 43 | E11: 43 | F11: 44.6 | H11: N87 | I11: 47 | J11: 17.5 | L11: =D11 -> N 43 | M11: =E11+F11/60 -> 43.743333 | O11: =H11 -> N87 | P11: =I11+J11/60 -> 47.291667
A12: 10 | B12: Priority #1 | C12: BWR-10 | D12: N 43 | E12: 43 | F12: 50.6 | H12: N87 | I12: 47 | J12: 22.2 | L12: =D12 -> N 43 | M12: =E12+F12/60 -> 43.843333 | O12: =H12 -> N87 | P12: =I12+J12/60 -> 47.37
A13: 11 | B13: Priority #1 | C13: BWR-11 | D13: N 43 | E13: 43 | F13: 35 | H13: N87 | I13: 46 | J13: 53.2 | L13: =D13 -> N 43 | M13: =E13+F13/60 -> 43.583333 | O13: =H13 -> N87 | P13: =I13+J13/60 -> 46.886667
A14: 12 | B14: Priority #1 | C14: BWR-12 | D14: N 43 | E14: 43 | F14: 38 | H14: N87 | I14: 46 | J14: 40.2 | L14: =D14 -> N 43 | M14: =E14+F14/60 -> 43.633333 | O14: =H14 -> N87 | P14: =I14+J14/60 -> 46.67
... A39: 37 | B39: Priority #1 | C39: BWR-037 | D39: N 44 | E39: 44 | F39: 22.9 | H39: N87 | I39: 47 | J39: 24.9 | L39: =D39 -> N 44 | M39: =E39+F39/60 -> 44.381667 | O39: =H39 -> N87 | P39: =I39+J39/60 -> 47.415
