Workbook

Sheet Cumulative Totals
B1: 2011 Sheboygan AOC BBS | C1: # Pts | D1: Sp. | E1: Days | F1: Hours | G1: Species of Greatest Conservation Need | H1: Observed Breeding Codes
B2: Priority Site #1 | C2: ='Priority Site #1'!AL5 -> 17 | D2: ='Priority Site #1'!AM94 -> 51 | E2: 4 | F2: ='Priority Site #1'!AL2 -> 0.21388889
B3: Priority Site #2 | C3: ='Priority Site #2'!V5 -> 9 | D3: ='Priority Site #2'!W94 -> 52 | E3: 2 | F3: ='Priority Site #2'!V2 -> 0.11944444
B4: Priority Site #3 | C4: ='Priority Site #3'!Z5 -> 11 | D4: ='Priority Site #3'!AA94 -> 45 | E4: 2 | F4: ='Priority Site #3'!Z2 -> 0.14444444
B5: Species | D5: # Pts | E5: Ind. | F5: Enroot or After
A6: 1 | B6: Canada Goose (Branta canadensis) | C6: CAGO | D6: ='Priority Site #1'!AL7+'Priority Site #2'!V7+'Priority Site #3'!Z7 -> 1 | E6: ='Priority Site #1'!AM7+'Priority Site #2'!W7+'Priority Site #3'!AA7 -> 1
A7: 2 | B7: Wood Duck (Aix sponsa) | C7: WOOD | D7: ='Priority Site #1'!AL8+'Priority Site #2'!V8+'Priority Site #3'!Z8 -> 0 | E7: ='Priority Site #1'!AM8+'Priority Site #2'!W8+'Priority Site #3'!AA8 -> 0 | F7: X
A8: 3 | B8: Mallard (Anas platyrhynchos) | C8: MALL | D8: ='Priority Site #1'!AL9+'Priority Site #2'!V9+'Priority Site #3'!Z9 -> 4 | E8: ='Priority Site #1'!AM9+'Priority Site #2'!W9+'Priority Site #3'!AA9 -> 8
A9: 4 | B9: Wild Turkey (Meleagris gallopavo) | C9: WITU | D9: ='Priority Site #1'!AL10+'Priority Site #2'!V10+'Priority Site #3'!Z10 -> 0 | E9: ='Priority Site #1'!AM10+'Priority Site #2'!W10+'Priority Site #3'!AA10 -> 0 | F9: X
A10: 5 | B10: Great Blue Heron (Ardea herodias) | C10: GBHE | D10: ='Priority Site #1'!AL11+'Priority Site #2'!V11+'Priority Site #3'!Z11 -> 0 | E10: ='Priority Site #1'!AM11+'Priority Site #2'!W11+'Priority Site #3'!AA11 -> 0 | F10: X
A11: 6 | B11: Great Egret (Ardea alba) | C11: GREG | D11: ='Priority Site #1'!AL12+'Priority Site #2'!V12+'Priority Site #3'!Z12 -> 0 | E11: ='Priority Site #1'!AM12+'Priority Site #2'!W12+'Priority Site #3'!AA12 -> 0
A12: 7 | B12: Green Heron (Butorides virescens) | C12: GRHE | D12: ='Priority Site #1'!AL13+'Priority Site #2'!V13+'Priority Site #3'!Z13 -> 2 | E12: ='Priority Site #1'!AM13+'Priority Site #2'!W13+'Priority Site #3'!AA13 -> 2
A13: 8 | B13: Bald Eagle (Haliaeetus leucocephalus) | C13: BAEA | D13: ='Priority Site #1'!AL14+'Priority Site #2'!V14+'Priority Site #3'!Z14 -> 1 | E13: ='Priority Site #1'!AM14+'Priority Site #2'!W14+'Priority Site #3'!AA14 -> 1 | G13: SGCN
A14: 9 | B14: Red-tailed Hawk (Buteo jamaicensis) | C14: RTHA | D14: ='Priority Site #1'!AL15+'Priority Site #2'!V15+'Priority Site #3'!Z15 -> 2 | E14: ='Priority Site #1'!AM15+'Priority Site #2'!W15+'Priority Site #3'!AA15 -> 2
A15: 10 | B15: American Kestrel (Falco sparverius) | C15: MAKE | D15: ='Priority Site #1'!AL16+'Priority Site #2'!V16+'Priority Site #3'!Z16 -> 1 | E15: ='Priority Site #1'!AM16+'Priority Site #2'!W16+'Priority Site #3'!AA16 -> 1
A16: 11 | B16: Sandhill Crane (Grus canadensis) | C16: SACR | D16: ='Priority Site #1'!AL17+'Priority Site #2'!V17+'Priority Site #3'!Z17 -> 0 | E16: ='Priority Site #1'!AM17+'Priority Site #2'!W17+'Priority Site #3'!AA17 -> 0 | F16: X
A17: 12 | B17: Killdeer (Charadrius vociferus) | C17: KILL | D17: ='Priority Site #1'!AL18+'Priority Site #2'!V18+'Priority Site #3'!Z18 -> 6 | E17: ='Priority Site #1'!AM18+'Priority Site #2'!W18+'Priority Site #3'!AA18 -> 6
A18: 13 | B18: Spotted Sandpiper (Actitis macularia) | C18: SPSA | D18: ='Priority Site #1'!AL19+'Priority Site #2'!V19+'Priority Site #3'!Z19 -> 1 | E18: ='Priority Site #1'!AM19+'Priority Site #2'!W19+'Priority Site #3'!AA19 -> 1
A19: 14 | B19: American Woodcock (Scolopax minor) | C19: AMWO | D19: ='Priority Site #1'!AL20+'Priority Site #2'!V20+'Priority Site #3'!Z20 -> 0 | E19: ='Priority Site #1'!AM20+'Priority Site #2'!W20+'Priority Site #3'!AA20 -> 0 | F19: X | G19: SGCN
A20: 15 | B20: Ring-billed Gull (Larus delawarensis) | C20: RBGU | D20: ='Priority Site #1'!AL21+'Priority Site #2'!V21+'Priority Site #3'!Z21 -> 2 | E20: ='Priority Site #1'!AM21+'Priority Site #2'!W21+'Priority Site #3'!AA21 -> 4
A21: 16 | B21: Rock Pigeon (Columba livia) | C21: ROPI | D21: ='Priority Site #1'!AL22+'Priority Site #2'!V22+'Priority Site #3'!Z22 -> 0 | E21: ='Priority Site #1'!AM22+'Priority Site #2'!W22+'Priority Site #3'!AA22 -> 0 | F21: X
A22: 17 | B22: Mourning Dove (Zenaida macroura) | C22: MODO | D22: ='Priority Site #1'!AL23+'Priority Site #2'!V23+'Priority Site #3'!Z23 -> 11 | E22: ='Priority Site #1'!AM23+'Priority Site #2'!W23+'Priority Site #3'!AA23 -> 15
A23: 18 | B23: Black-billed Cuckoo (Coccyzus erythropthalmus) | C23: BBCU | D23: ='Priority Site #1'!AL24+'Priority Site #2'!V24+'Priority Site #3'!Z24 -> 0 | E23: ='Priority Site #1'!AM24+'Priority Site #2'!W24+'Priority Site #3'!AA24 -> 0
A24: 19 | B24: Yellow-billed Cuckoo (Coccyzus americanus) | C24: YBCU | D24: ='Priority Site #1'!AL25+'Priority Site #2'!V25+'Priority Site #3'!Z25 -> 2 | E24: ='Priority Site #1'!AM25+'Priority Site #2'!W25+'Priority Site #3'!AA25 -> 2 | G24: SGCN
A25: 20 | B25: Great Horned Owl (Bubo virginianus) | C25: GHOW | D25: ='Priority Site #1'!AL26+'Priority Site #2'!V26+'Priority Site #3'!Z26 -> 1 | E25: ='Priority Site #1'!AM26+'Priority Site #2'!W26+'Priority Site #3'!AA26 -> 1
A26: 21 | B26: Chimney Swift (Chaetura pelagica) | C26: CHSW | D26: ='Priority Site #1'!AL27+'Priority Site #2'!V27+'Priority Site #3'!Z27 -> 4 | E26: ='Priority Site #1'!AM27+'Priority Site #2'!W27+'Priority Site #3'!AA27 -> 4
A27: 22 | B27: Ruby-throated Hummingbird (Archilochus colubris) | C27: RTHU | D27: ='Priority Site #1'!AL28+'Priority Site #2'!V28+'Priority Site #3'!Z28 -> 1 | E27: ='Priority Site #1'!AM28+'Priority Site #2'!W28+'Priority Site #3'!AA28 -> 1
A28: 23 | B28: Belted Kingfisher (Ceryle alcyon) | C28: BEKI | D28: ='Priority Site #1'!AL29+'Priority Site #2'!V29+'Priority Site #3'!Z29 -> 3 | E28: ='Priority Site #1'!AM29+'Priority Site #2'!W29+'Priority Site #3'!AA29 -> 3 | H28: CF
A29: 24 | B29: Red-bellied Woodpecker (Melanerpes carolinus) | C29: RBWO | D29: ='Priority Site #1'!AL30+'Priority Site #2'!V30+'Priority Site #3'!Z30 -> 12 | E29: ='Priority Site #1'!AM30+'Priority Site #2'!W30+'Priority Site #3'!AA30 -> 19
A30: 25 | B30: Downy Woodpecker (Picoides pubescens) | C30: DOWO | D30: ='Priority Site #1'!AL31+'Priority Site #2'!V31+'Priority Site #3'!Z31 -> 7 | E30: ='Priority Site #1'!AM31+'Priority Site #2'!W31+'Priority Site #3'!AA31 -> 8
A31: 26 | B31: Hairy Woodpecker (Picoides villosus) | C31: HAWO | D31: ='Priority Site #1'!AL32+'Priority Site #2'!V32+'Priority Site #3'!Z32 -> 7 | E31: ='Priority Site #1'!AM32+'Priority Site #2'!W32+'Priority Site #3'!AA32 -> 8
A32: 27 | B32: Northern Flicker (Colaptes auratus) | C32: NOFL | D32: ='Priority Site #1'!AL33+'Priority Site #2'!V33+'Priority Site #3'!Z33 -> 4 | E32: ='Priority Site #1'!AM33+'Priority Site #2'!W33+'Priority Site #3'!AA33 -> 4
A33: 28 | B33: Eastern Wood-Pewee (Contopus virens) | C33: EAWP | D33: ='Priority Site #1'!AL34+'Priority Site #2'!V34+'Priority Site #3'!Z34 -> 14 | E33: ='Priority Site #1'!AM34+'Priority Site #2'!W34+'Priority Site #3'!AA34 -> 20
A34: 29 | B34: Alder Flycatcher (Empidonax alnorum) | C34: ALFL | D34: ='Priority Site #1'!AL35+'Priority Site #2'!V35+'Priority Site #3'!Z35 -> 2 | E34: ='Priority Site #1'!AM35+'Priority Site #2'!W35+'Priority Site #3'!AA35 -> 2
A35: 30 | B35: Willow Flycatcher (Empidonax traillii) | C35: WIFL | D35: ='Priority Site #1'!AL36+'Priority Site #2'!V36+'Priority Site #3'!Z36 -> 2 | E35: ='Priority Site #1'!AM36+'Priority Site #2'!W36+'Priority Site #3'!AA36 -> 3 | G35: SGCN
A36: 31 | B36: Least Flycatcher (Empidonax minimus) | C36: LEFL | D36: ='Priority Site #1'!AL37+'Priority Site #2'!V37+'Priority Site #3'!Z37 -> 0 | E36: ='Priority Site #1'!AM37+'Priority Site #2'!W37+'Priority Site #3'!AA37 -> 0
A37: 32 | B37: Eastern Phoebe (Sayornis phoebe) | C37: EAPH | D37: ='Priority Site #1'!AL38+'Priority Site #2'!V38+'Priority Site #3'!Z38 -> 2 | E37: ='Priority Site #1'!AM38+'Priority Site #2'!W38+'Priority Site #3'!AA38 -> 2
A38: 33 | B38: Great Crested Flycatcher (Myiarchus crinitus) | C38: GCFL | D38: ='Priority Site #1'!AL39+'Priority Site #2'!V39+'Priority Site #3'!Z39 -> 15 | E38: ='Priority Site #1'!AM39+'Priority Site #2'!W39+'Priority Site #3'!AA39 -> 24 | H38: CF
A39: 34 | B39: Eastern Kingbird (Tyrannus tyrannus) | C39: EAKI | D39: ='Priority Site #1'!AL40+'Priority Site #2'!V40+'Priority Site #3'!Z40 -> 1 | E39: ='Priority Site #1'!AM40+'Priority Site #2'!W40+'Priority Site #3'!AA40 -> 1
A40: 35 | B40: Yellow-throated Vireo (Vireo flavifrons) | C40: YTVI | D40: ='Priority Site #1'!AL41+'Priority Site #2'!V41+'Priority Site #3'!Z41 -> 1 | E40: ='Priority Site #1'!AM41+'Priority Site #2'!W41+'Priority Site #3'!AA41 -> 1
...

Sheet Priority Site #1
B1: Priority Site #1 | C1: Waypoint: | D1: BWR-01 | F1: BWR-02 | H1: BWR-03 | J1: BWR-04 | L1: BWR-05 | N1: BWR-06 | P1: BWR-07 | R1: BWR-08 | T1: BWR-09 | V1: BWR-10 | X1: BWR-11 | Z1: BWR-12 | AB1: BWR-13 | AD1: BWR-14 | AF1: BWR-15 | AH1: BWR-36 | AJ1: BWR-37 | AL1: Hours | AP1: 40705 | AQ1: 40706 | AR1: 40707 | AS1: 40719
C2: Date: | D2: 40705 | F2: 40705 | H2: 40706 | J2: 40706 | L2: 40706 | N2: 40706 | P2: 40706 | R2: 40706 | T2: 40706 | V2: 40706 | X2: 40707 | Z2: 40707 | AB2: 40707 | AD2: 40707 | AF2: 40707 | AH2: 40719 | AJ2: 40719 | AL2: 0.21388889 | AP2: 44 | AQ2: 0.11736111 | AR2: 0.065972222
B3: 2010 Interior Forest BBS | C3: Time: | D3: 0.24583333 | F3: 0.26944444 | H3: 0.25069444 | J3: 0.26666667 | L3: 0.28194444 | N3: 0.3 | P3: 0.3125 | R3: 0.33055556 | T3: 0.34513889 | V3: 0.36111111 | X3: 0.22569444 | Z3: 0.23958333 | AB3: 0.25486111 | AD3: 0.27083333 | AF3: 0.28472222 | AH3: 0.27847222 | AJ3: 0.29166667 | AL3: Total Points
B4: Sheboygan AOC | C4: GPS: DM | D4: ='Convert GPS'!L3 -> N 43 | E4: ='Convert GPS'!M3 -> 43.293333 | F4: ='Convert GPS'!L4 -> N 43 | G4: ='Convert GPS'!M4 -> 43.491667 | H4: ='Convert GPS'!L5 -> N 43 | I4: ='Convert GPS'!M5 -> 43.476667 | J4: ='Convert GPS'!L6 -> N 43 | K4: ='Convert GPS'!M6 -> 43.636667 | L4: ='Convert GPS'!L7 -> N 43 | M4: ='Convert GPS'!M7 -> 43.658333 | N4: ='Convert GPS'!L8 -> N 43 | O4: ='Convert GPS'!M8 -> 43.52 | P4: ='Convert GPS'!L9 -> N 43 | Q4: ='Convert GPS'!M9 -> 43.493333 | R4: ='Convert GPS'!L10 -> N 43 | S4: ='Convert GPS'!M10 -> 43.648333 | T4: ='Convert GPS'!L11 -> N 43 | U4: ='Convert GPS'!M11 -> 43.743333 | V4: ='Convert GPS'!L12 -> N 43 | W4: ='Convert GPS'!M12 -> 43.843333 | X4: ='Convert GPS'!L13 -> N 43 | Y4: ='Convert GPS'!M13 -> 43.583333 | Z4: ='Convert GPS'!L14 -> N 43 | AA4: ='Convert GPS'!M14 -> 43.633333 | AB4: ='Convert GPS'!L15 -> N 43 | AC4: ='Convert GPS'!M15 -> 43.74 | AD4: ='Convert GPS'!L16 -> N 43 | AE4: ='Convert GPS'!M16 -> 43.878333 | AF4: ='Convert GPS'!L17 -> N 43 | AG4: ='Convert GPS'!M17 -> 44.046667 | AH4: ='Convert GPS'!L38 -> N 44 | AI4: ='Convert GPS'!M38 -> 43.283333 | AJ4: ='Convert GPS'!L39 -> N 44 | AK4: ='Convert GPS'!M39 -> 44.381667
D5: ='Convert GPS'!O3 -> N87 | E5: ='Convert GPS'!P3 -> 47.765 | F5: ='Convert GPS'!O4 -> N87 | G5: ='Convert GPS'!P4 -> 47.9 | H5: ='Convert GPS'!O5 -> N87 | I5: ='Convert GPS'!P5 -> 47.673333 | J5: ='Convert GPS'!O6 -> N87 | K5: ='Convert GPS'!P6 -> 47.746667 | L5: ='Convert GPS'!O7 -> N87 | M5: ='Convert GPS'!P7 -> 47.526667 | N5: ='Convert GPS'!O8 -> N87 | O5: ='Convert GPS'!P8 -> 47.425 | P5: ='Convert GPS'!O9 -> N87 | Q5: ='Convert GPS'!P9 -> 47.196667 | R5: ='Convert GPS'!O10 -> N87 | S5: ='Convert GPS'!P10 -> 47.108333 | T5: ='Convert GPS'!O11 -> N87 | U5: ='Convert GPS'!P11 -> 47.291667 | V5: ='Convert GPS'!O12 -> N87 | W5: ='Convert GPS'!P12 -> 47.37 | X5: ='Convert GPS'!O13 -> N87 | Y5: ='Convert GPS'!P13 -> 46.886667 | Z5: ='Convert GPS'!O14 -> N87 | AA5: ='Convert GPS'!P14 -> 46.67 | AB5: ='Convert GPS'!O15 -> N87 | AC5: ='Convert GPS'!P15 -> 46.858333 | AD5: ='Convert GPS'!O16 -> N87 | AE5: ='Convert GPS'!P16 -> 47 | AF5: ='Convert GPS'!O17 -> N87 | AG5: ='Convert GPS'!P17 -> 45.878333 | AH5: ='Convert GPS'!O38 -> N87 | AI5: ='Convert GPS'!P38 -> 47.536667 | AJ5: ='Convert GPS'!O39 -> N87 | AK5: ='Convert GPS'!P39 -> 47.415 | AL5: =COUNT(D6:AK6) -> 17
B6: Species | C6: Point #: | D6: 1 | F6: 2 | H6: 3 | J6: 4 | L6: 5 | N6: 6 | P6: 7 | R6: 8 | T6: 9 | V6: 10 | X6: 11 | Z6: 12 | AB6: 13 | AD6: 14 | AF6: 15 | AH6: 36 | AJ6: 37 | AL6: # Pts | AM6: Ind.
A7: 1 | B7: Canada Goose (Branta canadensis) | C7: CAGO | L7: 1 | AL7: =COUNT(D7:AK7) -> 1 | AM7: =SUM(D7:AK7) -> 1
A8: 2 | B8: Wood Duck (Aix sponsa) | C8: WOOD | AL8: =COUNT(D8:AK8) -> 0 | AM8: =SUM(D8:AK8) -> 0
A9: 3 | B9: Mallard (Anas platyrhynchos) | C9: MALL | AL9: =COUNT(D9:AK9) -> 0 | AM9: =SUM(D9:AK9) -> 0
A10: 4 | B10: Wild Turkey (Meleagris gallopavo) | C10: WITU | AL10: =COUNT(D10:AK10) -> 0 | AM10: =SUM(D10:AK10) -> 0
A11: 5 | B11: Great Blue Heron (Ardea herodias) | C11: GBHE | AL11: =COUNT(D11:AK11) -> 0 | AM11: =SUM(D11:AK11) -> 0
A12: 6 | B12: Great Egret (Ardea alba) | C12: GREG | AL12: =COUNT(D12:AK12) -> 0 | AM12: =SUM(D12:AK12) -> 0
A13: 7 | B13: Green Heron (Butorides virescens) | C13: GRHE | AL13: =COUNT(D13:AK13) -> 0 | AM13: =SUM(D13:AK13) -> 0
B14: Bald Eagle (Haliaeetus leucocephalus) | C14: BAEA | AL14: =COUNT(D14:AK14) -> 0 | AM14: =SUM(D14:AK14) -> 0
A15: 8 | B15: Red-tailed Hawk (Buteo jamaicensis) | C15: RTHA | AL15: =COUNT(D15:AK15) -> 0 | AM15: =SUM(D15:AK15) -> 0
A16: 9 | B16: American Kestrel (Falco sparverius) | C16: MAKE | AL16: =COUNT(D16:AK16) -> 0 | AM16: =SUM(D16:AK16) -> 0
A17: 10 | B17: Sandhill Crane (Grus canadensis) | C17: SACR | AL17: =COUNT(D17:AK17) -> 0 | AM17: =SUM(D17:AK17) -> 0
A18: 11 | B18: Killdeer (Charadrius vociferus) | C18: KILL | AJ18: 1 | AL18: =COUNT(D18:AK18) -> 1 | AM18: =SUM(D18:AK18) -> 1
A19: 12 | B19: Spotted Sandpiper (Actitis macularia) | C19: SPSA | AL19: =COUNT(D19:AK19) -> 0 | AM19: =SUM(D19:AK19) -> 0
B20: American Woodcock (Scolopax minor) | C20: AMWO | AL20: =COUNT(D20:AK20) -> 0 | AM20: =SUM(D20:AK20) -> 0
A21: 13 | B21: Ring-billed Gull (Larus delawarensis) | C21: RBGU | AL21: =COUNT(D21:AK21) -> 0 | AM21: =SUM(D21:AK21) -> 0
A22: 14 | B22: Rock Pigeon (Columba livia) | C22: ROPI | AL22: =COUNT(D22:AK22) -> 0 | AM22: =SUM(D22:AK22) -> 0
A23: 15 | B23: Mourning Dove (Zenaida macroura) | C23: MODO | J23: 1 | L23: 1 | N23: 1 | AL23: =COUNT(D23:AK23) -> 3 | AM23: =SUM(D23:AK23) -> 3
A24: 16 | B24: Black-billed Cuckoo (Coccyzus erythropthalmus) | C24: BBCU | AL24: =COUNT(D24:AK24) -> 0 | AM24: =SUM(D24:AK24) -> 0
A25: 17 | B25: Yellow-billed Cuckoo (Coccyzus americanus) | C25: YBCU | V25: 1 | AH25: 1 | AL25: =COUNT(D25:AK25) -> 2 | AM25: =SUM(D25:AK25) -> 2
A26: 18 | B26: Great Horned Owl (Bubo virginianus) | C26: GHOW | AL26: =COUNT(D26:AK26) -> 0 | AM26: =SUM(D26:AK26) -> 0
A27: 19 | B27: Chimney Swift (Chaetura pelagica) | C27: CHSW | F27: 1 | H27: 1 | N27: 1 | T27: 1 | AL27: =COUNT(D27:AK27) -> 4 | AM27: =SUM(D27:AK27) -> 4
A28: 20 | B28: Ruby-throated Hummingbird (Archilochus colubris) | C28: RTHU | F28: 1 | AL28: =COUNT(D28:AK28) -> 1 | AM28: =SUM(D28:AK28) -> 1
A29: 21 | B29: Belted Kingfisher (Ceryle alcyon) | C29: BEKI | AL29: =COUNT(D29:AK29) -> 0 | AM29: =SUM(D29:AK29) -> 0
A30: 22 | B30: Red-bellied Woodpecker (Melanerpes carolinus) | C30: RBWO | F30: 1 | J30: 2 | L30: 2 | P30: 2 | V30: 1 | AB30: 1 | AD30: 1 | AF30: 2 | AL30: =COUNT(D30:AK30) -> 8 | AM30: =SUM(D30:AK30) -> 12
A31: 23 | B31: Downy Woodpecker (Picoides pubescens) | C31: DOWO | V31: 1 | AD31: 1 | AL31: =COUNT(D31:AK31) -> 2 | AM31: =SUM(D31:AK31) -> 2
A32: 24 | B32: Hairy Woodpecker (Picoides villosus) | C32: HAWO | D32: 1 | L32: 2 | P32: 1 | X32: 1 | AD32: 1 | AL32: =COUNT(D32:AK32) -> 5 | AM32: =SUM(D32:AK32) -> 6
A33: 25 | B33: Northern Flicker (Colaptes auratus) | C33: NOFL | H33: 1 | AB33: 1 | AF33: 1 | AL33: =COUNT(D33:AK33) -> 3 | AM33: =SUM(D33:AK33) -> 3
A34: 26 | B34: Eastern Wood-Pewee (Contopus virens) | C34: EAWP | F34: 2 | J34: 1 | L34: 2 | N34: 2 | P34: 1 | AL34: =COUNT(D34:AK34) -> 5 | AM34: =SUM(D34:AK34) -> 8
A35: 27 | B35: Alder Flycatcher (Empidonax alnorum) | C35: ALFL | D35: 1 | AL35: =COUNT(D35:AK35) -> 1 | AM35: =SUM(D35:AK35) -> 1
A36: 28 | B36: Willow Flycatcher (Empidonax traillii) | C36: WIFL | AH36: 1 | AJ36: 2 | AL36: =COUNT(D36:AK36) -> 2 | AM36: =SUM(D36:AK36) -> 3
A37: 29 | B37: Least Flycatcher (Empidonax minimus) | C37: LEFL | AL37: =COUNT(D37:AK37) -> 0 | AM37: =SUM(D37:AK37) -> 0
A38: 30 | B38: Eastern Phoebe (Sayornis phoebe) | C38: EAPH | AL38: =COUNT(D38:AK38) -> 0 | AM38: =SUM(D38:AK38) -> 0
A39: 31 | B39: Great Crested Flycatcher (Myiarchus crinitus) | C39: GCFL | H39: 1 | J39: 1 | L39: 2 | N39: 1 | T39: 1 | V39: 3 | X39: 1 | Z39: 1 | AL39: =COUNT(D39:AK39) -> 8 | AM39: =SUM(D39:AK39) -> 11
A40: 32 | B40: Eastern Kingbird (Tyrannus tyrannus) | C40: EAKI | D40: 1 | AL40: =COUNT(D40:AK40) -> 1 | AM40: =SUM(D40:AK40) -> 1
...

Sheet Priority Site #2
C1: Waypoint: | D1: AOC-16 | F1: AOC-17 | H1: AOC-18 | J1: AOC-19 | L1: AOC-20 | N1: AOC-32 | P1: AOC-33 | R1: AOC-34 | T1: AOC-35 | V1: Hours
B2: Priority Site #2 | C2: Date: | D2: 40708 | F2: 40708 | H2: 40708 | J2: 40708 | L2: 40708 | N2: 40719 | P2: 40719 | R2: 40719 | T2: 40719 | V2: 0.11944444
B3: ='Priority Site #1'!B3 -> 2010 Interior Forest BBS | C3: Time: | D3: 0.22430556 | F3: 0.23888889 | H3: 0.24930556 | J3: 0.27291667 | L3: 0.28680556 | N3: 0.21319444 | P3: 0.22638889 | R3: 0.24097222 | T3: 0.25625 | V3: Total Points
B4: ='Priority Site #1'!B4 -> Sheboygan AOC | C4: GPS: DM | D4: ='Convert GPS'!L18 -> N 43 | E4: ='Convert GPS'!M18 -> 44.03 | F4: ='Convert GPS'!L19 -> N 43 | G4: ='Convert GPS'!M19 -> 43.981667 | H4: ='Convert GPS'!L20 -> N 43 | I4: ='Convert GPS'!M20 -> 44.13 | J4: ='Convert GPS'!L21 -> N 43 | K4: ='Convert GPS'!M21 -> 44.465 | L4: ='Convert GPS'!L22 -> N 43 | M4: ='Convert GPS'!M22 -> 44.463333 | N4: ='Convert GPS'!L34 -> N 44 | O4: ='Convert GPS'!M34 -> 45.213333 | P4: ='Convert GPS'!L35 -> N 44 | Q4: ='Convert GPS'!M35 -> 46.376667 | R4: ='Convert GPS'!L36 -> N 44 | S4: ='Convert GPS'!M36 -> 47.336667 | T4: ='Convert GPS'!L37 -> N 44 | U4: ='Convert GPS'!M37 -> 48.24
D5: ='Convert GPS'!O18 -> N87 | E5: ='Convert GPS'!P18 -> 45.93 | F5: ='Convert GPS'!O19 -> N87 | G5: ='Convert GPS'!P19 -> 46.148333 | H5: ='Convert GPS'!O20 -> N87 | I5: ='Convert GPS'!P20 -> 46.206667 | J5: ='Convert GPS'!O21 -> N87 | K5: ='Convert GPS'!P21 -> 45.168333 | L5: ='Convert GPS'!O22 -> N87 | M5: ='Convert GPS'!P22 -> 45.388333 | N5: ='Convert GPS'!O34 -> N87 | O5: ='Convert GPS'!P34 -> 45.626667 | P5: ='Convert GPS'!O35 -> N87 | Q5: ='Convert GPS'!P35 -> 45.646667 | R5: ='Convert GPS'!O36 -> N87 | S5: ='Convert GPS'!P36 -> 45.845 | T5: ='Convert GPS'!O37 -> N87 | U5: ='Convert GPS'!P37 -> 46.045 | V5: =COUNT(D6:U6) -> 9
B6: Species | C6: Point #: | D6: 16 | F6: 17 | H6: 18 | J6: 19 | L6: 20 | N6: 32 | P6: 33 | R6: 34 | T6: 35 | V6: # Pts | W6: Ind.
A7: 1 | B7: Canada Goose (Branta canadensis) | C7: CAGO | V7: =COUNT(D7:U7) -> 0 | W7: =SUM(D7:U7) -> 0
A8: 2 | B8: Wood Duck (Aix sponsa) | C8: WOOD | V8: =COUNT(D8:U8) -> 0 | W8: =SUM(D8:U8) -> 0
A9: 3 | B9: Mallard (Anas platyrhynchos) | C9: MALL | H9: 2 | N9: 3 | R9: 2 | V9: =COUNT(D9:U9) -> 3 | W9: =SUM(D9:U9) -> 7
A10: 4 | B10: Wild Turkey (Meleagris gallopavo) | C10: WITU | V10: =COUNT(D10:U10) -> 0 | W10: =SUM(D10:U10) -> 0
A11: 5 | B11: Great Blue Heron (Ardea herodias) | C11: GBHE | V11: =COUNT(D11:U11) -> 0 | W11: =SUM(D11:U11) -> 0
A12: 6 | B12: Great Egret (Ardea alba) | C12: GREG | V12: =COUNT(D12:U12) -> 0 | W12: =SUM(D12:U12) -> 0
A13: 7 | B13: Green Heron (Butorides virescens) | C13: GRHE | F13: 1 | N13: 1 | V13: =COUNT(D13:U13) -> 2 | W13: =SUM(D13:U13) -> 2
B14: Bald Eagle (Haliaeetus leucocephalus) | C14: BAEA | N14: 1 | V14: =COUNT(D14:U14) -> 1 | W14: =SUM(D14:U14) -> 1
A15: 8 | B15: Red-tailed Hawk (Buteo jamaicensis) | C15: RTHA | P15: 1 | V15: =COUNT(D15:U15) -> 1 | W15: =SUM(D15:U15) -> 1
A16: 9 | B16: American Kestrel (Falco sparverius) | C16: MAKE | R16: 1 | V16: =COUNT(D16:U16) -> 1 | W16: =SUM(D16:U16) -> 1
A17: 10 | B17: Sandhill Crane (Grus canadensis) | C17: SACR | V17: =COUNT(D17:U17) -> 0 | W17: =SUM(D17:U17) -> 0
A18: 11 | B18: Killdeer (Charadrius vociferus) | C18: KILL | R18: 1 | T18: 1 | V18: =COUNT(D18:U18) -> 2 | W18: =SUM(D18:U18) -> 2
A19: 12 | B19: Spotted Sandpiper (Actitis macularia) | C19: SPSA | L19: 1 | V19: =COUNT(D19:U19) -> 1 | W19: =SUM(D19:U19) -> 1
B20: American Woodcock (Scolopax minor) | C20: AMWO | V20: =COUNT(D20:U20) -> 0 | W20: =SUM(D20:U20) -> 0
A21: 13 | B21: Ring-billed Gull (Larus delawarensis) | C21: RBGU | N21: 3 | V21: =COUNT(D21:U21) -> 1 | W21: =SUM(D21:U21) -> 3
A22: 14 | B22: Rock Pigeon (Columba livia) | C22: ROPI | V22: =COUNT(D22:U22) -> 0 | W22: =SUM(D22:U22) -> 0
A23: 15 | B23: Mourning Dove (Zenaida macroura) | C23: MODO | D23: 1 | H23: 1 | R23: 4 | V23: =COUNT(D23:U23) -> 3 | W23: =SUM(D23:U23) -> 6
A24: 16 | B24: Black-billed Cuckoo (Coccyzus erythropthalmus) | C24: BBCU | V24: =COUNT(D24:U24) -> 0 | W24: =SUM(D24:U24) -> 0
A25: 17 | B25: Yellow-billed Cuckoo (Coccyzus americanus) | C25: YBCU | V25: =COUNT(D25:U25) -> 0 | W25: =SUM(D25:U25) -> 0
A26: 18 | B26: Great Horned Owl (Bubo virginianus) | C26: GHOW | V26: =COUNT(D26:U26) -> 0 | W26: =SUM(D26:U26) -> 0
A27: 19 | B27: Chimney Swift (Chaetura pelagica) | C27: CHSW | V27: =COUNT(D27:U27) -> 0 | W27: =SUM(D27:U27) -> 0
A28: 20 | B28: Ruby-throated Hummingbird (Archilochus colubris) | C28: RTHU | V28: =COUNT(D28:U28) -> 0 | W28: =SUM(D28:U28) -> 0
A29: 21 | B29: Belted Kingfisher (Ceryle alcyon) | C29: BEKI | P29: 1 | T29: 1 | V29: =COUNT(D29:U29) -> 2 | W29: =SUM(D29:U29) -> 2
A30: 22 | B30: Red-bellied Woodpecker (Melanerpes carolinus) | C30: RBWO | V30: =COUNT(D30:U30) -> 0 | W30: =SUM(D30:U30) -> 0
A31: 23 | B31: Downy Woodpecker (Picoides pubescens) | C31: DOWO | J31: 1 | V31: =COUNT(D31:U31) -> 1 | W31: =SUM(D31:U31) -> 1
A32: 24 | B32: Hairy Woodpecker (Picoides villosus) | C32: HAWO | V32: =COUNT(D32:U32) -> 0 | W32: =SUM(D32:U32) -> 0
A33: 25 | B33: Northern Flicker (Colaptes auratus) | C33: NOFL | V33: =COUNT(D33:U33) -> 0 | W33: =SUM(D33:U33) -> 0
A34: 26 | B34: Eastern Wood-Pewee (Contopus virens) | C34: EAWP | D34: 1 | H34: 1 | V34: =COUNT(D34:U34) -> 2 | W34: =SUM(D34:U34) -> 2
A35: 27 | B35: Alder Flycatcher (Empidonax alnorum) | C35: ALFL | D35: 1 | V35: =COUNT(D35:U35) -> 1 | W35: =SUM(D35:U35) -> 1
A36: 28 | B36: Willow Flycatcher (Empidonax traillii) | C36: WIFL | V36: =COUNT(D36:U36) -> 0 | W36: =SUM(D36:U36) -> 0
A37: 29 | B37: Least Flycatcher (Empidonax minimus) | C37: LEFL | V37: =COUNT(D37:U37) -> 0 | W37: =SUM(D37:U37) -> 0
A38: 30 | B38: Eastern Phoebe (Sayornis phoebe) | C38: EAPH | L38: 1 | V38: =COUNT(D38:U38) -> 1 | W38: =SUM(D38:U38) -> 1
A39: 31 | B39: Great Crested Flycatcher (Myiarchus crinitus) | C39: GCFL | N39: 2 | P39: 1 | R39: 1 | V39: =COUNT(D39:U39) -> 3 | W39: =SUM(D39:U39) -> 4
A40: 32 | B40: Eastern Kingbird (Tyrannus tyrannus) | C40: EAKI | V40: =COUNT(D40:U40) -> 0 | W40: =SUM(D40:U40) -> 0
...

Sheet Priority Site #3
C1: Waypoint: | D1: AOC-21 | F1: AOC-22 | H1: AOC-23 | J1: AOC-24 | L1: AOC-25 | N1: AOC-26 | P1: AOC-27 | R1: AOC-28 | T1: AOC-29 | V1: AOC-30 | X1: AOC-31 | Z1: Hours
B2: Priority Site #3 | C2: Date: | D2: 40710 | F2: 40710 | H2: 40710 | J2: 40710 | L2: 40710 | N2: 40712 | P2: 40712 | R2: 40712 | T2: 40712 | V2: 40712 | X2: 40712 | Z2: 0.14444444
B3: ='Priority Site #1'!B3 -> 2010 Interior Forest BBS | C3: Time: | D3: 0.21666667 | F3: 0.23263889 | H3: 0.25138889 | J3: 0.26875 | L3: 0.28125 | N3: 0.22430556 | P3: 0.23611111 | R3: 0.24791667 | T3: 0.26111111 | V3: 0.275 | X3: 0.29027778 | Z3: Total Points
B4: ='Priority Site #1'!B4 -> Sheboygan AOC | C4: GPS: DM | D4: ='Convert GPS'!L23 -> N 43 | E4: ='Convert GPS'!M23 -> 43.18 | F4: ='Convert GPS'!L24 -> N 43 | G4: ='Convert GPS'!M24 -> 43.326667 | H4: ='Convert GPS'!L25 -> N 43 | I4: ='Convert GPS'!M25 -> 43.405 | J4: ='Convert GPS'!L26 -> N 43 | K4: ='Convert GPS'!M26 -> 43.57 | L4: ='Convert GPS'!L27 -> N 43 | M4: ='Convert GPS'!M27 -> 43.673333 | N4: ='Convert GPS'!L28 -> N 43 | O4: ='Convert GPS'!M28 -> 43.716667 | P4: ='Convert GPS'!L29 -> N 43 | Q4: ='Convert GPS'!M29 -> 43.865 | R4: ='Convert GPS'!L30 -> N 43 | S4: ='Convert GPS'!M30 -> 43.803333 | T4: ='Convert GPS'!L31 -> N 43 | U4: ='Convert GPS'!M31 -> 43.921667 | V4: ='Convert GPS'!L32 -> N 43 | W4: ='Convert GPS'!M32 -> 44.058333 | X4: ='Convert GPS'!L33 -> N 43 | Y4: ='Convert GPS'!M33 -> 44.221667
D5: ='Convert GPS'!O23 -> N87 | E5: ='Convert GPS'!P23 -> 46.011667 | F5: ='Convert GPS'!O24 -> N87 | G5: ='Convert GPS'!P24 -> 46.946667 | H5: ='Convert GPS'!O25 -> N87 | I5: ='Convert GPS'!P25 -> 45.741667 | J5: ='Convert GPS'!O26 -> N87 | K5: ='Convert GPS'!P26 -> 45.701667 | L5: ='Convert GPS'!O27 -> N87 | M5: ='Convert GPS'!P27 -> 45.868333 | N5: ='Convert GPS'!O28 -> N87 | O5: ='Convert GPS'!P28 -> 46.088333 | P5: ='Convert GPS'!O29 -> N87 | Q5: ='Convert GPS'!P29 -> 46.196667 | R5: ='Convert GPS'!O30 -> N87 | S5: ='Convert GPS'!P30 -> 46.403333 | T5: ='Convert GPS'!O31 -> N87 | U5: ='Convert GPS'!P31 -> 46.571667 | V5: ='Convert GPS'!O32 -> N87 | W5: ='Convert GPS'!P32 -> 46.533333 | X5: ='Convert GPS'!O33 -> N87 | Y5: ='Convert GPS'!P33 -> 46.461667 | Z5: =COUNT(D6:Y6) -> 11
B6: Species | C6: Point #: | D6: 21 | F6: 22 | H6: 23 | J6: 24 | L6: 25 | N6: 26 | P6: 27 | R6: 28 | T6: 29 | V6: 30 | X6: 31 | Z6: # Pts | AA6: Ind.
A7: 1 | B7: Canada Goose (Branta canadensis) | C7: CAGO | Z7: =COUNT(D7:Y7) -> 0 | AA7: =SUM(D7:Y7) -> 0
A8: 2 | B8: Wood Duck (Aix sponsa) | C8: WOOD | Z8: =COUNT(D8:Y8) -> 0 | AA8: =SUM(D8:Y8) -> 0
A9: 3 | B9: Mallard (Anas platyrhynchos) | C9: MALL | R9: 1 | Z9: =COUNT(D9:Y9) -> 1 | AA9: =SUM(D9:Y9) -> 1
A10: 4 | B10: Wild Turkey (Meleagris gallopavo) | C10: WITU | Z10: =COUNT(D10:Y10) -> 0 | AA10: =SUM(D10:Y10) -> 0
A11: 5 | B11: Great Blue Heron (Ardea herodias) | C11: GBHE | Z11: =COUNT(D11:Y11) -> 0 | AA11: =SUM(D11:Y11) -> 0
A12: 6 | B12: Great Egret (Ardea alba) | C12: GREG | Z12: =COUNT(D12:Y12) -> 0 | AA12: =SUM(D12:Y12) -> 0
A13: 7 | B13: Green Heron (Butorides virescens) | C13: GRHE | Z13: =COUNT(D13:Y13) -> 0 | AA13: =SUM(D13:Y13) -> 0
B14: Bald Eagle (Haliaeetus leucocephalus) | C14: BAEA | Z14: =COUNT(D14:Y14) -> 0 | AA14: =SUM(D14:Y14) -> 0
A15: 8 | B15: Red-tailed Hawk (Buteo jamaicensis) | C15: RTHA | D15: 1 | Z15: =COUNT(D15:Y15) -> 1 | AA15: =SUM(D15:Y15) -> 1
A16: 9 | B16: American Kestrel (Falco sparverius) | C16: MAKE | Z16: =COUNT(D16:Y16) -> 0 | AA16: =SUM(D16:Y16) -> 0
A17: 10 | B17: Sandhill Crane (Grus canadensis) | C17: SACR | Z17: =COUNT(D17:Y17) -> 0 | AA17: =SUM(D17:Y17) -> 0
A18: 11 | B18: Killdeer (Charadrius vociferus) | C18: KILL | D18: 1 | J18: 1 | L18: 1 | Z18: =COUNT(D18:Y18) -> 3 | AA18: =SUM(D18:Y18) -> 3
A19: 12 | B19: Spotted Sandpiper (Actitis macularia) | C19: SPSA | Z19: =COUNT(D19:Y19) -> 0 | AA19: =SUM(D19:Y19) -> 0
B20: American Woodcock (Scolopax minor) | C20: AMWO | Z20: =COUNT(D20:Y20) -> 0 | AA20: =SUM(D20:Y20) -> 0
A21: 13 | B21: Ring-billed Gull (Larus delawarensis) | C21: RBGU | H21: 1 | Z21: =COUNT(D21:Y21) -> 1 | AA21: =SUM(D21:Y21) -> 1
A22: 14 | B22: Rock Pigeon (Columba livia) | C22: ROPI | Z22: =COUNT(D22:Y22) -> 0 | AA22: =SUM(D22:Y22) -> 0
A23: 15 | B23: Mourning Dove (Zenaida macroura) | C23: MODO | L23: 1 | N23: 2 | P23: 1 | T23: 1 | X23: 1 | Z23: =COUNT(D23:Y23) -> 5 | AA23: =SUM(D23:Y23) -> 6
A24: 16 | B24: Black-billed Cuckoo (Coccyzus erythropthalmus) | C24: BBCU | Z24: =COUNT(D24:Y24) -> 0 | AA24: =SUM(D24:Y24) -> 0
A25: 17 | B25: Yellow-billed Cuckoo (Coccyzus americanus) | C25: YBCU | Z25: =COUNT(D25:Y25) -> 0 | AA25: =SUM(D25:Y25) -> 0
A26: 18 | B26: Great Horned Owl (Bubo virginianus) | C26: GHOW | V26: 1 | Z26: =COUNT(D26:Y26) -> 1 | AA26: =SUM(D26:Y26) -> 1 | AB26: !
A27: 19 | B27: Chimney Swift (Chaetura pelagica) | C27: CHSW | Z27: =COUNT(D27:Y27) -> 0 | AA27: =SUM(D27:Y27) -> 0 | AB27: !
A28: 20 | B28: Ruby-throated Hummingbird (Archilochus colubris) | C28: RTHU | Z28: =COUNT(D28:Y28) -> 0 | AA28: =SUM(D28:Y28) -> 0
A29: 21 | B29: Belted Kingfisher (Ceryle alcyon) | C29: BEKI | X29: 1 | Z29: =COUNT(D29:Y29) -> 1 | AA29: =SUM(D29:Y29) -> 1 | AB29: !
A30: 22 | B30: Red-bellied Woodpecker (Melanerpes carolinus) | C30: RBWO | L30: 2 | T30: 2 | V30: 2 | X30: 1 | Z30: =COUNT(D30:Y30) -> 4 | AA30: =SUM(D30:Y30) -> 7
A31: 23 | B31: Downy Woodpecker (Picoides pubescens) | C31: DOWO | D31: 1 | N31: 1 | R31: 2 | V31: 1 | Z31: =COUNT(D31:Y31) -> 4 | AA31: =SUM(D31:Y31) -> 5
A32: 24 | B32: Hairy Woodpecker (Picoides villosus) | C32: HAWO | F32: 1 | T32: 1 | Z32: =COUNT(D32:Y32) -> 2 | AA32: =SUM(D32:Y32) -> 2
A33: 25 | B33: Northern Flicker (Colaptes auratus) | C33: NOFL | P33: 1 | Z33: =COUNT(D33:Y33) -> 1 | AA33: =SUM(D33:Y33) -> 1
A34: 26 | B34: Eastern Wood-Pewee (Contopus virens) | C34: EAWP | D34: 1 | F34: 2 | H34: 1 | N34: 1 | P34: 3 | T34: 1 | V34: 1 | Z34: =COUNT(D34:Y34) -> 7 | AA34: =SUM(D34:Y34) -> 10
A35: 27 | B35: Alder Flycatcher (Empidonax alnorum) | C35: ALFL | Z35: =COUNT(D35:Y35) -> 0 | AA35: =SUM(D35:Y35) -> 0
A36: 28 | B36: Willow Flycatcher (Empidonax traillii) | C36: WIFL | Z36: =COUNT(D36:Y36) -> 0 | AA36: =SUM(D36:Y36) -> 0
A37: 29 | B37: Least Flycatcher (Empidonax minimus) | C37: LEFL | Z37: =COUNT(D37:Y37) -> 0 | AA37: =SUM(D37:Y37) -> 0
A38: 30 | B38: Eastern Phoebe (Sayornis phoebe) | C38: EAPH | N38: 1 | Z38: =COUNT(D38:Y38) -> 1 | AA38: =SUM(D38:Y38) -> 1
A39: 31 | B39: Great Crested Flycatcher (Myiarchus crinitus) | C39: GCFL | D39: 2 | F39: 2 | L39: 3 | T39: 2 | Z39: =COUNT(D39:Y39) -> 4 | AA39: =SUM(D39:Y39) -> 9 | AB39: !
A40: 32 | B40: Eastern Kingbird (Tyrannus tyrannus) | C40: EAKI | Z40: =COUNT(D40:Y40) -> 0 | AA40: =SUM(D40:Y40) -> 0
...

Sheet Convert GPS
D1: My GPS Data in DMS | L1: Converted to DM
B2: Site | C2: Point | D2: ND | E2: M | F2: S | H2: WD | I2: M | J2: S | L2: ND | M2: M | O2: WD | P2: M
A3: 1 | B3: Priority #1 | C3: BWR-01 | D3: N 43 | E3: 43 | F3: 17.6 | H3: N87 | I3: 47 | J3: 45.9 | L3: =D3 -> N 43 | M3: =E3+F3/60 -> 43.293333 | O3: =H3 -> N87 | P3: =I3+J3/60 -> 47.765
A4: 2 | B4: Priority #1 | C4: BWR-02 | D4: N 43 | E4: 43 | F4: 29.5 | H4: N87 | I4: 47 | J4: 54 | L4: =D4 -> N 43 | M4: =E4+F4/60 -> 43.491667 | O4: =H4 -> N87 | P4: =I4+J4/60 -> 47.9
A5: 3 | B5: Priority #1 | C5: BWR-03 | D5: N 43 | E5: 43 | F5: 28.6 | H5: N87 | I5: 47 | J5: 40.4 | L5: =D5 -> N 43 | M5: =E5+F5/60 -> 43.476667 | O5: =H5 -> N87 | P5: =I5+J5/60 -> 47.673333
A6: 4 | B6: Priority #1 | C6: BWR-04 | D6: N 43 | E6: 43 | F6: 38.2 | H6: N87 | I6: 47 | J6: 44.8 | L6: =D6 -> N 43 | M6: =E6+F6/60 -> 43.636667 | O6: =H6 -> N87 | P6: =I6+J6/60 -> 47.746667
A7: 5 | B7: Priority #1 | C7: BWR-05 | D7: N 43 | E7: 43 | F7: 39.5 | H7: N87 | I7: 47 | J7: 31.6 | L7: =D7 -> N 43 | M7: =E7+F7/60 -> 43.658333 | O7: =H7 -> N87 | P7: =I7+J7/60 -> 47.526667
A8: 6 | B8: Priority #1 | C8: BWR-06 | D8: N 43 | E8: 43 | F8: 31.2 | H8: N87 | I8: 47 | J8: 25.5 | L8: =D8 -> N 43 | M8: =E8+F8/60 -> 43.52 | O8: =H8 -> N87 | P8: =I8+J8/60 -> 47.425
A9: 7 | B9: Priority #1 | C9: BWR-07 | D9: N 43 | E9: 43 | F9: 29.6 | H9: N87 | I9: 47 | J9: 11.8 | L9: =D9 -> N 43 | M9: =E9+F9/60 -> 43.493333 | O9: =H9 -> N87 | P9: =I9+J9/60 -> 47.196667
A10: 8 | B10: Priority #1 | C10: BWR-08 | D10: N 43 | E10: 43 | F10: 38.9 | H10: N87 | I10: 47 | J10: 6.5 | L10: =D10 -> N 43 | M10: =E10+F10/60 -> 43.648333 | O10: =H10 -> N87 | P10: =I10+J10/60 -> 47.108333
A11: 9 | B11: Priority #1 | C11: BWR-09 | D11: N 43 | E11: 43 | F11: 44.6 | H11: N87 | I11: 47 | J11: 17.5 | L11: =D11 -> N 43 | M11: =E11+F11/60 -> 43.743333 | O11: =H11 -> N87 | P11: =I11+J11/60 -> 47.291667
A12: 10 | B12: Priority #1 | C12: BWR-10 | D12: N 43 | E12: 43 | F12: 50.6 | H12: N87 | I12: 47 | J12: 22.2 | L12: =D12 -> N 43 | M12: =E12+F12/60 -> 43.843333 | O12: =H12 -> N87 | P12: =I12+J12/60 -> 47.37
A13: 11 | B13: Priority #1 | C13: BWR-11 | D13: N 43 | E13: 43 | F13: 35 | H13: N87 | I13: 46 | J13: 53.2 | L13: =D13 -> N 43 | M13: =E13+F13/60 -> 43.583333 | O13: =H13 -> N87 | P13: =I13+J13/60 -> 46.886667
A14: 12 | B14: Priority #1 | C14: BWR-12 | D14: N 43 | E14: 43 | F14: 38 | H14: N87 | I14: 46 | J14: 40.2 | L14: =D14 -> N 43 | M14: =E14+F14/60 -> 43.633333 | O14: =H14 -> N87 | P14: =I14+J14/60 -> 46.67
... A39: 37 | B39: Priority #1 | C39: BWR-037 | D39: N 44 | E39: 44 | F39: 22.9 | H39: N87 | I39: 47 | J39: 24.9 | L39: =D39 -> N 44 | M39: =E39+F39/60 -> 44.381667 | O39: =H39 -> N87 | P39: =I39+J39/60 -> 47.415
